BEGIN:VCALENDAR
VERSION:2.0
PRODID:-//旅マイル - ECPv6.15.20//NONSGML v1.0//EN
CALSCALE:GREGORIAN
METHOD:PUBLISH
X-WR-CALNAME:旅マイル
X-ORIGINAL-URL:https://tabi-mile.com
X-WR-CALDESC:旅マイル のイベント
REFRESH-INTERVAL;VALUE=DURATION:PT1H
X-Robots-Tag:noindex
X-PUBLISHED-TTL:PT1H
BEGIN:VTIMEZONE
TZID:Asia/Tokyo
BEGIN:STANDARD
TZOFFSETFROM:+0900
TZOFFSETTO:+0900
TZNAME:JST
DTSTART:20240101T000000
END:STANDARD
END:VTIMEZONE
BEGIN:VEVENT
DTSTART;VALUE=DATE:20250902
DTEND;VALUE=DATE:20260501
DTSTAMP:20260422T221944
CREATED:20250906T152407Z
LAST-MODIFIED:20250906T152407Z
UID:68775-1756771200-1777593599@tabi-mile.com
SUMMARY:アメックスオファー 楽天トラベル 2％キャッシュバックキャンペーン
DESCRIPTION:楽天トラベルでアメックスのキャッシュバックキャンペーンがスタート！ \n事前登録のうえ、2026年4月30日までに楽天トラベルの対象旅行商品・ウェブサイトでアメックスカードを使えば、利用額の2％がキャッシュバックされます。 \n還元上限は期間中合計3\,000\,000円。 \n2%とわずかですが、キャンペーン期間が長いので、よく楽天トラベルを利用するならチリツモで大きいです。 \nーーーーーーーーーーーーーーーーーーーーーーー\n【キャンペーン名】\nアメックスオファー 楽天トラベル 2％キャッシュバックキャンペーン\n【キャンペーン期間】\n2025年9月2日～2026年4月30日\n【概要】\n・事前登録（先着500\,000名）が必要\n・日本国内の楽天トラベルWebサイトで、アメックスカード決済された利用額の2％キャッシュバック（最大3\,000\,000円まで）\n・家族カード・追加カードも登録可能\n・現地決済、対象外旅行商品、はとバスツアー、楽天ペイ・QUICPay・他事業者経由決済は対象外\n・キャッシュバックは15営業日～最大90日後付与、カード明細付与日で判定\nーーーーーーーーーーーーーーーーーーーーーーー
URL:https://tabi-mile.com/campaign_calendar/rakuten-travel-amex-cashback-202509/
CATEGORIES:クレジットカード
ATTACH;FMTTYPE=image/jpeg:https://tabi-mile.com/wp-content/uploads/2025/09/a4793fcfd5452362bf796b81591b96d0.jpg
END:VEVENT
BEGIN:VEVENT
DTSTART;VALUE=DATE:20260318
DTEND;VALUE=DATE:20260527
DTSTAMP:20260422T221944
CREATED:20260318T115430Z
LAST-MODIFIED:20260321T012747Z
UID:70637-1773792000-1779839999@tabi-mile.com
SUMMARY:アメックスゴールドプリファードカード期間限定キャンペーン最大11万ポイント
DESCRIPTION:アメックスゴールドプリファードカードの期間限定キャンペーンがスタート。 \n最大110\,000ポイント獲得可能なキャンペーン！ \nキャンペーン内訳 \n\n3ヶ月以内に合計50万円以上のカード利用で\n20\,000ボーナスポイント\n6ヶ月以内に合計150万円以上のカード利用で\n75\,000ボーナスポイント\n通常ご利用ポイント 合計150万円カード利用で\n15\,000ポイント\nすべて合わせると110\,000ポイント\n\n\nアメックスゴールドプリファードカードは、コスパ最強のゴールドカードで年会費を軽く上回る特典があり、旅好きなら持つだけで簡単に元を取れて、それ以上の体験ができるカード。 \nしかも、メタルカードでゴールドとローズゴールドの2色の金属製カードから選べるので、ステイタスもバッチリ。 \nポイントもAmazon、ヨドバシカメラ、ヤフーショッピング、JAL、HISなどよく使うお店でポイント3倍の3%還元。 \nステイタスだけでなくお得もバッチリで、ポイントは有効期限なしで、1ポイント=1マイルでANAマイルに交換可能。 \n現在実施中のキャンペーンはこちら↓ \n最大110\,000ポイント獲得可能 ゴールド・プリファード・カードの入会・キャンペーン詳細はこちら 2026年5月26日まで \nアメックスゴールドプリファードカードについてもっと知りたい方は「最強のゴールドカード「アメックスのゴールド・プリファード・カード」徹底解説！特典・メリット・デメリット・入会キャンペーンまとめ」へ。
URL:https://tabi-mile.com/campaign_calendar/amex-gold-camp-202603/
CATEGORIES:クレジットカード
ATTACH;FMTTYPE=image/jpeg:https://tabi-mile.com/wp-content/uploads/2026/03/51b58e13bd646dc65cb4f98610bb679d.jpg
END:VEVENT
BEGIN:VEVENT
DTSTART;VALUE=DATE:20260401
DTEND;VALUE=DATE:20261001
DTSTAMP:20260422T221944
CREATED:20260413T084302Z
LAST-MODIFIED:20260413T084302Z
UID:70724-1775001600-1790812799@tabi-mile.com
SUMMARY:JCBオリジナルシリーズ期間限定キャンペーン
DESCRIPTION:JCBオリジナルシリーズで期間限定入会キャンペーンがスタート。 \nJCBプラチナは、コンシェルジュサービス、プライオリティパス、HoteLuxなど充実特典。 \nJCBゴールドは、年会費を抑えつつ、HoteLuxや付帯保険など充実。 \nJCBカードSは、年会費永年無料でJCB カード S 優待 クラブオフが使えるので、グルメ、レジャー、エンタメなどさまざまな割引が受けられて、旅行好きにも便利。 \nその3券種で期間限定キャンペーン実施中です。 \nーーーーーーーーーーーーーーーーーーーーーーー\n【キャンペーン名】\nJCBプラチナ 最大104\,150円相当プレゼント\nJCBゴールド 大58\,100円相当プレゼント\nJCBカードS ポイント2倍&最大23\,000円相当プレゼント\n【キャンペーン期間】\n2026年4月1日～9月30日\nーーーーーーーーーーーーーーーーーーーーーーー
URL:https://tabi-mile.com/campaign_calendar/jcb-os-camp-202504/
CATEGORIES:クレジットカード
ATTACH;FMTTYPE=image/jpeg:https://tabi-mile.com/wp-content/uploads/2026/04/3b7018e0b46438a740a6f70c9a6f3753.jpg
END:VEVENT
END:VCALENDAR