BEGIN:VCALENDAR
VERSION:2.0
PRODID:-//旅マイル - ECPv6.15.20//NONSGML v1.0//EN
CALSCALE:GREGORIAN
METHOD:PUBLISH
X-ORIGINAL-URL:https://tabi-mile.com
X-WR-CALDESC:旅マイル のイベント
REFRESH-INTERVAL;VALUE=DURATION:PT1H
X-Robots-Tag:noindex
X-PUBLISHED-TTL:PT1H
BEGIN:VTIMEZONE
TZID:Asia/Tokyo
BEGIN:STANDARD
TZOFFSETFROM:+0900
TZOFFSETTO:+0900
TZNAME:JST
DTSTART:20240101T000000
END:STANDARD
END:VTIMEZONE
BEGIN:VEVENT
DTSTART;VALUE=DATE:20250430
DTEND;VALUE=DATE:20250916
DTSTAMP:20260423T134454
CREATED:20250501T062749Z
LAST-MODIFIED:20250501T062853Z
UID:66183-1745971200-1757980799@tabi-mile.com
SUMMARY:ヒルトンアメックスにヒルトン利用でキャッシュバックキャンペーン
DESCRIPTION:ヒルトンアメックス&ヒルトンアメックスプレミアムにヒルトン利用で15\,000円キャッシュバック！ \n事前にアメックスオンラインで登録し、合計8万円以上で15\,000円キャッシュバックされます（期間中の支払い累計でOK）。 \n事前登録が先着3万人限定なので、事前登録はお早めに。（利用期間は6月10日からなので注意） \nーーーーーーーーーーーーーーーーーーーーーーー\n【キャンペーン名】\nヒルトンアメックスにヒルトン利用でキャッシュバックキャンペーン（要ログイン）\n【キャンペーン期間】\n登録期間：2025年4月30日～2025年9月15日（先着順なので早期終了あり）\n利用期間：2025年6月10日～2025年9月15日\nーーーーーーーーーーーーーーーーーーーーーーー \nヒルトンアメックス&ヒルトンアメックスプレミアムお得な入会キャンペーン！ゴールドステータスで朝食無料&無料宿泊特典も
URL:https://tabi-mile.com/campaign_calendar/hilton-amex-cashback202505/
CATEGORIES:クレジットカード,ホテル
ATTACH;FMTTYPE=image/png:https://tabi-mile.com/wp-content/uploads/2025/05/5d97ff9b14c985c234b7684317f5da79.png
END:VEVENT
BEGIN:VEVENT
DTSTART;VALUE=DATE:20250530
DTEND;VALUE=DATE:20251101
DTSTAMP:20260423T134454
CREATED:20250530T012558Z
LAST-MODIFIED:20250530T012558Z
UID:66910-1748563200-1761955199@tabi-mile.com
SUMMARY:【アメックスオファー】フォーシーズンズホテルで30\,000円利用で6\,000円キャッシュバック
DESCRIPTION:アメックスにフォーシーズンズホテルで30\,000円利用で6\,000円キャッシュバックが来ていました。 \n事前登録35\,000名限定なので、チェックを。 \nーーーーーーーーーーーーーーーーーーーーーーー\n【キャンペーン名】\n【アメックスオファー】フォーシーズンズホテルで30\,000円利用で6\,000円キャッシュバック\n【キャンペーン期間】\n2025年10月31日まで\nーーーーーーーーーーーーーーーーーーーーーーー
URL:https://tabi-mile.com/campaign_calendar/amex-offers-four-seasons-2025/
CATEGORIES:クレジットカード
ATTACH;FMTTYPE=image/jpeg:https://tabi-mile.com/wp-content/uploads/2025/05/d62db7c54983b35019ce8e896571272f.jpg
END:VEVENT
BEGIN:VEVENT
DTSTART;VALUE=DATE:20250530
DTEND;VALUE=DATE:20251001
DTSTAMP:20260423T134454
CREATED:20250530T011449Z
LAST-MODIFIED:20250530T012148Z
UID:66898-1748563200-1759276799@tabi-mile.com
SUMMARY:【アメックスオファー】IHGホテルで30\,000円利用で6\,000円キャッシュバック
DESCRIPTION:アメックスオファーにIHGホテルで30\,000円利用で6\,000円キャッシュバックが来ていました。 \n対象ホテルをリストで見ると、日本、オーストラリア、香港、シンガポール、タイ、ベトナム。 \n複数アメックスを持っていますが来ていたのは1枚のみ。 \n事前登録先着20\,000名限定なので、アメックスオファーをチェックを。 \nーーーーーーーーーーーーーーーーーーーーーーー\n【キャンペーン名】\nIHGホテルで30\,000円利用で6\,000円キャッシュバック\n【キャンペーン期間】\n2025年9月30日まで\nーーーーーーーーーーーーーーーーーーーーーーー
URL:https://tabi-mile.com/campaign_calendar/amex-offer-ing-2025/
CATEGORIES:クレジットカード
ATTACH;FMTTYPE=image/jpeg:https://tabi-mile.com/wp-content/uploads/2025/05/c3990f05f1fbf3b6a50d754aceb27502-e1748568104663.jpg
END:VEVENT
BEGIN:VEVENT
DTSTART;VALUE=DATE:20250530
DTEND;VALUE=DATE:20251101
DTSTAMP:20260423T134454
CREATED:20250530T011852Z
LAST-MODIFIED:20250530T012130Z
UID:66901-1748563200-1761955199@tabi-mile.com
SUMMARY:【アメックスオファー】フェアフィールドバイマリオットで20\,000円利用で4\,000円キャッシュバック
DESCRIPTION:マリオットアメックスにフェアフィールドバイマリオットで20\,000円利用で4\,000円キャッシュバックキャンペーンが来ていました。 \n事前登録30\,000名限定なので、チェックを。 \nーーーーーーーーーーーーーーーーーーーーーーー\n【キャンペーン名】\n【アメックスオファー】フェアフィールドバイマリオットで20\,000円利用で4\,000円キャッシュバック\n【キャンペーン期間】\n2025年10月31日まで\nーーーーーーーーーーーーーーーーーーーーーーー
URL:https://tabi-mile.com/campaign_calendar/amex-offer-fairfield-2025/
CATEGORIES:クレジットカード
ATTACH;FMTTYPE=image/jpeg:https://tabi-mile.com/wp-content/uploads/2025/05/ad228b21e6e49305109361c5838d6c69-e1748568082691.jpg
END:VEVENT
BEGIN:VEVENT
DTSTART;VALUE=DATE:20250616
DTEND;VALUE=DATE:20251216
DTSTAMP:20260423T134454
CREATED:20250620T032109Z
LAST-MODIFIED:20250620T032109Z
UID:67173-1750032000-1765843199@tabi-mile.com
SUMMARY:J-POINT誕生記念6億ポイント還元キャンペーン
DESCRIPTION:JCBのポイントがOki DokiポイントからJ-POINTにリニューアルされるのを記念して、6億ポイント山分けキャンペーン。 \n毎月合計10万円以上の利用で山分けの対象になり、10万円を1口として、山分けされるポイントが増えていきます。 \n参加登録が早いほうがもらえる回数が増えるので、Oki Dokiポイントが貯まるカードを持っている方は、とりあえずエントリーを。 \nーーーーーーーーーーーーーーーーーーーーーーー\n【キャンペーン名】\nJ-POINT誕生記念6億ポイント還元キャンペーン\n【キャンペーン期間】\n2025年6月16日（月）～ 12月15日（月）\nーーーーーーーーーーーーーーーーーーーーーーー
URL:https://tabi-mile.com/campaign_calendar/j-point-campaign-202506/
CATEGORIES:クレジットカード
ATTACH;FMTTYPE=image/jpeg:https://tabi-mile.com/wp-content/uploads/2025/06/760435c0dfcd8a2015468576d235de6b.jpg
END:VEVENT
BEGIN:VEVENT
DTSTART;VALUE=DATE:20250701
DTEND;VALUE=DATE:20251001
DTSTAMP:20260423T134454
CREATED:20250704T061921Z
LAST-MODIFIED:20250704T062010Z
UID:67417-1751328000-1759276799@tabi-mile.com
SUMMARY:JALカード夏の祭典2025 豪華プレゼントが当たるチャンス！
DESCRIPTION:JALカード保有者向けのキャンペーン。 \nJALカードで15万円以上利用した方うち、JALカード特約店で3万円以上利用すると抽選でマイル又は景品をプレゼント。 \n当たる系ですが、参加登録しておかないと絶対に当たらないので、保有している方はとりあえず参加登録を。 \nーーーーーーーーーーーーーーーーーーーーーーー\n【キャンペーン名】\nJALカード夏の祭典2025 豪華プレゼントが当たるチャンス！\n【キャンペーン期間】\n2025年7月1日（火）～2025年9月30日（火）\nーーーーーーーーーーーーーーーーーーーーーーー
URL:https://tabi-mile.com/campaign_calendar/jal-card-summerfesta-202507/
CATEGORIES:クレジットカード
ATTACH;FMTTYPE=image/jpeg:https://tabi-mile.com/wp-content/uploads/2025/07/20775b2d6d8902392d785c47899eb16f.jpg
END:VEVENT
BEGIN:VEVENT
DTSTART;VALUE=DATE:20250701
DTEND;VALUE=DATE:20251001
DTSTAMP:20260423T134454
CREATED:20250704T073728Z
LAST-MODIFIED:20250704T073728Z
UID:67426-1751328000-1759276799@tabi-mile.com
SUMMARY:1億マイル山分け！JAL・Visaカード会員限定 海外でJALカードつかおうキャンペーン！
DESCRIPTION:JAL・Visaカード、JALカード TOKYU POINT ClubQ Visaカード保有者限定キャンペーン。 \n海外現地で5万円1口として利用すると、1億マイルを山分け。 \nーーーーーーーーーーーーーーーーーーーーーーー\n【キャンペーン名】\n1億マイル山分け！JAL・Visaカード会員限定 海外でJALカードつかおうキャンペーン！\n【キャンペーン期間】\n2025年7月1日（火）～2025年9月30日（火）\nーーーーーーーーーーーーーーーーーーーーーーー
URL:https://tabi-mile.com/campaign_calendar/jal-int_visa2507/
CATEGORIES:クレジットカード
ATTACH;FMTTYPE=image/jpeg:https://tabi-mile.com/wp-content/uploads/2025/07/f6533929e3a1486c543565a532fd1ed9.jpg
END:VEVENT
BEGIN:VEVENT
DTSTART;VALUE=DATE:20250704
DTEND;VALUE=DATE:20251001
DTSTAMP:20260423T134454
CREATED:20250704T061253Z
LAST-MODIFIED:20250704T085927Z
UID:67412-1751587200-1759276799@tabi-mile.com
SUMMARY:JALカード（Visaブランド限定）新規入会キャンペーン
DESCRIPTION:JALカードの新規入会キャンペーンがスタート。 \n今回はVisaブランド限定ですが、最大80\,000マイルと過去の新規入会キャンペーンと比較しても申し分ない内容。 \nJAL・VisaカードとJALカード TOKYU POINT ClubQ（Visaブランド）がキャンペーンの対象です。 \n20代限定のJAL CLUB ESTのVisaブランドも対象。 \nーーーーーーーーーーーーーーーーーーーーーーー\n【キャンペーン名】\n\n\n    \n        \n                    JALカード入会キャンペーン                                                \n\n                                \n    \n\n【キャンペーン期間】\n2025年7月4日（金）～2025年9月30日（火）\nーーーーーーーーーーーーーーーーーーーーーーー \nJALカード入会キャンペーンまとめ！JALマイルを貯めるならJALカードは必須！4つのメリット
URL:https://tabi-mile.com/campaign_calendar/jal-card-campaign-202507/
CATEGORIES:クレジットカード
ATTACH;FMTTYPE=image/jpeg:https://tabi-mile.com/wp-content/uploads/2025/07/7de8d61a556d1e9a9d3ce4dfa95d354e.jpg
END:VEVENT
BEGIN:VEVENT
DTSTART;VALUE=DATE:20250715
DTEND;VALUE=DATE:20251015
DTSTAMP:20260423T134454
CREATED:20250716T075503Z
LAST-MODIFIED:20250716T075503Z
UID:67730-1752537600-1760486399@tabi-mile.com
SUMMARY:Sony Bank WALLET 海外利用キャッシュバックキャンペーン
DESCRIPTION:Sony Bank WALLETを海外で利用すると10%キャッシュバックキャンペーン。 \n（ANAマイレージクラブ / Sony Bank WALLETも対象） \n最大3\,000円までなので、30\,000円相当のお買い物が10%オフに。 \nまた、韓国ウォンや新台湾ドルなど特定通貨は、海外事務手数料（1.79%）が全額キャッシュバック。 \n【特定通貨】 \n韓国ウォン、シンガポールドル、タイバーツ、マレーシアリンギット、ベトナムドン、新台湾ドル、インドネシアルピア、フィリピンペソ、トルコリラ、中国人民元 \n応募が必要なので、まずはエントリーを。 \nーーーーーーーーーーーーーーーーーーーーーーー\n【キャンペーン名】\nSony Bank WALLET 海外利用キャッシュバックキャンペーン\n【キャンペーン期間】\n2025年7月15日（火）～2025年10月14日（火）\nーーーーーーーーーーーーーーーーーーーーーーー
URL:https://tabi-mile.com/campaign_calendar/sony-bank-wallet-cashback-202507/
CATEGORIES:クレジットカード
ATTACH;FMTTYPE=image/jpeg:https://tabi-mile.com/wp-content/uploads/2025/07/d2f04e5cb90d433daf4111e95d3426f4.jpg
END:VEVENT
BEGIN:VEVENT
DTSTART;VALUE=DATE:20250715
DTEND;VALUE=DATE:20260201
DTSTAMP:20260423T134454
CREATED:20250718T063443Z
LAST-MODIFIED:20250718T072831Z
UID:67743-1752537600-1769903999@tabi-mile.com
SUMMARY:JCB【最大3万円キャッシュバック】シンガポール航空を使うと現地利用がおトクに！
DESCRIPTION:シンガポール航空で航空券を購入したJCBカードをシンガポールで利用すると、シンガポールでのご利用金額の30％をキャッシュバック！（上限：3万円） \nこのキャンペーンは全てのJCBブランドではなく、オリジナルシリーズのJCBカードのみ対象。 \n参加登録期間：2024年7月15日から。\nーーーーーーーーーーーーーーーーーーーーーーー\n【キャンペーン名】\nJCB【最大3万円キャッシュバック】シンガポール航空を使うと現地利用がおトクに！\n【キャンペーン期間】\n2025年7月15日（火）～2026年1月31日（土）\nーーーーーーーーーーーーーーーーーーーーーーー
URL:https://tabi-mile.com/campaign_calendar/jcb-singapore-airlines-sale-202507/
CATEGORIES:クレジットカード,エアライン
ATTACH;FMTTYPE=image/jpeg:https://tabi-mile.com/wp-content/uploads/2025/07/f3487be639d64f099e4cef580bbec985.jpg
END:VEVENT
BEGIN:VEVENT
DTSTART;VALUE=DATE:20250722
DTEND;VALUE=DATE:20251001
DTSTAMP:20260423T134454
CREATED:20250722T220924Z
LAST-MODIFIED:20250722T232007Z
UID:67805-1753142400-1759276799@tabi-mile.com
SUMMARY:マリオットアメックスプレミアム保有者向け75万円利用で1万ボーナスポイント
DESCRIPTION:マリオットアメックスプレミアムのアメックスオファーに新しいキャンペーンが登場しています。 \n75万円を2025年9月30日までにアメックスが使える加盟店でカード決済するだけ。 \nそれだけで1万ポイントゲットできます。 \n金額のハードルは高いですが、特定の加盟店縛りがないので、美味しいキャンペーン。 \n事前登録先着100\,000人と人数制限があるのでエントリーは早めに。 \nーーーーーーーーーーーーーーーーーーーーーーー\n【キャンペーン名】\nマリオットアメックスプレミアム保有者向け75万円利用で1万ボーナスポイント\n【キャンペーン期間】\n2025/07/22 – 2025/09/30\nーーーーーーーーーーーーーーーーーーーーーーー
URL:https://tabi-mile.com/campaign_calendar/mariott-amex-offer-202507/
CATEGORIES:クレジットカード
ATTACH;FMTTYPE=image/jpeg:https://tabi-mile.com/wp-content/uploads/2025/07/37667782d055f494fe2c41ac47e25971.jpg
END:VEVENT
BEGIN:VEVENT
DTSTART;VALUE=DATE:20250724
DTEND;VALUE=DATE:20251001
DTSTAMP:20260423T134454
CREATED:20250724T133819Z
LAST-MODIFIED:20250724T134233Z
UID:67836-1753315200-1759276799@tabi-mile.com
SUMMARY:アメックスゴールドプリファード期間限定新規入会キャンペーン
DESCRIPTION:新色ローズゴールド登場を記念して、アメックスゴールドプリファードで期間限定新規入会キャンペーンがスタート。 \nローズゴールド（メタルカード）を選んでも王道のゴールド色と特典は全く同じなので、好きな色を選べばOK。 \n期間限定入会キャンペーンは、最大120\,000ポイント獲得可能なキャンペーン！ \nキャンペーン内訳 \n\n 6ヶ月間対象加盟店でのご利用100円ごとに10ボーナスポイント（上限20\,000ボーナスポイント）\n 3ヶ月以内に合計50万円以上のカード利用で\n20\,000ボーナスポイント \n6ヶ月以内に合計100万円以上のカード利用で\n70\,000ボーナスポイント\n通常ご利用ポイント 合計100万円カード利用で\n10\,000ポイント\nすべて合わせると120\,000ポイント\n\n\n最大120\,000ポイント獲得可能 ゴールド・プリファード・カードの入会・キャンペーン詳細はこちら 2025年9月30日までの期間限定 \n新色ローズゴールドのメタル製カードも選択可能！120\,000ポイントは12万マイルに交換可能で3年連続でハワイ往復可能なマイル相当。12万円相当でトラベルオンラインでも利用可能 \nアメックスゴールドプリファードの詳細は、「最強のゴールドカード「アメックスのゴールド・プリファード・カード」徹底解説！特典・メリット・デメリット・入会キャンペーンまとめ」へ。
URL:https://tabi-mile.com/campaign_calendar/amex-gold-preferred-card-camp-202507/
CATEGORIES:クレジットカード
ATTACH;FMTTYPE=image/jpeg:https://tabi-mile.com/wp-content/uploads/2025/07/7c554051f601b66b315d58930a0b6c7e.jpg
END:VEVENT
BEGIN:VEVENT
DTSTART;VALUE=DATE:20250730
DTEND;VALUE=DATE:20251001
DTSTAMP:20260423T134454
CREATED:20250804T065200Z
LAST-MODIFIED:20250804T065210Z
UID:68006-1753833600-1759276799@tabi-mile.com
SUMMARY:Life Status プログラム会員限定 JALカード利用でボーナスLSPキャンペーン
DESCRIPTION:JAL Life Status プログラムでStar グレードをお持ちの方限定のキャンペーン。 \nJALカード10万円利用ごとにボーナスLife Status ポイント（LSP）として1ポイントをプレゼント！ \n通常、カード利用20万円分で5ポイント（ショッピングマイル・プレミアム加入時）なので、20万円分で7ポイント獲得できるようになります。 \n1ポイントあたり、4万円利用の価値があるので、このボーナスポイントは大きい。 \nキャンペーン登録が必須なので、対象の方はぜひ登録を。 \nーーーーーーーーーーーーーーーーーーーーーーー\n【キャンペーン名】\nLife Status プログラム会員限定 JALカード利用でボーナスLSPキャンペーン\n【キャンペーン期間】\n2025年7月30日（水）～9月30日（火）\nーーーーーーーーーーーーーーーーーーーーーーー
URL:https://tabi-mile.com/campaign_calendar/jal-card-bonus-lsp-202508/
CATEGORIES:クレジットカード
ATTACH;FMTTYPE=image/jpeg:https://tabi-mile.com/wp-content/uploads/2025/08/6855eb0282f2bfea28d869f232a5832e.jpg
END:VEVENT
BEGIN:VEVENT
DTSTART;VALUE=DATE:20250801
DTEND;VALUE=DATE:20251001
DTSTAMP:20260423T134454
CREATED:20250801T085118Z
LAST-MODIFIED:20250801T085150Z
UID:67957-1754006400-1759276799@tabi-mile.com
SUMMARY:ANA VISA&Mastercard 期間限定新規入会キャンペーン
DESCRIPTION:2025年初では？ \nANA VISA&Mastercard 期間限定新規入会キャンペーンがスタート！ \n\n\n\n    \n        \n                    ANAカード（一般カード）                                                \n\n                                \n    \n 最大19\,000マイル+抽選で90\,000マイル\n\n\n    \n        \n                    ANAカード（ワイドカード）（Visa/Mastercard®）                                                \n\n                                \n    \n 最大20\,000マイル+抽選で90\,000マイル\n\n\n    \n        \n                    ANAカード（ワイドゴールドカード）                                                \n\n                                \n    \n 最大30\,000マイル+抽選で90\,000マイル\n\n\n    \n        \n                    ANA VISAプラチナ プレミアムカード                                                \n\n                                \n    \n 最大50\,000マイル+抽選で90\,000マイル\n\nANA VISA&Mastercardは、ほとんど期間限定入会キャンペーンをやらないので、入るなら今がチャンス。 \n要エントリーなので、忘れずに。 \nーーーーーーーーーーーーーーーーーーーーーーー\n【キャンペーン名】\nANA VISA&Mastercard 期間限定新規入会キャンペーン\n【キャンペーン期間】\n2025年8月1日（金）～9月30日（火）\nーーーーーーーーーーーーーーーーーーーーーーー
URL:https://tabi-mile.com/campaign_calendar/ana-visamastercard-camp-202508/
CATEGORIES:クレジットカード
ATTACH;FMTTYPE=image/jpeg:https://tabi-mile.com/wp-content/uploads/2025/08/bdce93b8e94b3e8867a5582d618bc8e0.jpg
END:VEVENT
BEGIN:VEVENT
DTSTART;VALUE=DATE:20250801
DTEND;VALUE=DATE:20251001
DTSTAMP:20260423T134454
CREATED:20250801T085417Z
LAST-MODIFIED:20250801T085417Z
UID:67961-1754006400-1759276799@tabi-mile.com
SUMMARY:JALカード夏の祭典2025 豪華プレゼントが当たるチャンス！
DESCRIPTION:JALカード保有者向けのキャンペーン。 \n期間中に参加登録の上、15万円以上、うちJALカード特約店で3万円以上利用で、最大50\,000マイル当たる。 \nエントリーしないと当たらないので、とりあえずエントリーを。 \nーーーーーーーーーーーーーーーーーーーーーーー\n【キャンペーン名】\nJALカード夏の祭典2025 豪華プレゼントが当たるチャンス！\n【キャンペーン期間】\n2025年9月30日（火）まで\nーーーーーーーーーーーーーーーーーーーーーーー
URL:https://tabi-mile.com/campaign_calendar/jal-card-can-202508/
CATEGORIES:クレジットカード
ATTACH;FMTTYPE=image/jpeg:https://tabi-mile.com/wp-content/uploads/2025/08/e2c51c695ff6479ca7c5f89c40e714b9.jpg
END:VEVENT
BEGIN:VEVENT
DTSTART;VALUE=DATE:20250801
DTEND;VALUE=DATE:20251001
DTSTAMP:20260423T134454
CREATED:20250802T152206Z
LAST-MODIFIED:20250802T152206Z
UID:67995-1754006400-1759276799@tabi-mile.com
SUMMARY:JALカード プラチナ Pro・プラチナ・CLUB-Aゴールドカード切替キャンペーン
DESCRIPTION:すでに保有しているJALカードをプラチナ Pro・プラチナ・CLUB-Aゴールドカードのいずれかに切り替えると最大8\,000マイルもらえるキャンペーン。 \nCLUB-Aゴールドへの切り替えだと最大7\,300マイル。 \nプラチナPro又はプラチナへの切り替えだと最大8\,000マイル。 \nーーーーーーーーーーーーーーーーーーーーーーー\n【キャンペーン名】\nJALカード プラチナ Pro・プラチナ・CLUB-Aゴールドカード切替キャンペーン\n【キャンペーン期間】\n2025年8月1日（金）～2025年9月30日（火）\nーーーーーーーーーーーーーーーーーーーーーーー
URL:https://tabi-mile.com/campaign_calendar/jal-card-change-camp-202508/
CATEGORIES:クレジットカード
ATTACH;FMTTYPE=image/jpeg:https://tabi-mile.com/wp-content/uploads/2025/08/483406fc83d85a60343dbbc9f3ffb3a8.jpg
END:VEVENT
BEGIN:VEVENT
DTSTART;VALUE=DATE:20250801
DTEND;VALUE=DATE:20251101
DTSTAMP:20260423T134454
CREATED:20250802T153225Z
LAST-MODIFIED:20250802T153225Z
UID:67998-1754006400-1761955199@tabi-mile.com
SUMMARY:JALカードショッピングマイル・プレミアム入会キャンペーン
DESCRIPTION:JALカードの利用で貯まるマイルが2倍になる有料オプション「JALカードショッピングマイル・プレミアム」入会で最大1\,500マイルもらえるキャンペーン。 \n年会費年会費4\,950円（税込）で、家族カード利用分も2倍になります。 \nJALカードショッピングマイル・プレミアムに加入すると、マイルが2倍貯まるようになるので、生涯の上級会員を目指せるライフステータスポイントも2倍貯まるので、おすすめ。 \n（JALカードでのマイル獲得数を元にライフステータスポイントを付与するため） \nーーーーーーーーーーーーーーーーーーーーーーー\n【キャンペーン名】\nJALカードショッピングマイル・プレミアム入会キャンペーン\n【キャンペーン期間】\n2025年8月1日～10月31日\nーーーーーーーーーーーーーーーーーーーーーーー \n\n				\n					\n					\n												\n							\n																																																																															\n							\n																	JALカードのおすすめはこれ！JALマイルを無期限に貯める方法も！【2025年版】\n								\n																									続きを見る
URL:https://tabi-mile.com/campaign_calendar/jpp-202508/
CATEGORIES:クレジットカード
ATTACH;FMTTYPE=image/jpeg:https://tabi-mile.com/wp-content/uploads/2025/08/9cb716fd49eef7dddf9d2bbf35d6e81f.jpg
END:VEVENT
BEGIN:VEVENT
DTSTART;VALUE=DATE:20250801
DTEND;VALUE=DATE:20251101
DTSTAMP:20260423T134454
CREATED:20250815T133733Z
LAST-MODIFIED:20250815T133733Z
UID:68104-1754006400-1761955199@tabi-mile.com
SUMMARY:ダイナースクラブのポイントをキャセイパシフィック航空へのマイル移行で20%ボーナス
DESCRIPTION:ダイナースクラブカードのポイントをキャセイパシフィック航空へのマイル交換レートが20％アップするキャンペーンを実施中です。 \n2\,500マイル=1\,000マイルが、20%アップで1\,200マイルに。 \nーーーーーーーーーーーーーーーーーーーーーーー\n【キャンペーン名】\nダイナースクラブのポイントをキャセイパシフィック航空へのマイル移行で20%ボーナス\n【キャンペーン期間】\n2025年8月1日 0時00分～2025年10月31日 23時59分\nーーーーーーーーーーーーーーーーーーーーーーー
URL:https://tabi-mile.com/campaign_calendar/diners-points-cathay-202508/
CATEGORIES:クレジットカード
ATTACH;FMTTYPE=image/jpeg:https://tabi-mile.com/wp-content/uploads/2025/08/b19799bf2227997cdf06a38ec9042929.jpg
END:VEVENT
BEGIN:VEVENT
DTSTART;VALUE=DATE:20250801
DTEND;VALUE=DATE:20260101
DTSTAMP:20260423T134454
CREATED:20250816T140826Z
LAST-MODIFIED:20250816T142254Z
UID:68115-1754006400-1767225599@tabi-mile.com
SUMMARY:Sony Bank WALLET Apple Pay新規設定キャンペーン&Apple Pay利用で総額2\,000万円山分け
DESCRIPTION:Sony Bank WALLET（ANAマイレージクラブ / Sony Bank WALLETも対象）を期間中初めてApple Payに設定するともれなく200円プレゼント。 \nさらに、国内でApple Payを5万円以上期間中利用すると総額2\,000万円を山分け。 \n設定だけで200円もらえるので、ANAマイレージクラブ / Sony Bank WALLETなどを持っている方はぜひ。 \n要キャンペーン登録なので、まずは登録！ \nーーーーーーーーーーーーーーーーーーーーーーー\n【キャンペーン名】\nSony Bank WALLET Apple Pay新規設定キャンペーン&Apple Pay利用で総額2\,000万円山分け\n【キャンペーン期間】\n2025年8月1日（金）～2025年12月31日（水）\nーーーーーーーーーーーーーーーーーーーーーーー \n\n				\n					\n					\n												\n							\n																																																																															\n							\n																	ANAマイルが貯まるソニー銀行の外貨定期預金をやってみた！海外旅行に便利なANAマイレージクラブ / Sony Bank WALLET\n								\n																									続きを見る
URL:https://tabi-mile.com/campaign_calendar/sony-bank-wallet-apple-pay202508/
CATEGORIES:クレジットカード
ATTACH;FMTTYPE=image/jpeg:https://tabi-mile.com/wp-content/uploads/2025/08/2c65c9cd441ffff95da9eb180a292310.jpg
END:VEVENT
BEGIN:VEVENT
DTSTART;VALUE=DATE:20250816
DTEND;VALUE=DATE:20250916
DTSTAMP:20260423T134454
CREATED:20250816T141232Z
LAST-MODIFIED:20250816T142226Z
UID:68118-1755302400-1757980799@tabi-mile.com
SUMMARY:外食するならJCBで！タッチ決済を利用して10％キャッシュバック
DESCRIPTION:ガストやバーミヤン、スシロー、松屋、吉野家、はま寿司などで、JCBのタッチ決済で10%キャッシュバック（最大1\,000円キャッシュバック）。 \n JCBブランドが付いた多くのカードがキャンペーンの対象なので、キャンペーン参加登録の上、ぜひタッチを。 \nーーーーーーーーーーーーーーーーーーーーーーー\n【キャンペーン名】\n外食するならJCBで！タッチ決済を利用して10％キャッシュバック\n【キャンペーン期間】\n2025年8月16日（土）～9月15日（月・祝）\nーーーーーーーーーーーーーーーーーーーーーーー
URL:https://tabi-mile.com/campaign_calendar/jcb-gaishoku202508/
CATEGORIES:クレジットカード
ATTACH;FMTTYPE=image/jpeg:https://tabi-mile.com/wp-content/uploads/2025/08/f15067604dd5e11523d1324082d73b5c.jpg
END:VEVENT
BEGIN:VEVENT
DTSTART;VALUE=DATE:20250816
DTEND;VALUE=DATE:20250916
DTSTAMP:20260423T134454
CREATED:20250818T134329Z
LAST-MODIFIED:20250818T134329Z
UID:68152-1755302400-1757980799@tabi-mile.com
SUMMARY:App Storeで使うならJCBで！Apple Gift Cardがもらえる！
DESCRIPTION:App StoreやAppleのサービスで、JCBカードを使って合計2\,000円以上の支払いをすると、最大400円分のApple Gift Cardプレゼント。 \n多くのJCBのロゴが付いたカードが対象なので、利用する方はキャンペーン参加登録を。 \nーーーーーーーーーーーーーーーーーーーーーーー\n【キャンペーン名】\nApp Storeで使うならJCBで！Apple Gift Cardがもらえる！\n【キャンペーン期間】\n2025年8月16日（土）～9月15日（月・祝）\nーーーーーーーーーーーーーーーーーーーーーーー
URL:https://tabi-mile.com/campaign_calendar/jcb-app-store-202508/
CATEGORIES:クレジットカード
ATTACH;FMTTYPE=image/jpeg:https://tabi-mile.com/wp-content/uploads/2025/08/c9c87e6928bfe183dba15e9d90f28f9e.jpg
END:VEVENT
BEGIN:VEVENT
DTSTART;VALUE=DATE:20250818
DTEND;VALUE=DATE:20251018
DTSTAMP:20260423T134454
CREATED:20250820T152048Z
LAST-MODIFIED:20250820T152048Z
UID:68196-1755475200-1760745599@tabi-mile.com
SUMMARY:【ANA VISA・マスターカード限定】  タッチ決済でマイルプレゼントキャンペーン
DESCRIPTION:ANAカード限定の「タッチ決済でマイルプレゼントキャンペーン」を開催中です！ \n期間中にタッチ決済を利用することで、抽選で6\,000名に500マイルが当たります。 \nさらに、スマホのタッチ決済を1度でも利用すると、当選口数が3倍に。 \nとりあえずキャンペーンエントリーが吉。 \n対象券種は、VISA又はMastercardブランドの \n\nANA一般カード\nANAワイドカード\nANAワイドゴールドカード\nANAスーパーフライヤーズカード（一般カード）\nANAスーパーフライヤーズ ゴールドカード\n\nーーーーーーーーーーーーーーーーーーーーーーー\n【キャンペーン名】\n【ANA VISA・マスターカード限定】 タッチ決済でマイルプレゼントキャンペーン\n【キャンペーン期間】\n2025年8月18日（月）～10月17日（金）\nーーーーーーーーーーーーーーーーーーーーーーー
URL:https://tabi-mile.com/campaign_calendar/ana-visa-mile-202508/
CATEGORIES:クレジットカード
ATTACH;FMTTYPE=image/jpeg:https://tabi-mile.com/wp-content/uploads/2025/08/eb8687063d3ed68f1a417979d4c51ecd.jpg
END:VEVENT
BEGIN:VEVENT
DTSTART;VALUE=DATE:20250821
DTEND;VALUE=DATE:20251022
DTSTAMP:20260423T134454
CREATED:20250829T160030Z
LAST-MODIFIED:20250929T065507Z
UID:68539-1755734400-1761091199@tabi-mile.com
SUMMARY:リニューアル後初の期間限定マリオットアメックス&マリオットアメックスプレミアム新規入会キャンペーンで最大120\,000ポイント
DESCRIPTION:新年会費&新特典のマリオットアメックスとマリオットアメックスプレミアムの期間限定新規入会キャンペーンがスタート！ \n\n\n\nマリオットアメックスは、年会費34\,100円で最大70\,000ポイント獲得可能なキャンペーン。 \n\n\n\n新マリオットアメックスは、カードを持つだけでゴールドエリートに改善し、年250万円決済達成&カード更新で50\,000ポイントまでのホテルに無料宿泊できます。 \n\n\n\nリニューアル前のマリオットアメックスプレミアムと同等の無料宿泊特典が付くので価値アップ。 \n\n\n\nマリオットアメックスプレミアムは、年会費82\,500円で最大120\,000ポイント獲得可能なキャンペーン。 \n\n\n\nこちらは年400万円以上決済&カード更新で無料宿泊特典、年500万円以上決済でプラチナエリートとハードルは大幅アップ。 \n\n\n\nその分、無料宿泊特典では10万超えのホテルに泊まれるようになり、プラチナエリートの価値も確実にアップ。 \n\n\n\n人を選ぶカードになりましたが、決済できる人にとってはかなり価値のあるカードに。 \n\n\n\nーーーーーーーーーーーーーーーーーーーーーーー【キャンペーン名】マリオットアメックス最大70\,000ポイントマリオットアメックスプレミアム最大120\,000ポイント【キャンペーン期間】～2025年10月21日までーーーーーーーーーーーーーーーーーーーーーーー \n\n\n\n				\n					\n					\n												\n							\n																																																																															\n							\n																	マリオットアメックスリニューアル！年会費値上げと無料宿泊特典の変更点を徹底解説\n								\n																									続きを見る \n															\n						\n					\n					\n\n				\n\n				\n					\n					\n												\n							\n																																																																															\n							\n																	マリオットボンヴォイアメックス入会キャンペーン！JAL・ANAマイルが無期限に＆ホテルでVIP待遇\n								\n																									続きを見る
URL:https://tabi-mile.com/campaign_calendar/marriott-amex-camp-202508/
CATEGORIES:クレジットカード
ATTACH;FMTTYPE=image/jpeg:https://tabi-mile.com/wp-content/uploads/2025/08/1fe3ce5d2aa6e52f48b39a30ea0db1cd.jpg
END:VEVENT
BEGIN:VEVENT
DTSTART;VALUE=DATE:20250825
DTEND;VALUE=DATE:20251201
DTSTAMP:20260423T134454
CREATED:20250826T144021Z
LAST-MODIFIED:20250826T144021Z
UID:68438-1756080000-1764547199@tabi-mile.com
SUMMARY:アカウント連携で dポイント 300pt がもらえるキャンペーン！
DESCRIPTION:Googleアカウントとdポイントアカウントを連携するだけで、300ドコモポイントがもらえるキャンペーン。 \nとても簡単なので、まだ連携していない方はぜひ。 \nーーーーーーーーーーーーーーーーーーーーーーー\n【キャンペーン名】\nアカウント連携で dポイント 300pt がもらえるキャンペーン！\n【キャンペーン期間】\n2025 年 8 月 25 日 午後 12:00 〜 2025 年 11 月 30 日 午後 11:59\nーーーーーーーーーーーーーーーーーーーーーーー
URL:https://tabi-mile.com/campaign_calendar/google-dpoint-202508/
CATEGORIES:クレジットカード
ATTACH;FMTTYPE=image/jpeg:https://tabi-mile.com/wp-content/uploads/2025/08/023b50d4e2331eadba53598c0fb48df2.jpg
END:VEVENT
BEGIN:VEVENT
DTSTART;VALUE=DATE:20250826
DTEND;VALUE=DATE:20250921
DTSTAMP:20260423T134454
CREATED:20250822T152519Z
LAST-MODIFIED:20250822T152519Z
UID:68326-1756166400-1758412799@tabi-mile.com
SUMMARY:ダイナースクラブフランスレストランウィーク2025開催
DESCRIPTION:ダイナースの定番イベントダイナースクラブフランスレストランウィークが今年も開催。 \nフランス料理を気軽に楽しむイベントで、憧れの高級店もランチ・ディナーともに、3\,000円、6\,000円、10\,000円のいずれかで楽しめます（お店によって設定されています）。 \nダイナースクラブカード会員なら、カード提示でウェルカムドリンク1杯プレゼント。 \nダイナースクラブ プレミアムカード会員には、8月26日10時からの先行予約特典もあり。 \nーーーーーーーーーーーーーーーーーーーーーーー\n【キャンペーン名】\nダイナースクラブフランスレストランウィーク2025開催\n【キャンペーン期間】\n2025年9月20日（土）～ 10月20日（月）31日間\n【予約開始】\nダイナースクラブプレミアムカード会員 2025年8月26日10時～\nそれ以外 2025年9月2日10時～\nーーーーーーーーーーーーーーーーーーーーーーー
URL:https://tabi-mile.com/campaign_calendar/diners-restaurantweek-2025/
CATEGORIES:クレジットカード
ATTACH;FMTTYPE=image/jpeg:https://tabi-mile.com/wp-content/uploads/2025/08/49564efd63a3da35e6a55443a24940bd.jpg
END:VEVENT
BEGIN:VEVENT
DTSTART;VALUE=DATE:20250826
DTEND;VALUE=DATE:20251101
DTSTAMP:20260423T134454
CREATED:20250826T140854Z
LAST-MODIFIED:20250826T144840Z
UID:68425-1756166400-1761955199@tabi-mile.com
SUMMARY:アメックスオファーにハイアット、フォーシーズンズ、温泉旅館でキャッシュバック
DESCRIPTION:アメックスオファーに新しいオファーが複数届いていました。 \n■ハイアットで8\,000円キャッシュバック \n2025/09/01から2025/11/30までにハイアット ホテルズ アンド リゾーツの対象ホテルにて、合計で40\,000円（税込）以上のカードを利用すると、8\,000円をキャッシュバック（1回のみ）。 \n■フォーシーズンズホテルで6\,000円キャッシュバック \n \n2025/10/31までにフォーシーズンズ ホテルズ アンド リゾーツの対象ホテルにて、合計で30\,000円（税込）以上のカードを利用すると、6\,000円をキャッシュバック。キャッシュバックの総額は期間中合計12\,000円。 \n■温泉旅館 \n \n2025/12/20までに対象のホテル・旅館にて、カードを利用すると、10％をキャッシュバック。キャッシュバックの総額は期間中合計100\,000円。 \n北海道 \n– 望楼NOGUCHI登別\n– BOUROU LAKE TOYA\n– 札幌･定山渓温泉 章月グランドホテル \n神奈川県 \n– 山翠楼 SANSUIROU\n– 海石榴 つばき\n– 箱根 ゆとわ\n– 山のホテル\n– KANAYA RESORT HAKONE \n新潟県 \n– 松泉閣 花月 \n富山県 \n– ホテルJALシティ富山 \n京都府 \n– ホテルオークラ京都 岡崎別邸\n– ウェスティン都ホテル京都 \n奈良県 \n– ホテル日航奈良 \n三重県 \n– 都リゾート 奥志摩 アクアフォレスト \n和歌山県 \n– INFINITO HOTEL＆SPA 南紀白浜 \n広島県 \n– 安芸グランドホテル \n長崎県 \n– HOTEL INDIGO NAGASAKI GLOVER STREET BY IHG\n– ホテルJALシティ長崎 \n鹿児島県 \n– こらんの湯 錦江楼 \nーーーーーーーーーーーーーーーーーーーーーーー\n【キャンペーン名】\nアメックスオファー\n【キャンペーン期間】\nそれぞれ異なる\n事前にオファーにカード登録が必須\nーーーーーーーーーーーーーーーーーーーーーーー
URL:https://tabi-mile.com/campaign_calendar/amex-offers-202508/
CATEGORIES:クレジットカード
ATTACH;FMTTYPE=image/jpeg:https://tabi-mile.com/wp-content/uploads/2025/08/3cc77112807156aa430e4e1ab944de72.jpg
END:VEVENT
BEGIN:VEVENT
DTSTART;VALUE=DATE:20250827
DTEND;VALUE=DATE:20260401
DTSTAMP:20260423T134454
CREATED:20250827T124346Z
LAST-MODIFIED:20250827T124538Z
UID:68424-1756252800-1775001599@tabi-mile.com
SUMMARY:アメックス会員向けプリンスギャラリー東京紀尾井町ハッピーアワー特典
DESCRIPTION:ザ・プリンスギャラリー 東京紀尾井町ラグジュアリーコレクションホテルで、対象のアメックス会員はカクテルラウンジバーで、ハッピーアワーを利用できます。 \n17時～19時の来店が対象。 \n料金もお得な価格で、一休レストランよりも安いです。 \n \n＜土曜日以外の全日が対象のカード＞ \nプラチナ・カード®会員\nANAアメリカン・エキスプレス®・プレミアム・カード会員\nアメリカン・エキスプレス®・ビジネス・プラチナ・カード会員 \n＜月曜日～木曜日が対象のカード＞ \nアメリカン・エキスプレス®・ゴールド・プリファード・カード会員\nアメリカン・エキスプレス®・ゴールド・カード会員\nアメリカン・エキスプレス®・ビジネス・ゴールド・カード会員 \nどちらも家族カード・追加カードの場合は本特典の対象外 \n＜ご利用方法＞\nご来店時に「ハッピーアワーを見た」とお伝えいただき、対象のアメリカン・エキスプレスカードをご提示&決済 \nーーーーーーーーーーーーーーーーーーーーーーー\n【キャンペーン名】\nアメックス会員向けプリンスギャラリー東京紀尾井町ハッピーアワー特典\n【キャンペーン期間】\n2026年3月31日(火)まで\nーーーーーーーーーーーーーーーーーーーーーーー
URL:https://tabi-mile.com/campaign_calendar/amex-prince-202508/
CATEGORIES:クレジットカード
ATTACH;FMTTYPE=image/jpeg:https://tabi-mile.com/wp-content/uploads/2025/08/eac60a090499deecf69589908c242b77.jpg
END:VEVENT
BEGIN:VEVENT
DTSTART;VALUE=DATE:20250901
DTEND;VALUE=DATE:20251201
DTSTAMP:20260423T134454
CREATED:20250901T015309Z
LAST-MODIFIED:20250905T053925Z
UID:68595-1756684800-1764547199@tabi-mile.com
SUMMARY:ダイナースクラブカード新規入会キャンペーンで初年度年会費無料&1万円キャッシュバック
DESCRIPTION:ダイナースクラブカードの初年度年会費無料キャンペーンがスタート！ \n本会員と家族カードの年会費ともに初年度無料になるので、お試しするのに最適なタイミング。 \nさらに、入会後3ヶ月以内に合計20万円のカード利用と公式アプリログインで10\,000円キャッシュバックもあり。 \n無料で試せてさらに1万円キャッシュバックも受けられるのでとてもお得です。 \nーーーーーーーーーーーーーーーーーーーーーーー\n【キャンペーン名】\nダイナースクラブカード 新規入会キャンペーン\n【キャンペーン期間】\n2025年9月1日～11月30日\nーーーーーーーーーーーーーーーーーーーーーーー \n\n				\n					\n					\n												\n							\n																																																																															\n							\n																	ダイナースクラブカードの入会キャンペーン！特典満載カードのメリット・デメリットまとめ\n								\n																									続きを見る
URL:https://tabi-mile.com/campaign_calendar/diners-camp-202509/
CATEGORIES:クレジットカード
ATTACH;FMTTYPE=image/jpeg:https://tabi-mile.com/wp-content/uploads/2025/09/ac35ac1ce977cf0b928f83546e3f2345.jpg
END:VEVENT
BEGIN:VEVENT
DTSTART;VALUE=DATE:20250902
DTEND;VALUE=DATE:20251201
DTSTAMP:20260423T134454
CREATED:20250906T151937Z
LAST-MODIFIED:20250906T152009Z
UID:68772-1756771200-1764547199@tabi-mile.com
SUMMARY:アメックスオファー THE OSAKA STATION HOTEL\, Autograph Collection 5万円利用毎5\,000円キャッシュバック
DESCRIPTION:新しいアメックスオファーに、THE OSAKA STATION HOTEL\, Autograph Collection。 \nプロパーアメックスだけでなく、マリオットアメックスにも来ていました。 \nエントリーの上、合計50\,000円（税込）以上利用すると5\,000円キャッシュバック。 \n複数回の合算でも合計50\,000円以上になればOK。 \nキャッシュバックはカード1枚につき最大150\,000円まで。 \nホテルの宿泊をはじめ、対象レストランやバーも対象。 \nーーーーーーーーーーーーーーーーーーーーーーー\n【キャンペーン名】\nアメックスオファー THE OSAKA STATION HOTEL\, Autograph Collection 5万円利用毎5\,000円キャッシュバック\n【キャンペーン期間】\n2025年9月2日～2025年11月30日\n【概要】\n・事前登録（先着30\,000名）が必要\n・対象店舗でアメックスカード合計50\,000円(税込)毎の利用で5\,000円キャッシュバック（最大150\,000円まで）\n・複数回の合算利用もOK\n・宿泊はフロントデスク決済や部屋付け料金も対象、レストランやラウンジ、鉄板焼きなど直営各店舗も対象\n・オンライン決済、仲介サイト経由やイベント・宴会決済、QUICPay等は対象外\n・対象カードはアメックス各種、家族カード等も可（カード番号ごとに登録必要）\n・キャッシュバックは最長で終了日から90日以内付与\n・15営業日経過しても還元されない場合は要問い合わせ\nーーーーーーーーーーーーーーーーーーーーーーー
URL:https://tabi-mile.com/campaign_calendar/theosakastationhotel-amex-cashback-202509/
CATEGORIES:クレジットカード
ATTACH;FMTTYPE=image/jpeg:https://tabi-mile.com/wp-content/uploads/2025/09/919f06d75bb13a5a860d9c37375511c6.jpg
END:VEVENT
BEGIN:VEVENT
DTSTART;VALUE=DATE:20250902
DTEND;VALUE=DATE:20260501
DTSTAMP:20260423T134454
CREATED:20250906T152407Z
LAST-MODIFIED:20250906T152407Z
UID:68775-1756771200-1777593599@tabi-mile.com
SUMMARY:アメックスオファー 楽天トラベル 2％キャッシュバックキャンペーン
DESCRIPTION:楽天トラベルでアメックスのキャッシュバックキャンペーンがスタート！ \n事前登録のうえ、2026年4月30日までに楽天トラベルの対象旅行商品・ウェブサイトでアメックスカードを使えば、利用額の2％がキャッシュバックされます。 \n還元上限は期間中合計3\,000\,000円。 \n2%とわずかですが、キャンペーン期間が長いので、よく楽天トラベルを利用するならチリツモで大きいです。 \nーーーーーーーーーーーーーーーーーーーーーーー\n【キャンペーン名】\nアメックスオファー 楽天トラベル 2％キャッシュバックキャンペーン\n【キャンペーン期間】\n2025年9月2日～2026年4月30日\n【概要】\n・事前登録（先着500\,000名）が必要\n・日本国内の楽天トラベルWebサイトで、アメックスカード決済された利用額の2％キャッシュバック（最大3\,000\,000円まで）\n・家族カード・追加カードも登録可能\n・現地決済、対象外旅行商品、はとバスツアー、楽天ペイ・QUICPay・他事業者経由決済は対象外\n・キャッシュバックは15営業日～最大90日後付与、カード明細付与日で判定\nーーーーーーーーーーーーーーーーーーーーーーー
URL:https://tabi-mile.com/campaign_calendar/rakuten-travel-amex-cashback-202509/
CATEGORIES:クレジットカード
ATTACH;FMTTYPE=image/jpeg:https://tabi-mile.com/wp-content/uploads/2025/09/a4793fcfd5452362bf796b81591b96d0.jpg
END:VEVENT
END:VCALENDAR