BEGIN:VCALENDAR
VERSION:2.0
PRODID:-//旅マイル - ECPv6.15.20//NONSGML v1.0//EN
CALSCALE:GREGORIAN
METHOD:PUBLISH
X-WR-CALNAME:旅マイル
X-ORIGINAL-URL:https://tabi-mile.com
X-WR-CALDESC:旅マイル のイベント
REFRESH-INTERVAL;VALUE=DURATION:PT1H
X-Robots-Tag:noindex
X-PUBLISHED-TTL:PT1H
BEGIN:VTIMEZONE
TZID:Asia/Tokyo
BEGIN:STANDARD
TZOFFSETFROM:+0900
TZOFFSETTO:+0900
TZNAME:JST
DTSTART:20240101T000000
END:STANDARD
END:VTIMEZONE
BEGIN:VEVENT
DTSTART;VALUE=DATE:20250205
DTEND;VALUE=DATE:20250514
DTSTAMP:20260423T200350
CREATED:20250430T022016Z
LAST-MODIFIED:20250430T070105Z
UID:66098-1738713600-1747180799@tabi-mile.com
SUMMARY:ANAアメックス期間限定新規入会キャンペーン
DESCRIPTION:ANAアメックス、ANAアメックスゴールド、ANAアメックスプラチナで、期間限定入会キャンペーン実施中！ \n最大165\,000マイル獲得可能。 \nANAアメックスは、ポイントを無期限で貯められるので、マイルの期限切れに泣きたくない方にとてもおすすめ。 \nANA航空券購入のボーナスマイルもNo.1なので、SFC修行にも最適です。 \n\n\n    \n        \n                                                \n                    \n\n                                \n    \n\n\n\n    \n        \n                    2026年4月実施中の入会キャンペーンは、なんと最大120\,000マイルもらえるキャンペーン！\n\n最大120\,000マイル相当獲得可能 ANAアメックスプレミアムのキャンペーン詳細&入会はこちら 国内線ANAラウンジアクセス付き \n\n\n\nなんとビジネスクラスでヨーロッパ往復可能なマイル相当！\n\n入会キャンペーンだけでこれだけもらえるのはかなりの衝撃的。\n\n                                                 \n\n                                \n    \n\n\n				\n					\n					\n												\n							\n																																																																															\n							\n																	ANAカードの最高峰ANAアメックスプレミアムのメリット・デメリットまとめ\n								\n																									続きを見る \n															\n						\n					\n					\n\n				\n\n\n    \n        \n                                                                    \n\n                                \n    \n\n\n\n    \n        \n                    最大68\,000マイル相当獲得可能 ANAアメックスゴールドの入会・キャンペーン詳細はこちら ポイント有効期限なし \n\n\n\nプレミアムエコノミーでハワイ往復可能なマイル。\n\n入会キャンペーンだけでこれだけもらえるのはとても魅力的。\n\n                                                 \n\n                                \n    \n\n\n\n    \n        \n                                                                    \n\n                                \n    \n\n\n\n    \n        \n                    最大18\,000マイル相当獲得可能 ANAアメックスの入会・キャンペーン詳細はこちら 無期限で貯めることが可能 \n韓国往復特典航空券に交換できるマイル数！                                                 \n\n                                \n    \n\n\n				\n					\n					\n												\n							\n																																																																															\n							\n																	ANAアメックス&ゴールドお得な入会キャンペーン！ANAマイルが無期限に貯められる\n								\n																									続きを見る \n															\n						\n					\n					\n\n				\nーーーーーーーーーーーーーーーーーーーーーーー\n【キャンペーン名】\nANAアメックス新規入会キャンペーン\n【キャンペーン期間】\n2025年2月5日～5月13日\nーーーーーーーーーーーーーーーーーーーーーーー
URL:https://tabi-mile.com/campaign_calendar/ana-amex-20250513/
CATEGORIES:クレジットカード
ATTACH;FMTTYPE=image/png:https://tabi-mile.com/wp-content/uploads/2025/04/cdc87f23241ecec14ba024a26e8794ea.png
END:VEVENT
BEGIN:VEVENT
DTSTART;VALUE=DATE:20250216
DTEND;VALUE=DATE:20250501
DTSTAMP:20260423T200350
CREATED:20250430T025127Z
LAST-MODIFIED:20250501T205511Z
UID:66106-1739664000-1746057599@tabi-mile.com
SUMMARY:ANA JCB期間限定新規入会キャンペーン
DESCRIPTION:ANA JCB新規入会で最大116\,000マイル相当プレゼント！ \nANA JCBカードの詳細は「ANA JCBカード最新入会キャンペーン！ANA JCBカードのメリット・デメリット、券種比較まとめ」へ。 \n\n				\n					\n					\n												\n							\n																																																																															\n							\n																	ANA JCBカード最新入会キャンペーン！ANA JCBカードのメリット・デメリット、券種比較まとめ\n								\n																									続きを見る \n															\n						\n					\n					\n\n				\nーーーーーーーーーーーーーーーーーーーーーーー\n【キャンペーン名】\nANA JCB新規入会キャンペーン\n【キャンペーン期間】\n2025年2月16日～4月30日\nーーーーーーーーーーーーーーーーーーーーーーー \n\n\n    \n        \n                    ANA JCBカードの最新入会キャンペーンは、新規入会で最大125\,300マイルプレゼント\n\nキャンペーンの詳細はこちら↓\n\n最大125\,300マイルプレゼント（一部抽選あり） ANA JCBカードの入会・キャンペーン詳細はこちら プレミアムは2026年5月31日まで！ \n\n※キャンペーンの詳細は、公式ホームページにてご確認ください。
URL:https://tabi-mile.com/campaign_calendar/ana-jcb%e2%80%90202502/
CATEGORIES:クレジットカード
ATTACH;FMTTYPE=image/png:https://tabi-mile.com/wp-content/uploads/2025/04/d99c3cc5c635673369c43935dff62a8b.png
END:VEVENT
BEGIN:VEVENT
DTSTART;VALUE=DATE:20250401
DTEND;VALUE=DATE:20250501
DTSTAMP:20260423T200350
CREATED:20250430T081313Z
LAST-MODIFIED:20250507T065652Z
UID:66174-1743465600-1746057599@tabi-mile.com
SUMMARY:ダイナースクラブカード新規入会キャンペーン
DESCRIPTION:ダイナースクラブカードで初年度年会費無料キャンペーン好評で延長実施中。 \n期間限定で初年度年会費無料キャンペーン実施中（24\,200円（税込）相当）！\n家族カードの初年度年会費（5\,500円（税込）相当）も無料になるため、とてもお得にダイナースクラブカードを持つチャンス \n初年度年会費無料 ダイナースクラブカードの入会はこちら 2025年4月30日までの期間限定 \nーーーーーーーーーーーーーーーーーーーーーーー\n【キャンペーン名】\nダイナースクラブ新規入会キャンペーン\n【キャンペーン期間】\n2025年1月6日～4月30日\nーーーーーーーーーーーーーーーーーーーーーーー \nダイナースクラブカードの詳細は、「ダイナースクラブカードの入会キャンペーン！特典満載カードのメリット・デメリットまとめ」へ。 \n\n				\n					\n					\n												\n							\n																																																																															\n							\n																	ダイナースクラブカードの入会キャンペーン！特典満載カードのメリット・デメリットまとめ\n								\n																									続きを見る
URL:https://tabi-mile.com/campaign_calendar/diners-202501/
CATEGORIES:クレジットカード
ATTACH;FMTTYPE=image/png:https://tabi-mile.com/wp-content/uploads/2025/04/706823fe1fcaa31ae67026451b694a05.png
END:VEVENT
BEGIN:VEVENT
DTSTART;VALUE=DATE:20250416
DTEND;VALUE=DATE:20250621
DTSTAMP:20260423T200350
CREATED:20250430T061953Z
LAST-MODIFIED:20250521T014559Z
UID:66133-1744761600-1750463999@tabi-mile.com
SUMMARY:JALカード新規入会キャンペーン
DESCRIPTION:JALカードの期間限定入会キャンペーン実施中。 \n今回の入会キャンペーンは、提携ブランドごとに獲得できるマイルが異なるキャンペーンで、VISAが一番オススメ。 \n\n\n    \n        \n                    日々の生活でJALマイルを貯めるなら JALカードの入会・キャンペーン詳細はこちら 普通カードは初年度年会費無料 \n                                                \n\n                                \n    \n\nJALカードキャンペーンについては、「JALカード入会キャンペーンまとめ！JALマイルを貯めるならJALカードは必須！4つのメリット」で詳しく解説しています。 \n\n				\n					\n					\n												\n							\n																																																																															\n							\n																	【2025年12月版】JALカード入会キャンペーンまとめ！JALマイルを貯めるならJALカードは必須！4つのメリット\n								\n																									続きを見る \n															\n						\n					\n					\n\n				\nーーーーーーーーーーーーーーーーーーーーーーー\n【キャンペーン名】\nJALカード新規入会キャンペーン\n【キャンペーン期間】\n2025年4月16日～6月20日\nーーーーーーーーーーーーーーーーーーーーーーー
URL:https://tabi-mile.com/campaign_calendar/jalcard_202504/
CATEGORIES:クレジットカード
ATTACH;FMTTYPE=image/png:https://tabi-mile.com/wp-content/uploads/2025/04/b799c6b490301a8c4a317beca35adbd0.png
END:VEVENT
BEGIN:VEVENT
DTSTART;VALUE=DATE:20250430
DTEND;VALUE=DATE:20250916
DTSTAMP:20260423T200350
CREATED:20250501T062749Z
LAST-MODIFIED:20250501T062853Z
UID:66183-1745971200-1757980799@tabi-mile.com
SUMMARY:ヒルトンアメックスにヒルトン利用でキャッシュバックキャンペーン
DESCRIPTION:ヒルトンアメックス&ヒルトンアメックスプレミアムにヒルトン利用で15\,000円キャッシュバック！ \n事前にアメックスオンラインで登録し、合計8万円以上で15\,000円キャッシュバックされます（期間中の支払い累計でOK）。 \n事前登録が先着3万人限定なので、事前登録はお早めに。（利用期間は6月10日からなので注意） \nーーーーーーーーーーーーーーーーーーーーーーー\n【キャンペーン名】\nヒルトンアメックスにヒルトン利用でキャッシュバックキャンペーン（要ログイン）\n【キャンペーン期間】\n登録期間：2025年4月30日～2025年9月15日（先着順なので早期終了あり）\n利用期間：2025年6月10日～2025年9月15日\nーーーーーーーーーーーーーーーーーーーーーーー \nヒルトンアメックス&ヒルトンアメックスプレミアムお得な入会キャンペーン！ゴールドステータスで朝食無料&無料宿泊特典も
URL:https://tabi-mile.com/campaign_calendar/hilton-amex-cashback202505/
CATEGORIES:クレジットカード,ホテル
ATTACH;FMTTYPE=image/png:https://tabi-mile.com/wp-content/uploads/2025/05/5d97ff9b14c985c234b7684317f5da79.png
END:VEVENT
END:VCALENDAR