BEGIN:VCALENDAR
VERSION:2.0
PRODID:-//旅マイル - ECPv6.15.20//NONSGML v1.0//EN
CALSCALE:GREGORIAN
METHOD:PUBLISH
X-WR-CALNAME:旅マイル
X-ORIGINAL-URL:https://tabi-mile.com
X-WR-CALDESC:旅マイル のイベント
REFRESH-INTERVAL;VALUE=DURATION:PT1H
X-Robots-Tag:noindex
X-PUBLISHED-TTL:PT1H
BEGIN:VTIMEZONE
TZID:Asia/Tokyo
BEGIN:STANDARD
TZOFFSETFROM:+0900
TZOFFSETTO:+0900
TZNAME:JST
DTSTART:20240101T000000
END:STANDARD
END:VTIMEZONE
BEGIN:VEVENT
DTSTART;VALUE=DATE:20250715
DTEND;VALUE=DATE:20260201
DTSTAMP:20260423T045731
CREATED:20250718T063443Z
LAST-MODIFIED:20250718T072831Z
UID:67743-1752537600-1769903999@tabi-mile.com
SUMMARY:JCB【最大3万円キャッシュバック】シンガポール航空を使うと現地利用がおトクに！
DESCRIPTION:シンガポール航空で航空券を購入したJCBカードをシンガポールで利用すると、シンガポールでのご利用金額の30％をキャッシュバック！（上限：3万円） \nこのキャンペーンは全てのJCBブランドではなく、オリジナルシリーズのJCBカードのみ対象。 \n参加登録期間：2024年7月15日から。\nーーーーーーーーーーーーーーーーーーーーーーー\n【キャンペーン名】\nJCB【最大3万円キャッシュバック】シンガポール航空を使うと現地利用がおトクに！\n【キャンペーン期間】\n2025年7月15日（火）～2026年1月31日（土）\nーーーーーーーーーーーーーーーーーーーーーーー
URL:https://tabi-mile.com/campaign_calendar/jcb-singapore-airlines-sale-202507/
CATEGORIES:クレジットカード,エアライン
ATTACH;FMTTYPE=image/jpeg:https://tabi-mile.com/wp-content/uploads/2025/07/f3487be639d64f099e4cef580bbec985.jpg
END:VEVENT
BEGIN:VEVENT
DTSTART;VALUE=DATE:20250827
DTEND;VALUE=DATE:20260401
DTSTAMP:20260423T045731
CREATED:20250827T124346Z
LAST-MODIFIED:20250827T124538Z
UID:68424-1756252800-1775001599@tabi-mile.com
SUMMARY:アメックス会員向けプリンスギャラリー東京紀尾井町ハッピーアワー特典
DESCRIPTION:ザ・プリンスギャラリー 東京紀尾井町ラグジュアリーコレクションホテルで、対象のアメックス会員はカクテルラウンジバーで、ハッピーアワーを利用できます。 \n17時～19時の来店が対象。 \n料金もお得な価格で、一休レストランよりも安いです。 \n \n＜土曜日以外の全日が対象のカード＞ \nプラチナ・カード®会員\nANAアメリカン・エキスプレス®・プレミアム・カード会員\nアメリカン・エキスプレス®・ビジネス・プラチナ・カード会員 \n＜月曜日～木曜日が対象のカード＞ \nアメリカン・エキスプレス®・ゴールド・プリファード・カード会員\nアメリカン・エキスプレス®・ゴールド・カード会員\nアメリカン・エキスプレス®・ビジネス・ゴールド・カード会員 \nどちらも家族カード・追加カードの場合は本特典の対象外 \n＜ご利用方法＞\nご来店時に「ハッピーアワーを見た」とお伝えいただき、対象のアメリカン・エキスプレスカードをご提示&決済 \nーーーーーーーーーーーーーーーーーーーーーーー\n【キャンペーン名】\nアメックス会員向けプリンスギャラリー東京紀尾井町ハッピーアワー特典\n【キャンペーン期間】\n2026年3月31日(火)まで\nーーーーーーーーーーーーーーーーーーーーーーー
URL:https://tabi-mile.com/campaign_calendar/amex-prince-202508/
CATEGORIES:クレジットカード
ATTACH;FMTTYPE=image/jpeg:https://tabi-mile.com/wp-content/uploads/2025/08/eac60a090499deecf69589908c242b77.jpg
END:VEVENT
BEGIN:VEVENT
DTSTART;VALUE=DATE:20250902
DTEND;VALUE=DATE:20260501
DTSTAMP:20260423T045731
CREATED:20250906T152407Z
LAST-MODIFIED:20250906T152407Z
UID:68775-1756771200-1777593599@tabi-mile.com
SUMMARY:アメックスオファー 楽天トラベル 2％キャッシュバックキャンペーン
DESCRIPTION:楽天トラベルでアメックスのキャッシュバックキャンペーンがスタート！ \n事前登録のうえ、2026年4月30日までに楽天トラベルの対象旅行商品・ウェブサイトでアメックスカードを使えば、利用額の2％がキャッシュバックされます。 \n還元上限は期間中合計3\,000\,000円。 \n2%とわずかですが、キャンペーン期間が長いので、よく楽天トラベルを利用するならチリツモで大きいです。 \nーーーーーーーーーーーーーーーーーーーーーーー\n【キャンペーン名】\nアメックスオファー 楽天トラベル 2％キャッシュバックキャンペーン\n【キャンペーン期間】\n2025年9月2日～2026年4月30日\n【概要】\n・事前登録（先着500\,000名）が必要\n・日本国内の楽天トラベルWebサイトで、アメックスカード決済された利用額の2％キャッシュバック（最大3\,000\,000円まで）\n・家族カード・追加カードも登録可能\n・現地決済、対象外旅行商品、はとバスツアー、楽天ペイ・QUICPay・他事業者経由決済は対象外\n・キャッシュバックは15営業日～最大90日後付与、カード明細付与日で判定\nーーーーーーーーーーーーーーーーーーーーーーー
URL:https://tabi-mile.com/campaign_calendar/rakuten-travel-amex-cashback-202509/
CATEGORIES:クレジットカード
ATTACH;FMTTYPE=image/jpeg:https://tabi-mile.com/wp-content/uploads/2025/09/a4793fcfd5452362bf796b81591b96d0.jpg
END:VEVENT
BEGIN:VEVENT
DTSTART;VALUE=DATE:20250904
DTEND;VALUE=DATE:20260216
DTSTAMP:20260423T045731
CREATED:20250906T152944Z
LAST-MODIFIED:20250906T153106Z
UID:68779-1756944000-1771199999@tabi-mile.com
SUMMARY:ユニバーサル・スタジオ・ジャパン ハロウィーン JCBカードキャンペーン
DESCRIPTION:JCBカードで、ユニバーサル・スタジオ・ジャパン（USJ）2026年のハロウィン初日貸切が当たるキャンペーン。 \n事前エントリーをしたうえで、キャンペーン期間中にJCBカードご利用合計金額1万円（税込）を1口として、抽選！ \nJCBマークの付いているカードを使えば使うほど当選の確率がアップ。 \n現時点で開催日は未定。 \nーーーーーーーーーーーーーーーーーーーーーーー\n【キャンペーン名】\nユニバーサル・スタジオ・ジャパン ハロウィーン JCBカードキャンペーン\n【キャンペーン期間】\n2025年9月4日（木）～2026年2月15日（日）\nーーーーーーーーーーーーーーーーーーーーーーー
URL:https://tabi-mile.com/campaign_calendar/usj-halloween-jcb-202509/
CATEGORIES:クレジットカード
ATTACH;FMTTYPE=image/jpeg:https://tabi-mile.com/wp-content/uploads/2025/09/a678ff6d57d39322112ebe904a72ea45.jpg
END:VEVENT
BEGIN:VEVENT
DTSTART;VALUE=DATE:20251001
DTEND;VALUE=DATE:20260401
DTSTAMP:20260423T045731
CREATED:20251001T065831Z
LAST-MODIFIED:20251001T065831Z
UID:69222-1759276800-1775001599@tabi-mile.com
SUMMARY:ANAダイナース期間限定入会キャンペーンで最大122\,000マイル！
DESCRIPTION:ANAダイナースの新規入会キャンペーンがすごい！ \nなんと最大122\,000マイル獲得のチャンス。 \n\n新規入会で2\,000マイル\n入会後3ヶ月以内に80万円利用で21\,000ポイント\n入会後3ヶ月以内に180万円利用でさらに29\,000ポイント\n入会後3ヶ月以内に180万円利用でさらに50\,000マイル\nビジネス・アカウントカード入会で2\,000ポイント\n180万円分の通常利用ポイントで18\,000ポイント\n合計で122\,000マイル相当\n\n一応Bコースの年会費半額キャッシュバック&最大72\,000マイルキャンペーンも選べますが、確実にAコースの122\,000マイル相当のほうがお得です。 \nーーーーーーーーーーーーーーーーーーーーーーー\n【キャンペーン名】\nANAダイナース期間限定入会キャンペーンで最大122\,000マイル！\n【キャンペーン期間】\n2025年10月1日（水）～2026年3月31日（火）\nーーーーーーーーーーーーーーーーーーーーーーー \n\n				\n					\n					\n												\n							\n																																																																															\n							\n																	ANAダイナースクラブカードの入会キャンペーン！ANAマイルが一番貯まるANAカード！\n								\n																									続きを見る
URL:https://tabi-mile.com/campaign_calendar/ana-diners-camp-202510/
CATEGORIES:クレジットカード
ATTACH;FMTTYPE=image/jpeg:https://tabi-mile.com/wp-content/uploads/2025/10/85c10ab50b484eba76b8aacb8a406ef4.jpg
END:VEVENT
BEGIN:VEVENT
DTSTART;VALUE=DATE:20251001
DTEND;VALUE=DATE:20260113
DTSTAMP:20260423T045731
CREATED:20251001T071309Z
LAST-MODIFIED:20251001T071309Z
UID:69229-1759276800-1768262399@tabi-mile.com
SUMMARY:JCBプラチナ&JCBゴールド期間限定新規入会キャンペーン
DESCRIPTION:JCBプラチナとJCBゴールドで期間限定新規入会キャンペーンがスタート。 \nJCBプラチナは、最大89\,500円キャッシュバック。 \nJCBゴールドは、最大45\,000円キャッシュバック。 \nJCBゴールド以上なら、「JCB Premium Stay Powered by HoteLux」の新特典が2025年10月からスタート予定！ \n通常年会費5万円以上かかる会員制高級ホテル予約アプリHoteLuxが、JCBゴールド年会費11\,000円から使えてしまうので、一気にJCBゴールドの価値アップします。 \nーーーーーーーーーーーーーーーーーーーーーーー\n【キャンペーン名】\nJCBプラチナ期間限定新規入会キャンペーン\nJCBゴールド期間限定新規入会キャンペーン\n【キャンペーン期間】\n2025年10月1日～2026年1月12日\nーーーーーーーーーーーーーーーーーーーーーーー \n\n				\n					\n					\n												\n							\n																																																																															\n							\n																	JCBオリジナルシリーズ期間限定キャンペーン\n								\n																									続きを見る
URL:https://tabi-mile.com/campaign_calendar/jcb-camp-202510/
CATEGORIES:クレジットカード
ATTACH;FMTTYPE=image/jpeg:https://tabi-mile.com/wp-content/uploads/2025/10/0aed945103bcffa1ef28b951c8c7d002.jpg
END:VEVENT
BEGIN:VEVENT
DTSTART;VALUE=DATE:20251001
DTEND;VALUE=DATE:20260113
DTSTAMP:20260423T045731
CREATED:20251003T044619Z
LAST-MODIFIED:20251003T044619Z
UID:69266-1759276800-1768262399@tabi-mile.com
SUMMARY:JCBオリジナルシリーズ家族カード作成で最大4\,000円キャッシュバック！
DESCRIPTION:JCBオリジナルシリーズの家族カードを作成し、1回以上利用すると、最大4\,000円キャッシュバックキャンペーン。 \n家族カードを作るなら、今がチャンス。 \nなお、キャンペーン参加登録が必須なので、まずは参加登録を。 \n＜キャッシュバック金額＞\n家族1名様につき、2\,000円\n・JCBザ・クラス\n・JCBプラチナ\n・JCBゴールド\n・JCBゴールド ザ・プレミア\n・JCB カード W\n・JCB カード W plus L \n※本会員1名様につき最大2名様の家族カードが対象です。 \n家族1名様、1\,000円\n・JCB カード S \n※JCB カード Sは、家族カード1名様が対象です。 \nーーーーーーーーーーーーーーーーーーーーーーー\n【キャンペーン名】\nJCBオリジナルシリーズ家族カード作成で最大4\,000円キャッシュバック！\n【キャンペーン期間】\n2025年10月1日（水）～2026年1月12日（月・祝）\nーーーーーーーーーーーーーーーーーーーーーーー
URL:https://tabi-mile.com/campaign_calendar/jcb-familiy-card-202510/
CATEGORIES:クレジットカード
ATTACH;FMTTYPE=image/jpeg:https://tabi-mile.com/wp-content/uploads/2025/10/8440e49f687307bb61bdb88dceb785a1.jpg
END:VEVENT
BEGIN:VEVENT
DTSTART;VALUE=DATE:20251101
DTEND;VALUE=DATE:20260106
DTSTAMP:20260423T045731
CREATED:20251010T093630Z
LAST-MODIFIED:20251010T093921Z
UID:69306-1761955200-1767657599@tabi-mile.com
SUMMARY:dポイント交換でdポイント10%増量
DESCRIPTION:他社ポイントからdポイントに交換すると10%増量する恒例キャンペーンが2025年11月1日～2026年1月5日まで実施！ \nエントリー必須なで、10月9日から事前エントリーはできるので、とりあえず忘れないうちにエントリーを。 \nーーーーーーーーーーーーーーーーーーーーーーー\n【キャンペーン名】\ndポイント交換でdポイント10%増量\n【キャンペーン期間】\n2025年11月1日～2026年1月5日\nーーーーーーーーーーーーーーーーーーーーーーー
URL:https://tabi-mile.com/campaign_calendar/d-points-camp-202510/
CATEGORIES:クレジットカード
ATTACH;FMTTYPE=image/jpeg:https://tabi-mile.com/wp-content/uploads/2025/10/f867526a61e2c154202cefce92c3b5b7.jpg
END:VEVENT
BEGIN:VEVENT
DTSTART;VALUE=DATE:20260115
DTEND;VALUE=DATE:20260415
DTSTAMP:20260423T045731
CREATED:20260115T074949Z
LAST-MODIFIED:20260128T142206Z
UID:69616-1768435200-1776211199@tabi-mile.com
SUMMARY:【期間限定】マリオットアメックス大型の新規入会キャンペーン
DESCRIPTION:マリオットアメックス&マリオットアメックスプレミアムの期間限定新規入会キャンペーンがスタート！ \nリニューアル以来の大型キャンペーン。 \nマリオットアメックスは、最大55\,000ポイント獲得可能。 \nマリオットアメックスプレミアムは、最大115\,000ポイント獲得可能。 \nキャンペーン達成条件は、こんな感じ。 \n【マリオットアメックス】 \n\n入会後3ヶ月以内に30万円以上の利用\n5\,000ポイント\n入会後6ヶ月以内に50万円以上の利用\n10\,000ポイント\n入会後6ヶ月以内に100万円以上の利用\n20\,000ポイント\n合計100万円以上の利用で通常ポイント\n20\,000ポイント\n合計55\,000ポイント\n\n【マリオットアメックスプレミアム】 \n\n入会後3ヶ月以内に30万円以上の利用\n5\,000ポイント\n入会後6ヶ月以内に100万円以上の利用\n20\,000ポイント\n入会後6ヶ月以内に150万円以上の利用\n40\,000ポイント\n合計100万円以上の利用で通常ポイント\n45\,000ポイント\n合計115\,000ポイント\n\nーーーーーーーーーーーーーーーーーーーーーーー\n【キャンペーン名】\nマリオットアメックス新規入会キャンペーン\nマリオットアメックスプレミアム新規入会キャンペーン\n【キャンペーン期間】\n2026年1月15日～4月14日\nーーーーーーーーーーーーーーーーーーーーーーー \nマリオットアメックスについてはこちらの記事で詳しく解説しています。 \n\n				\n					\n					\n												\n							\n																																																																															\n							\n																	マリオットボンヴォイアメックス入会キャンペーン！JAL・ANAマイルが無期限に＆ホテルでVIP待遇\n								\n																									続きを見る
URL:https://tabi-mile.com/campaign_calendar/marriott-amex-camp-202601/
CATEGORIES:クレジットカード
ATTACH;FMTTYPE=image/jpeg:https://tabi-mile.com/wp-content/uploads/2026/01/1e7d7ca7337e9bf92b456706160bd976.jpg
END:VEVENT
END:VCALENDAR