BEGIN:VCALENDAR
VERSION:2.0
PRODID:-//旅マイル - ECPv6.15.20//NONSGML v1.0//EN
CALSCALE:GREGORIAN
METHOD:PUBLISH
X-WR-CALNAME:旅マイル
X-ORIGINAL-URL:https://tabi-mile.com
X-WR-CALDESC:旅マイル のイベント
REFRESH-INTERVAL;VALUE=DURATION:PT1H
X-Robots-Tag:noindex
X-PUBLISHED-TTL:PT1H
BEGIN:VTIMEZONE
TZID:Asia/Tokyo
BEGIN:STANDARD
TZOFFSETFROM:+0900
TZOFFSETTO:+0900
TZNAME:JST
DTSTART:20240101T000000
END:STANDARD
END:VTIMEZONE
BEGIN:VEVENT
DTSTART;VALUE=DATE:20250606
DTEND;VALUE=DATE:20250614
DTSTAMP:20260422T001503
CREATED:20250607T010254Z
LAST-MODIFIED:20250607T010254Z
UID:67012-1749168000-1749859199@tabi-mile.com
SUMMARY:IHGポイント購入100%ボーナスキャンペーン
DESCRIPTION:期間限定で、IHG One Rewardsポイントの購入で100%ボーナスポイントが獲得できます！ \n5\,000ポイント以上の購入が対象。 \nーーーーーーーーーーーーーーーーーーーーーーー\n【キャンペーン名】\nIHGポイント購入100%ボーナスキャンペーン\n【キャンペーン期間】\n2025年6月6日（金）0:00 ～ 6月13日（金）23:59（米国東部時間）\nーーーーーーーーーーーーーーーーーーーーーーー
URL:https://tabi-mile.com/campaign_calendar/ihg-points-sale-202506/
CATEGORIES:ホテル
ATTACH;FMTTYPE=image/jpeg:https://tabi-mile.com/wp-content/uploads/2025/06/80385c589f53e9e5d164ae8ee7fd4c1b.jpg
END:VEVENT
BEGIN:VEVENT
DTSTART;VALUE=DATE:20250602
DTEND;VALUE=DATE:20250624
DTSTAMP:20260422T001503
CREATED:20250523T010748Z
LAST-MODIFIED:20250523T010748Z
UID:66804-1748822400-1750723199@tabi-mile.com
SUMMARY:楽天ポイント x アコーポイントボーナスオファー
DESCRIPTION:楽天ポイントからアコーホテルのポイントに移行で20%ボーナス。 \n3\,200楽天ポイント→1\,000アコーポイントで20%ボーナスを加算。 \n逆に、アコーポイントを楽天ポイントへの移行も20%ボーナス。 \n2\,000アコーポイント→1\,600楽天ポイントで20%ボーナスを加算。 \nーーーーーーーーーーーーーーーーーーーーーーー\n【キャンペーン名】\n楽天ポイント x アコーポイントボーナスオファー\n【キャンペーン期間】\n2025年6月2日から6月23日\nーーーーーーーーーーーーーーーーーーーーーーー
URL:https://tabi-mile.com/campaign_calendar/rakuten-accor-points-202505/
CATEGORIES:ホテル
ATTACH;FMTTYPE=image/jpeg:https://tabi-mile.com/wp-content/uploads/2025/05/3c57080c45cfc652a42461b844baa80f.jpg
END:VEVENT
BEGIN:VEVENT
DTSTART;VALUE=DATE:20250516
DTEND;VALUE=DATE:20250531
DTSTAMP:20260422T001503
CREATED:20250513T233310Z
LAST-MODIFIED:20250513T233310Z
UID:66447-1747353600-1748649599@tabi-mile.com
SUMMARY:プリンスホテル タイムセール
DESCRIPTION:プリンスホテルでタイムセール。 \nまだキャンペーン開始前なので詳細は不明ですが、全国のプリンスホテルがセール対象。 \n7月18日から2026年1月31日までの宿泊が対象で、夏休み&年末年始も対象！ \nーーーーーーーーーーーーーーーーーーーーーーー\n【キャンペーン名】\nプリンスホテル タイムセール\n【キャンペーン期間】\n2025年5月16日（金）12:00NOON～30日（金）12:00NOON\n※非会員は5月19日（月）12:00NOONより\n【宿泊対象期間】\n2025年7月18日（金）～2026年1月31日（土）\nーーーーーーーーーーーーーーーーーーーーーーー
URL:https://tabi-mile.com/campaign_calendar/princehotels-taimesale/
CATEGORIES:ホテル
ATTACH;FMTTYPE=image/jpeg:https://tabi-mile.com/wp-content/uploads/2025/05/d39c90dc273c318d4267124d0134cc57.jpg
END:VEVENT
BEGIN:VEVENT
DTSTART;VALUE=DATE:20250513
DTEND;VALUE=DATE:20250621
DTSTAMP:20260422T001503
CREATED:20250515T003019Z
LAST-MODIFIED:20250515T003711Z
UID:66465-1747094400-1750463999@tabi-mile.com
SUMMARY:リーダーズクラブポイント購入最大100%ボーナス
DESCRIPTION:リーダーズクラブでポイント購入キャンペーン。 \n30\,000ポイント以上購入（3\,600米ドル。約54万円）で100%ボーナス。 \nキャンペーン適用で、1ポイント9円で買える形です。 \nリーダーズクラブのポイントは約9円前後の価値。 \n例えばハレクラニ沖縄で使う場合、1泊91\,800円の部屋を8\,733ポイントで泊まれます。（1ポイント=10円の価値）。 \nちょっとお得ですが、100%ボーナスの適用される金額が大きいので、使う予定があればお得といったところです。 \nーーーーーーーーーーーーーーーーーーーーーーー\n【キャンペーン名】\nリーダーズクラブポイント購入最大100%ボーナス\n【キャンペーン期間】\n2025年5月13日～6月20日\nーーーーーーーーーーーーーーーーーーーーーーー \nリーダーズクラブとは？年会費無料なのにハレクラニや帝国ホテルなどで朝食無料や客室アップグレードが受けられる神プログラム
URL:https://tabi-mile.com/campaign_calendar/lhw-points-sale-202505/
CATEGORIES:ホテル
ATTACH;FMTTYPE=image/jpeg:https://tabi-mile.com/wp-content/uploads/2025/05/d99e3af05a025848a91eb867a4936f30.jpg
END:VEVENT
BEGIN:VEVENT
DTSTART;VALUE=DATE:20250508
DTEND;VALUE=DATE:20250522
DTSTAMP:20260422T001503
CREATED:20250509T021429Z
LAST-MODIFIED:20250509T021429Z
UID:66337-1746662400-1747871999@tabi-mile.com
SUMMARY:IHGポイント購入100%ボーナス
DESCRIPTION:IHGのポイント購入で100%ボーナス。 \n5\,000ポイント以上購入（67.5USD）で100%ボーナスが適用されます。 \n年間最大200\,000ポイント購入可能。 \nボーナスポイントはエリートステータスにカウントされません。 \n人によってキャンペーン内容は異なり、100%ボーナスの場合のみ購入を検討する価値あり。 \n定期的にポイント購入キャンペーンを実施しているので、100%未満のボーナスの場合は、より良いセールを待つことを推奨。 \n \nーーーーーーーーーーーーーーーーーーーーーーー\n【キャンペーン名】\nIHGポイント購入100%ボーナス\n【キャンペーン期間】\n2025年5月8日～5月22日\nーーーーーーーーーーーーーーーーーーーーーーー
URL:https://tabi-mile.com/campaign_calendar/ihg-pointssale-202505/
CATEGORIES:ホテル
ATTACH;FMTTYPE=image/jpeg:https://tabi-mile.com/wp-content/uploads/2025/05/f306825224e73f0d77c4f87d36e4e9e3.jpg
END:VEVENT
BEGIN:VEVENT
DTSTART;VALUE=DATE:20250508
DTEND;VALUE=DATE:20250522
DTSTAMP:20260422T001503
CREATED:20250512T075719Z
LAST-MODIFIED:20250512T075719Z
UID:66390-1746662400-1747871999@tabi-mile.com
SUMMARY:IHG最大30%オフ
DESCRIPTION:2週間限定でIHG最大30%オフ！ \n12月18日までの滞在が対象で、オーストラリア、ニュージーランド、日本、韓国など対象のIHGホテルズ＆リゾーツのご滞在が最大30%オフになります。 \nーーーーーーーーーーーーーーーーーーーーーーー\n【キャンペーン名】\nIHG最大30%オフ\n【キャンペーン期間】\n予約期間：2025年5月8日～5月21日\n宿泊期間：2025年5月11日～12月18日\nーーーーーーーーーーーーーーーーーーーーーーー
URL:https://tabi-mile.com/campaign_calendar/ihg%e6%9c%80%e5%a4%a730%e3%82%aa%e3%83%95/
CATEGORIES:ホテル
ATTACH;FMTTYPE=image/jpeg:https://tabi-mile.com/wp-content/uploads/2025/05/0f2178bd1a66c33847cb62c0936ff32d.jpg
END:VEVENT
BEGIN:VEVENT
DTSTART;VALUE=DATE:20250507
DTEND;VALUE=DATE:20250610
DTSTAMP:20260422T001503
CREATED:20250501T061228Z
LAST-MODIFIED:20250501T061228Z
UID:66180-1746576000-1749513599@tabi-mile.com
SUMMARY:ハイアット_アジア太平洋地域でご滞在が最大20%オフ
DESCRIPTION:ハイアットがアジア太平洋地域限定で、最大20%オフのセール開催。 \n非会員は最大15%オフ、ワールドオブハイアット会員は最大20%オフなので、会員が更にお得です。 \nーーーーーーーーーーーーーーーーーーーーーーー\n【キャンペーン名】\nハイアット_アジア太平洋地域でご滞在が最大20%オフ\n【キャンペーン期間】\n予約期間：2025年5月7日～6月9日\n宿泊期間：2025年5月8日～10月31日\nーーーーーーーーーーーーーーーーーーーーーーー
URL:https://tabi-mile.com/campaign_calendar/hyatt-sale-202505/
CATEGORIES:ホテル
ATTACH;FMTTYPE=image/png:https://tabi-mile.com/wp-content/uploads/2025/05/0126ed5254feff98449ca6452f7d346e.png
END:VEVENT
BEGIN:VEVENT
DTSTART;VALUE=DATE:20250429
DTEND;VALUE=DATE:20250505
DTSTAMP:20260422T001503
CREATED:20250502T023252Z
LAST-MODIFIED:20250512T080015Z
UID:66243-1745884800-1746403199@tabi-mile.com
SUMMARY:IHG会員限定オファーで最大30%割引
DESCRIPTION:IHGでセール。\n南北アメリカ大陸各地の参加ブランドで25%または30%割引。その他の世界の目的地では30%割引。\n3日前までに予約が必要で、チェックイン日の7日以内にキャンセルした場合は1泊分のキャンセル料がかかるので注意。\nーーーーーーーーーーーーーーーーーーーーーーー\n【キャンペーン名】\nIHG会員限定オファーで最大30%割引\n【キャンペーン期間】\n予約期間：2025年4月29日～5月4日\n滞在期間：5月3日～6月30日\nーーーーーーーーーーーーーーーーーーーーーーー
URL:https://tabi-mile.com/campaign_calendar/ihg-sale-202505/
CATEGORIES:ホテル
ATTACH;FMTTYPE=image/png:https://tabi-mile.com/wp-content/uploads/2025/05/52293d4099393f250b2dfd9b1c09d2fc.png
END:VEVENT
BEGIN:VEVENT
DTSTART;VALUE=DATE:20250408
DTEND;VALUE=DATE:20250530
DTSTAMP:20260422T001503
CREATED:20250430T030040Z
LAST-MODIFIED:20250430T070203Z
UID:66110-1744070400-1748563199@tabi-mile.com
SUMMARY:ヒルトンポイント購入100%ボーナス
DESCRIPTION:ヒルトンのポイント購入最大100%のボーナス。 \n5\,000ポイント以上購入でキャンペーン適用。 \n\n\n\n\n\n宿泊費が高騰しているので、ポイントの価値アップ中で高いホテルほどポイント購入して宿泊したほうがオトクなケースが多いです。 \n\n\n\nーーーーーーーーーーーーーーーーーーーーーーー【キャンペーン名】ヒルトンポイント購入最大100%ボーナス 【キャンペーン期間】2025年5月29日までーーーーーーーーーーーーーーーーーーーーーーー \n\nヒルトンアメックス&ヒルトンアメックスプレミアムお得な入会キャンペーン！ゴールドステータスで朝食無料&無料宿泊特典も
URL:https://tabi-mile.com/campaign_calendar/hhonorspoints-202505/
CATEGORIES:ホテル
ATTACH;FMTTYPE=image/png:https://tabi-mile.com/wp-content/uploads/2025/04/592e4e903f357019b0748ee70e353aff-scaled.png
END:VEVENT
BEGIN:VEVENT
DTSTART;VALUE=DATE:20250101
DTEND;VALUE=DATE:20250501
DTSTAMP:20260422T001503
CREATED:20250430T071832Z
LAST-MODIFIED:20250430T071939Z
UID:66139-1735689600-1746057599@tabi-mile.com
SUMMARY:ヒルトンダブルポイントキャンペーン
DESCRIPTION:ヒルトンは2025年1月1日から4月30日まで「ご滞在でダブルポイント」キャンペーンを実施。 \n\n\n\n期間中の宿泊はポイントが2倍に。 \n\n\n\n参加には事前のエントリーが必要で、すでにエントリー可能なのでとりあえずエントリーを。 \n\n\n\nーーーーーーーーーーーーーーーーーーーーーーー 【キャンペーン名】ヒルトンダブルポイントキャンペーン 【キャンペーン期間】 2025年1月1日～4月30日ーーーーーーーーーーーーーーーーーーーーーーー \n\n				\n					\n					\n												\n							\n																																																																															\n							\n																	ヒルトン・オナーズポイントの貯め方と使い方を徹底解説！上級会員がポイントを貯めるコツ！\n								\n																									続きを見る
URL:https://tabi-mile.com/campaign_calendar/hilton-double-points-campaign-202501/
CATEGORIES:ホテル
ATTACH;FMTTYPE=image/jpeg:https://tabi-mile.com/wp-content/uploads/2024/12/7ab3813ca96da8e63cc9f8d51d7f0478.jpg
END:VEVENT
END:VCALENDAR