BEGIN:VCALENDAR
VERSION:2.0
PRODID:-//旅マイル - ECPv6.15.20//NONSGML v1.0//EN
CALSCALE:GREGORIAN
METHOD:PUBLISH
X-WR-CALNAME:旅マイル
X-ORIGINAL-URL:https://tabi-mile.com
X-WR-CALDESC:旅マイル のイベント
REFRESH-INTERVAL;VALUE=DURATION:PT1H
X-Robots-Tag:noindex
X-PUBLISHED-TTL:PT1H
BEGIN:VTIMEZONE
TZID:Asia/Tokyo
BEGIN:STANDARD
TZOFFSETFROM:+0900
TZOFFSETTO:+0900
TZNAME:JST
DTSTART:20240101T000000
END:STANDARD
END:VTIMEZONE
BEGIN:VEVENT
DTSTART;VALUE=DATE:20250430
DTEND;VALUE=DATE:20250916
DTSTAMP:20260421T175917
CREATED:20250501T062749Z
LAST-MODIFIED:20250501T062853Z
UID:66183-1745971200-1757980799@tabi-mile.com
SUMMARY:ヒルトンアメックスにヒルトン利用でキャッシュバックキャンペーン
DESCRIPTION:ヒルトンアメックス&ヒルトンアメックスプレミアムにヒルトン利用で15\,000円キャッシュバック！ \n事前にアメックスオンラインで登録し、合計8万円以上で15\,000円キャッシュバックされます（期間中の支払い累計でOK）。 \n事前登録が先着3万人限定なので、事前登録はお早めに。（利用期間は6月10日からなので注意） \nーーーーーーーーーーーーーーーーーーーーーーー\n【キャンペーン名】\nヒルトンアメックスにヒルトン利用でキャッシュバックキャンペーン（要ログイン）\n【キャンペーン期間】\n登録期間：2025年4月30日～2025年9月15日（先着順なので早期終了あり）\n利用期間：2025年6月10日～2025年9月15日\nーーーーーーーーーーーーーーーーーーーーーーー \nヒルトンアメックス&ヒルトンアメックスプレミアムお得な入会キャンペーン！ゴールドステータスで朝食無料&無料宿泊特典も
URL:https://tabi-mile.com/campaign_calendar/hilton-amex-cashback202505/
CATEGORIES:クレジットカード,ホテル
ATTACH;FMTTYPE=image/png:https://tabi-mile.com/wp-content/uploads/2025/05/5d97ff9b14c985c234b7684317f5da79.png
END:VEVENT
BEGIN:VEVENT
DTSTART;VALUE=DATE:20250623
DTEND;VALUE=DATE:20251001
DTSTAMP:20260421T175917
CREATED:20250701T013857Z
LAST-MODIFIED:20250701T013857Z
UID:67340-1750636800-1759276799@tabi-mile.com
SUMMARY:マリオット フェアフィールド･バイ･マリオット 道の駅ホテル 3\,000ボーナスポイント&2ホテル目30%オフ
DESCRIPTION:フェアフィールド･バイ･マリオット道の駅ホテルで2つの特典キャンペーン。 \n・特典1：Marriott Bonvoy 3\,000 ボーナスポイント/1泊1部屋あたり\n・特典2：周遊 2 ホテル目以降 30％OFF\n・プロモーションコード「S2449」 \n周遊2ホテル目以降30％OFFは、期間中に2ホテル以上泊まると、2ホテル目以降が30%オフになります。\n30%オフを適用するには、プロモーションコード「S2449」で宿泊した領収書が必要とのこと。 \nただ、プロモーションコード「S2449」の料金プランは最安値プランよりも2\,000～3\,000円高いので、3\,000ポイントを買う感じかな～。\n2ホテル以上泊まるなら2ホテル以降は30%オフをオフになるので、断然このプロモーションのほうが安くなります。 \nーーーーーーーーーーーーーーーーーーーーーーー\n【キャンペーン名】\nマリオット フェアフィールド･バイ･マリオット 道の駅ホテル 3\,000ボーナスポイント&2ホテル目30%オフ\n【キャンペーン期間】\n販売期間：2025/6/23～2025/9/30\n宿泊期間：2025/7/19～2025/9/30\nーーーーーーーーーーーーーーーーーーーーーーー
URL:https://tabi-mile.com/campaign_calendar/marriott-summer-sale-202507/
CATEGORIES:ホテル
ATTACH;FMTTYPE=image/jpeg:https://tabi-mile.com/wp-content/uploads/2025/07/93676136da6b3c8875dbb7b129caa54d.jpg
END:VEVENT
BEGIN:VEVENT
DTSTART;VALUE=DATE:20250701
DTEND;VALUE=DATE:20250924
DTSTAMP:20260421T175917
CREATED:20250716T074539Z
LAST-MODIFIED:20250716T074539Z
UID:67727-1751328000-1758671999@tabi-mile.com
SUMMARY:フォーポイントバイシェラトン1滞在で1\,000ポイントプレゼント
DESCRIPTION:マリオットボンヴォイのフォーポイントバイシェラトンで1滞在ごとに1\,000ポイントプレンゼントキャンペーン。 \nフォーポイントバイシェラトンは、マリオットが運営するビジネスホテル。 \nプロモーションコード「S2449」で適用できます。 \nーーーーーーーーーーーーーーーーーーーーーーー\n【キャンペーン名】\nフォーポイントバイシェラトン1滞在で1\,000ポイントプレゼント\n【キャンペーン期間】\n2025年7月1日～9月23日\nーーーーーーーーーーーーーーーーーーーーーーー
URL:https://tabi-mile.com/campaign_calendar/four-points-flex-point-202507/
CATEGORIES:ホテル
ATTACH;FMTTYPE=image/jpeg:https://tabi-mile.com/wp-content/uploads/2025/07/1b2589752392b552a9db3fafbaaea042.jpg
END:VEVENT
BEGIN:VEVENT
DTSTART;VALUE=DATE:20250701
DTEND;VALUE=DATE:20260101
DTSTAMP:20260421T175917
CREATED:20250704T080133Z
LAST-MODIFIED:20250704T080202Z
UID:67440-1751328000-1767225599@tabi-mile.com
SUMMARY:ヒルトンレストラン最大25%割引
DESCRIPTION:ヒルトンのレストラン割引「#LikeAMember」が無事延長。 \nゴールド&ダイヤモンド会員は、25%割引。 \n一般会員・シルバー会員は、10%割引。 \n登録するだけで10%割引になるので、会員になって割引を受けましょう！ \nーーーーーーーーーーーーーーーーーーーーーーー\n【キャンペーン名】\nヒルトンレストラン最大25%割引\n【キャンペーン期間】\n2025年7月1日～2025年12月31日\nーーーーーーーーーーーーーーーーーーーーーーー \nヒルトン・オナーズとは？会員特典&入会方法まとめ！ヒルトンに泊るなら年会費無料なので入らないと損ですよ！
URL:https://tabi-mile.com/campaign_calendar/hilton-likeamember202507/
CATEGORIES:ホテル
ATTACH;FMTTYPE=image/jpeg:https://tabi-mile.com/wp-content/uploads/2025/07/473d33387da52c9e85d333381c42d1b4.jpg
END:VEVENT
BEGIN:VEVENT
DTSTART;VALUE=DATE:20250805
DTEND;VALUE=DATE:20250926
DTSTAMP:20260421T175917
CREATED:20250805T154523Z
LAST-MODIFIED:20250805T154641Z
UID:68034-1754352000-1758844799@tabi-mile.com
SUMMARY:ヒルトンポイント購入100%ボーナス
DESCRIPTION:ヒルトンでポイント購入すると100%ボーナスが貰えるキャンペーンがスタート。 \n5\,000ポイント以上（7\,451円）購入すると買ったポイントと同数のポイントをボーナスで貰えます。 \nヒルトンのポイントは、1ポイン=0.5円~1.6円で利用できるので、お得かどうか見極めてからの購入がおすすめ。 \nーーーーーーーーーーーーーーーーーーーーーーー\n【キャンペーン名】\nヒルトンポイント購入100%ボーナス\n【キャンペーン期間】\n2025年8月5日午前12時（東部標準時）から2025年9月25日午後11時59分（東部標準時）\nーーーーーーーーーーーーーーーーーーーーーーー \n\n				\n					\n					\n												\n							\n																																																																															\n							\n																	ヒルトン・オナーズポイントの貯め方と使い方を徹底解説！上級会員がポイントを貯めるコツ！\n								\n																									続きを見る
URL:https://tabi-mile.com/campaign_calendar/hilton-points-buy-202508/
CATEGORIES:ホテル
ATTACH;FMTTYPE=image/jpeg:https://tabi-mile.com/wp-content/uploads/2025/08/27d729d42b3be8f3dd6cbdaa4416d8d4.jpg
END:VEVENT
BEGIN:VEVENT
DTSTART;VALUE=DATE:20250806
DTEND;VALUE=DATE:20251007
DTSTAMP:20260421T175917
CREATED:20250807T080151Z
LAST-MODIFIED:20250807T080151Z
UID:68059-1754438400-1759795199@tabi-mile.com
SUMMARY:World of Hyatt ポイント購入20%オフ
DESCRIPTION:World of Hyattのポイント購入で20%オフキャンペーン。 \n過去25%オフもあったので、今回のキャンペーンは5%ダウン。 \n3\,000ポイント以上購入でキャンペーンの対象。 \nーーーーーーーーーーーーーーーーーーーーーーー\n【キャンペーン名】\nWorld of Hyatt ポイント購入20%オフ\n【キャンペーン期間】\n2025年8月6日～2025年10月6日\nーーーーーーーーーーーーーーーーーーーーーーー
URL:https://tabi-mile.com/campaign_calendar/world-of-hyatt-points-sale-202508/
CATEGORIES:ホテル
ATTACH;FMTTYPE=image/jpeg:https://tabi-mile.com/wp-content/uploads/2025/08/7820fca8064a8d4a6e9c93e51c5fbd30.jpg
END:VEVENT
BEGIN:VEVENT
DTSTART;VALUE=DATE:20250819
DTEND;VALUE=DATE:20250919
DTSTAMP:20260421T175917
CREATED:20250819T142955Z
LAST-MODIFIED:20250819T143939Z
UID:68172-1755561600-1758239999@tabi-mile.com
SUMMARY:マリオットボンヴォイポイント購入40%ボーナス
DESCRIPTION:マリオットがボンヴォイポイントを40%ボーナス付きで販売中です。 \n2\,000ポイント以上購入（25米ドル）で40%ボーナスが付きます。 \n直近では、2025年2月に45%ボーナスの実施がありましたが、それ以外は40%ボーナスなので標準的なセール。 \nほぼ絶え間なくやっているので、必要なときに購入で問題なしです。 \n例えば47\,000ポイント購入（587.5米ドル×150円=88\,125円）すると、40%ボーナス加算で65\,800ポイント。 \n65\,000ポイントでザ・リッツ・カールトン福岡に宿泊可能。 \n有償泊だと106\,254円なので、計算上は18\,000円安く泊まれます。 \nただ、ポイント泊だと宿泊ポイントとかは獲得できなくなるので、微妙な金額差だとあまりお得ではないですね。 \nーーーーーーーーーーーーーーーーーーーーーーー\n【キャンペーン名】\nマリオットボンヴォイポイント購入40%ボーナス\n【キャンペーン期間】\n2025年8月19日22時から2025年9月18日12時59分\nーーーーーーーーーーーーーーーーーーーーーーー
URL:https://tabi-mile.com/campaign_calendar/marriott-points-sale-202508/
CATEGORIES:ホテル
ATTACH;FMTTYPE=image/jpeg:https://tabi-mile.com/wp-content/uploads/2025/08/8971363461b37192e15616476bc80e7d.jpg
END:VEVENT
BEGIN:VEVENT
DTSTART;VALUE=DATE:20250901
DTEND;VALUE=DATE:20250925
DTSTAMP:20260421T175917
CREATED:20250826T141351Z
LAST-MODIFIED:20250826T141843Z
UID:68433-1756684800-1758758399@tabi-mile.com
SUMMARY:ALL Accor x 楽天ポイント25%ボーナス
DESCRIPTION:楽天ポイントとアコーホテルでポイント交換で25%ボーナスキャンペーン。 \n\n3\,200楽天ポイント→1\,250アコーホテルポイント（25%ボーナス含む）\n2\,000アコーホテルポイント→2\,000楽天ポイント（25%ボーナス含む）\n\nーーーーーーーーーーーーーーーーーーーーーーー\n【キャンペーン名】\nALL Accor x 楽天ポイント25%ボーナス\n【キャンペーン期間】\n2025年9月1日から9月24日\nーーーーーーーーーーーーーーーーーーーーーーー
URL:https://tabi-mile.com/campaign_calendar/rakuten-accor-points-202508/
CATEGORIES:ホテル
ATTACH;FMTTYPE=image/jpeg:https://tabi-mile.com/wp-content/uploads/2025/08/93671937cc1aded762c6d5f15af64f96.jpg
END:VEVENT
BEGIN:VEVENT
DTSTART;VALUE=DATE:20250901
DTEND;VALUE=DATE:20250921
DTSTAMP:20260421T175917
CREATED:20250901T135513Z
LAST-MODIFIED:20250901T135513Z
UID:68605-1756684800-1758412799@tabi-mile.com
SUMMARY:One Harmony  秋のタイムセール
DESCRIPTION:オークラ、ニッコー、JALシティが加盟するOne Harmony で秋のタイムセール開催中。 \n最大49%オフ。 \nーーーーーーーーーーーーーーーーーーーーーーー\n【キャンペーン名】\nOne Harmony 秋のタイムセール\n【キャンペーン期間】\n2025年9月1日（月）～9月20日（土）\n【宿泊対象期間】\n2025年9月1日（月）～2025年12月31日（水）\nーーーーーーーーーーーーーーーーーーーーーーー
URL:https://tabi-mile.com/campaign_calendar/one-harmony-sale-202509/
CATEGORIES:ホテル
ATTACH;FMTTYPE=image/jpeg:https://tabi-mile.com/wp-content/uploads/2025/09/001a4c89c9f392f229f9191f2c1056cd.jpg
END:VEVENT
BEGIN:VEVENT
DTSTART;VALUE=DATE:20250901
DTEND;VALUE=DATE:20251001
DTSTAMP:20260421T175917
CREATED:20250806T140202Z
LAST-MODIFIED:20250806T140202Z
UID:68044-1756684800-1759276799@tabi-mile.com
SUMMARY:IHGダブルポイントキャンペーン
DESCRIPTION:IHG One Rewardsの無制限ダブルポイントキャンペーン。 \n2回目の滞在から2Xのボーナスポイントで、滞在ごとに獲得できます。 \nキャンペーン登録必須なので、まずは登録を。 \nーーーーーーーーーーーーーーーーーーーーーーー\n【キャンペーン名】\nIHGダブルポイントキャンペーン\n【キャンペーン期間】\n2025年9月1日から9月30日\nーーーーーーーーーーーーーーーーーーーーーーー
URL:https://tabi-mile.com/campaign_calendar/ihg-points-202508/
CATEGORIES:ホテル
ATTACH;FMTTYPE=image/jpeg:https://tabi-mile.com/wp-content/uploads/2025/08/ca042a6d1fe4f9f94b5d6bd91aed7bd9.jpg
END:VEVENT
BEGIN:VEVENT
DTSTART;VALUE=DATE:20250901
DTEND;VALUE=DATE:20251014
DTSTAMP:20260421T175917
CREATED:20250825T131612Z
LAST-MODIFIED:20250825T131612Z
UID:68391-1756684800-1760399999@tabi-mile.com
SUMMARY:IHG関西で2連泊ごとに1\,000ボーナスポイント
DESCRIPTION:大阪・京都・神戸のIHGで2連泊ごとに1\,000ボーナスプレゼントキャンペーン。 \n最大5\,000ボーナスポイントまで獲得できます。 \n要キャンペーン登録です。 \nーーーーーーーーーーーーーーーーーーーーーーー\n【キャンペーン名】\nIHG関西で2連泊ごとに1\,000ボーナスポイント\n【キャンペーン期間】\n2025年9月1日〜10月13日\nーーーーーーーーーーーーーーーーーーーーーーー
URL:https://tabi-mile.com/campaign_calendar/ihg-kansai-bouns-202508/
CATEGORIES:ホテル
ATTACH;FMTTYPE=image/jpeg:https://tabi-mile.com/wp-content/uploads/2025/08/aa784c5d9590cfa7c41e294a700c1e14.jpg
END:VEVENT
BEGIN:VEVENT
DTSTART;VALUE=DATE:20250901
DTEND;VALUE=DATE:20251101
DTSTAMP:20260421T175917
CREATED:20250828T145626Z
LAST-MODIFIED:20250828T145626Z
UID:68527-1756684800-1761955199@tabi-mile.com
SUMMARY:IHG ANAマイルが２倍 ダブルマイルキャンペーン
DESCRIPTION:IHGホテルズ＆リゾーツで、ANAのマイルが2倍貯まるキャンペーン。 \nキャンペーン登録し、公式サイト経由で予約するとANAマイルが2倍貯まります。 \n通常1米ドル=3マイルのところ、1米ドル=6マイルになります。 \n対象は、日本国内、グアム、サイパンのIHGホテル&リゾート。 \nただし、IHGのマイプロフィールの設定でポイント獲得タイプをANAにしておく必要があるので注意を。 \nーーーーーーーーーーーーーーーーーーーーーーー\n【キャンペーン名】\nANAマイルが２倍 ダブルマイルキャンペーン\n【キャンペーン期間】\n2025年9月1日（月）－10月31日（金）\nーーーーーーーーーーーーーーーーーーーーーーー
URL:https://tabi-mile.com/campaign_calendar/ihg-ana-202508/
CATEGORIES:エアライン,ホテル
ATTACH;FMTTYPE=image/jpeg:https://tabi-mile.com/wp-content/uploads/2025/08/97b9b453ec8a4ed899ba0fd8237abed0.jpg
END:VEVENT
BEGIN:VEVENT
DTSTART;VALUE=DATE:20250904
DTEND;VALUE=DATE:20250914
DTSTAMP:20260421T175917
CREATED:20250904T144950Z
LAST-MODIFIED:20250912T044044Z
UID:68732-1756944000-1757807999@tabi-mile.com
SUMMARY:IHGポイント購入100%ボーナスキャンペーン
DESCRIPTION:IHG One Rewardsポイントが過去最高レベルのセール！ \n世界中のラグジュアリーホテルや人気チェーンにお得に泊まれるチャンス。 \n今回は100%ボーナス付きで、実質1ポイント＝0.5セントでポイント購入可能。 \nたとえば通常価格では手が届きにくい高級ホテルも、ポイント予約ならお得になることも！ \nさらにIHGクレジットカードの「4泊目無料」特典と組み合わせれば、滞在コストを大幅に節約できます。 \nこの機会に旅の“ストック”としてもおすすめです。\nーーーーーーーーーーーーーーーーーーーーーーー\n【キャンペーン名】\nIHG One Rewards ポイント100%ボーナスセール\n【キャンペーン期間】\n販売期間：2025年9月13日（水）まで（当初10日までから13日までに延長）\n【概要】\n・11\,000ポイント以上購入で100%ボーナス\n・年200\,000ポイントまで購入可能（通常より上限UP）\n・ボーナス後は1ポイント=0.8625円\n・IHGプラチナ以上はポイント有効期限なし\nーーーーーーーーーーーーーーーーーーーーーーー
URL:https://tabi-mile.com/campaign_calendar/ihg-points-sale-202509/
CATEGORIES:ホテル
ATTACH;FMTTYPE=image/jpeg:https://tabi-mile.com/wp-content/uploads/2025/09/ee69f77e9433a802a524bb6cb6921a5f.jpg
END:VEVENT
BEGIN:VEVENT
DTSTART;VALUE=DATE:20250920
DTEND;VALUE=DATE:20250924
DTSTAMP:20260421T175917
CREATED:20250917T142753Z
LAST-MODIFIED:20250917T142753Z
UID:68979-1758326400-1758671999@tabi-mile.com
SUMMARY:IHGヨーロッパ秋のフラッシュセールで23.5%オフ
DESCRIPTION:IHGのヨーロッパのホテルが23.5%オフになるフラッシュセール。 \n英国、アイルランド、ドイツ、ベルギー、オランダのIHG参加ホテルが対象。 \n確かに安くなっていますが、返金不可プランなので確実に行ける場合のみ利用がおすすめ。 \n英語から日本語に切り替えるとキャンペーンが表示されなくなるので、利用する場合は英語のままで。 \nーーーーーーーーーーーーーーーーーーーーーーー\n【キャンペーン名】\nIHGヨーロッパ秋のフラッシュセールで23.5%オフ\n【キャンペーン期間】\n2025年9月17日から2025年9月23日\n【宿泊期間】\n2025年9月20日から2026年6月30日\nーーーーーーーーーーーーーーーーーーーーーーー
URL:https://tabi-mile.com/campaign_calendar/ihg-sale-202509/
CATEGORIES:ホテル
ATTACH;FMTTYPE=image/jpeg:https://tabi-mile.com/wp-content/uploads/2025/09/213bfb5db0e535a32f86172f1555bc56.jpg
END:VEVENT
BEGIN:VEVENT
DTSTART;VALUE=DATE:20250925
DTEND;VALUE=DATE:20251012
DTSTAMP:20260421T175917
CREATED:20250926T052029Z
LAST-MODIFIED:20250926T052029Z
UID:69053-1758758400-1760227199@tabi-mile.com
SUMMARY:IHGポイント購入100%ボーナスセール
DESCRIPTION:IHGが、ポイント購入で100%ボーナスのキャンペーンを実施中です。 \n今回のキャンペーンでは最大100%のボーナスが上乗せされ、実質的に通常の半額以下でポイントを購入できるチャンスになっています。 \n特にインターコンチネンタルやキンプトン、リージェントといった高級ブランドでの特典宿泊に活用すると、定価では高額になりがちなホテルステイをぐっとお得に楽しむことが可能です。 \nーーーーーーーーーーーーーーーーーーーーーーー\n【キャンペーン名】\nIHGポイント購入100%ボーナスセール\n【キャンペーン期間】\n2025年9月25日から2025年10月11日\nーーーーーーーーーーーーーーーーーーーーーーー
URL:https://tabi-mile.com/campaign_calendar/ihg-points-promo-202509-2/
CATEGORIES:ホテル
ATTACH;FMTTYPE=image/jpeg:https://tabi-mile.com/wp-content/uploads/2025/09/51fa56ef9f627e983a9239c1b5e3ef68.jpg
END:VEVENT
END:VCALENDAR