BEGIN:VCALENDAR
VERSION:2.0
PRODID:-//旅マイル - ECPv6.15.20//NONSGML v1.0//EN
CALSCALE:GREGORIAN
METHOD:PUBLISH
X-ORIGINAL-URL:https://tabi-mile.com
X-WR-CALDESC:旅マイル のイベント
REFRESH-INTERVAL;VALUE=DURATION:PT1H
X-Robots-Tag:noindex
X-PUBLISHED-TTL:PT1H
BEGIN:VTIMEZONE
TZID:Asia/Tokyo
BEGIN:STANDARD
TZOFFSETFROM:+0900
TZOFFSETTO:+0900
TZNAME:JST
DTSTART:20240101T000000
END:STANDARD
END:VTIMEZONE
BEGIN:VEVENT
DTSTART;VALUE=DATE:20251028
DTEND;VALUE=DATE:20260111
DTSTAMP:20260421T113408
CREATED:20251016T060718Z
LAST-MODIFIED:20251016T060718Z
UID:69320-1761609600-1768089599@tabi-mile.com
SUMMARY:マリオット1滞在で2\,025ポイントプレゼントキャンペーン
DESCRIPTION:マリオットボンヴォイに1滞在ごとに2\,025ポイントもらえるキャンペーンが登場。 \n最大3滞在まで獲得可能。 \n1滞在（チェックイン&チェックアウト）ごとに2\,025ポイントなので、2連泊しても獲得できるポイントは同じです。 \n2025年10月28日～2026年1月10日までの滞在が対象。 \nポイント泊や無料宿泊特典は対象外で、有償泊のみが対象。 \n日本にはありませんが、マリオットが新たに打ち出した「自然×ホテル滞在」をコンセプトにしたコレクション「Marriott Bonvoy® Outdoor」なら、さらに2\,000ポイント追加されます。 \nーーーーーーーーーーーーーーーーーーーーーーー\n【キャンペーン名】\nマリオット1滞在で2\,025ポイントプレゼントキャンペーン\n【キャンペーン期間】\n2025年10月28日～2026年1月10日\n※キャンペーン登録は2025年12月27日まで\nーーーーーーーーーーーーーーーーーーーーーーー
URL:https://tabi-mile.com/campaign_calendar/marriott-2025-10/
CATEGORIES:ホテル
ATTACH;FMTTYPE=image/jpeg:https://tabi-mile.com/wp-content/uploads/2025/10/9e90648c5bb2faa7442797ab52ca03cc.jpg
END:VEVENT
BEGIN:VEVENT
DTSTART;VALUE=DATE:20251101
DTEND;VALUE=DATE:20260201
DTSTAMP:20260421T113408
CREATED:20251031T083718Z
LAST-MODIFIED:20251031T083718Z
UID:69438-1761955200-1769903999@tabi-mile.com
SUMMARY:ヒルトンアメックス会員限定オファーで週末滞在で追加で2\,000ポイント
DESCRIPTION:ヒルトンアメックス保有者向けのキャンペーン。 \nアジア太平洋地域のヒルトン参加ホテルに、金、土、日に滞在で追加で2\,000ポイント。 \n現在、ヒルトンオナーズ会員向けのキャンペーン（1滞在につき1\,500ポイント）も実施していて、併用可能。 \n「ヒルトン1滞在につき1\,500ボーナスポイントキャンペーン」 \nどちらも要エントリーなので忘れずに。 \nーーーーーーーーーーーーーーーーーーーーーーー\n【キャンペーン名】\nヒルトンアメックス会員限定オファーで週末滞在で追加で2\,000ポイント\n【キャンペーン期間】\n2025年11月1日～2026年1月31日\nーーーーーーーーーーーーーーーーーーーーーーー
URL:https://tabi-mile.com/campaign_calendar/hilton-amex-stay-camp-202511/
CATEGORIES:ホテル
ATTACH;FMTTYPE=image/jpeg:https://tabi-mile.com/wp-content/uploads/2025/10/0b837e701ffaf2f37d928c4810f04015.jpg
END:VEVENT
BEGIN:VEVENT
DTSTART;VALUE=DATE:20260101
DTEND;VALUE=DATE:20260401
DTSTAMP:20260421T113408
CREATED:20260218T092706Z
LAST-MODIFIED:20260218T092706Z
UID:70388-1767225600-1775001599@tabi-mile.com
SUMMARY:IHGポイント2倍キャンペーン
DESCRIPTION:IHGの定番プロモ、「ポイント2倍キャンペーン」が開催中です。 \n2026年1月1日〜3月31日の宿泊分が対象。 \n登録後、2回目以降の滞在から基本ポイントが2倍になります。 \nしかも、獲得上限なし。 \n⚠️重要ポイント\n・キャンペーン登録が必須\n・2倍になるのは「基本ポイントのみ」\n・2回目の滞在から適用\n・無料宿泊やポイント＆キャッシュは対象外\n・OTA予約は対象外 \n年始の修行や出張がある方は、必ず登録してから宿泊を。 \n登録しないと通常ポイントのみなので注意です。 \nーーーーーーーーーーーーーーーーーーーーーーー\n【キャンペーン名】\nIHG One Rewards「上限なし ポイント2倍」キャンペーン\n【キャンペーン期間】\n宿泊対象：2026年1月1日〜3月31日（登録必須）\nーーーーーーーーーーーーーーーーーーーーーーー
URL:https://tabi-mile.com/campaign_calendar/ihg-points-2-202601/
CATEGORIES:ホテル
ATTACH;FMTTYPE=image/jpeg:https://tabi-mile.com/wp-content/uploads/2026/02/444b7e4dbefc0024525e06553f02fcce.jpg
END:VEVENT
BEGIN:VEVENT
DTSTART;VALUE=DATE:20260115
DTEND;VALUE=DATE:20260501
DTSTAMP:20260421T113408
CREATED:20260114T052456Z
LAST-MODIFIED:20260114T052902Z
UID:69606-1768435200-1777593599@tabi-mile.com
SUMMARY:ヒルトン1滞在ごとに2\,000ボーナスポイント
DESCRIPTION:ヒルトンオナーズ新キャンペーン。 \n1滞在するごとに2\,000ボーナスポイントで上限無し。 \nしかも、有償宿泊だけでなく、ポイント泊でもボーナスポイントの対象。 \n要エントリーなので、とりあえずエントリーを。 \nーーーーーーーーーーーーーーーーーーーーーーー\n【キャンペーン名】\nヒルトン1滞在ごとに2\,000ボーナスポイント\n【キャンペーン期間】\n2026/1-15-2026/4/30\nーーーーーーーーーーーーーーーーーーーーーーー
URL:https://tabi-mile.com/campaign_calendar/hilton-bonus-points-202601/
CATEGORIES:ホテル
ATTACH;FMTTYPE=image/jpeg:https://tabi-mile.com/wp-content/uploads/2026/01/3c688d9a238095eba33ce56abe3f7d13.jpg
END:VEVENT
BEGIN:VEVENT
DTSTART;VALUE=DATE:20260128
DTEND;VALUE=DATE:20260315
DTSTAMP:20260421T113408
CREATED:20260128T142435Z
LAST-MODIFIED:20260128T142435Z
UID:70132-1769558400-1773532799@tabi-mile.com
SUMMARY:ヒルトンポイント購入最大100%ボーナス
DESCRIPTION:ヒルトンポイント購入最大100%ボーナスキャンペーンがスタート！ \nミステリーキャンペーンで人によってボーナスが変わっている模様。 \nクマは100%ボーナスでした。 \n100%ボーナスだと1ポイント=0.75円相当で購入できます。 \n高級ホテルで使うと、ポイント購入してから泊まったほうがいいケースも。 \n例えばとある日のROKU KYOTOなら、1泊約20万円。 \nポイント泊なら14万ポイント。 \n100%ボーナスなら、7万ポイント購入で14万ポイントになるので、約10万円。 \n10万円近く宿泊費を抑えられます。 \nーーーーーーーーーーーーーーーーーーーーーーー\n【キャンペーン名】\nヒルトンポイント購入最大100%ボーナス\n【キャンペーン期間】\n2026年1月28日～3月14日まで\nーーーーーーーーーーーーーーーーーーーーーーー \n\n				\n					\n					\n												\n							\n																																																																															\n							\n																	ヒルトン・オナーズポイントの貯め方と使い方を徹底解説！上級会員がポイントを貯めるコツ！\n								\n																									続きを見る
URL:https://tabi-mile.com/campaign_calendar/hiiton-points-sale-202601/
CATEGORIES:ホテル
ATTACH;FMTTYPE=image/jpeg:https://tabi-mile.com/wp-content/uploads/2026/01/7c8d2f02883bad73bf5257d000bb85c7.jpg
END:VEVENT
END:VCALENDAR