BEGIN:VCALENDAR
VERSION:2.0
PRODID:-//旅マイル - ECPv6.15.20//NONSGML v1.0//EN
CALSCALE:GREGORIAN
METHOD:PUBLISH
X-WR-CALNAME:旅マイル
X-ORIGINAL-URL:https://tabi-mile.com
X-WR-CALDESC:旅マイル のイベント
REFRESH-INTERVAL;VALUE=DURATION:PT1H
X-Robots-Tag:noindex
X-PUBLISHED-TTL:PT1H
BEGIN:VTIMEZONE
TZID:Asia/Tokyo
BEGIN:STANDARD
TZOFFSETFROM:+0900
TZOFFSETTO:+0900
TZNAME:JST
DTSTART:20240101T000000
END:STANDARD
END:VTIMEZONE
BEGIN:VEVENT
DTSTART;VALUE=DATE:20250619
DTEND;VALUE=DATE:20250627
DTSTAMP:20260423T202748
CREATED:20250620T005959Z
LAST-MODIFIED:20250620T005959Z
UID:67163-1750291200-1750982399@tabi-mile.com
SUMMARY:Air Japan 全路線「サマーセール2025」
DESCRIPTION:Air Japanで、全路線対象の「サマーセール2025」開催！ \n成田ーバンコク線（片道）：15\,700円～（諸税込み 20\,090円～）\n成田ーシンガポール線（片道）：14\,500円～（諸税込み 18\,660円～）\n成田ーソウル（仁川）線（片道）：8\,000円～（諸税込み 12\,160円～） \nAir Japanは、ANAグループのハイブリッドエアライン（LCCとフルサービスキャリアの中間）。 \nーーーーーーーーーーーーーーーーーーーーーーー\n【キャンペーン名】\nAir Japan 全路線「サマーセール2025」\n【キャンペーン期間】\n2025年6月19日～2025年6月26日\n【搭乗期間】\nバンコク線・シンガポール線：2025年6月23日（月） ～2025年10月25日（土）\nソウル（仁川）線：2025年6月23日（月） ～2025年9月30日（火）\nーーーーーーーーーーーーーーーーーーーーーーー
URL:https://tabi-mile.com/campaign_calendar/air-japan-sale-202506/
CATEGORIES:エアライン
ATTACH;FMTTYPE=image/jpeg:https://tabi-mile.com/wp-content/uploads/2025/06/68609ea1451782e893a1473a8584a03e.jpg
END:VEVENT
END:VCALENDAR