BEGIN:VCALENDAR
VERSION:2.0
PRODID:-//旅マイル - ECPv6.15.20//NONSGML v1.0//EN
CALSCALE:GREGORIAN
METHOD:PUBLISH
X-ORIGINAL-URL:https://tabi-mile.com
X-WR-CALDESC:旅マイル のイベント
REFRESH-INTERVAL;VALUE=DURATION:PT1H
X-Robots-Tag:noindex
X-PUBLISHED-TTL:PT1H
BEGIN:VTIMEZONE
TZID:Asia/Tokyo
BEGIN:STANDARD
TZOFFSETFROM:+0900
TZOFFSETTO:+0900
TZNAME:JST
DTSTART:20240101T000000
END:STANDARD
END:VTIMEZONE
BEGIN:VEVENT
DTSTART;VALUE=DATE:20250401
DTEND;VALUE=DATE:20251001
DTSTAMP:20260422T070534
CREATED:20250430T031814Z
LAST-MODIFIED:20250430T070214Z
UID:66117-1743465600-1759276799@tabi-mile.com
SUMMARY:AIRDOカード・ポイント交換レートアップキャンペーン
DESCRIPTION:エア・ドゥのポイント交換キャンペーン。 \n\n\n\nVポイントからAIRDOポイントへの交換レートが2倍に。 \n\n\n\n通常20ポイントで1ポイントが、2ポイントに。 \n\n\n\nーーーーーーーーーーーーーーーーーーーーーーー 【キャンペーン名】いつもの2倍！AIRDOカード ポイント交換レートアップキャンペーン 【キャンペーン期間】2025年4月1日から9月30日 ーーーーーーーーーーーーーーーーーーーーーーー
URL:https://tabi-mile.com/campaign_calendar/airdocard-202504/
CATEGORIES:エアライン
ATTACH;FMTTYPE=image/png:https://tabi-mile.com/wp-content/uploads/2025/04/925c54e1f90e3e31d279ed320af1f659-scaled.png
END:VEVENT
END:VCALENDAR