BEGIN:VCALENDAR
VERSION:2.0
PRODID:-//旅マイル - ECPv6.15.20//NONSGML v1.0//EN
CALSCALE:GREGORIAN
METHOD:PUBLISH
X-WR-CALNAME:旅マイル
X-ORIGINAL-URL:https://tabi-mile.com
X-WR-CALDESC:旅マイル のイベント
REFRESH-INTERVAL;VALUE=DURATION:PT1H
X-Robots-Tag:noindex
X-PUBLISHED-TTL:PT1H
BEGIN:VTIMEZONE
TZID:Asia/Tokyo
BEGIN:STANDARD
TZOFFSETFROM:+0900
TZOFFSETTO:+0900
TZNAME:JST
DTSTART:20240101T000000
END:STANDARD
END:VTIMEZONE
BEGIN:VEVENT
DTSTART;VALUE=DATE:20250509
DTEND;VALUE=DATE:20250516
DTSTAMP:20260423T170751
CREATED:20250508T085211Z
LAST-MODIFIED:20250509T044511Z
UID:66334-1746748800-1747353599@tabi-mile.com
SUMMARY:ANA国際線タイムセール！夏休み期間も対象
DESCRIPTION:ハワイ往復87\,000円～、ロサンゼルス往復150\,000円～、バンコク66\,800円～などなど各方面が安い！ \nーーーーーーーーーーーーーーーーーーーーーーー\n【キャンペーン名】\nANA国際線タイムセール！夏休み期間も対象\n【キャンペーン期間】\n販売期間：2025年5月9日（金）0:00～5月15日（木）23:59\n搭乗期間：2025年7月1日（火）～2026年1月31日（土）\nーーーーーーーーーーーーーーーーーーーーーーー
URL:https://tabi-mile.com/campaign_calendar/ana-time-sale-int202505/
CATEGORIES:エアライン
ATTACH;FMTTYPE=image/jpeg:https://tabi-mile.com/wp-content/uploads/2025/05/44ce3cfd3c6df0e236fd84c64f374594.jpg
END:VEVENT
BEGIN:VEVENT
DTSTART;VALUE=DATE:20250509
DTEND;VALUE=DATE:20250516
DTSTAMP:20260423T170751
CREATED:20250508T084250Z
LAST-MODIFIED:20250508T084403Z
UID:66328-1746748800-1747353599@tabi-mile.com
SUMMARY:ANA国内線タイムセール！夏休み期間も対象
DESCRIPTION:ANA国内線タイムセールが来た！ \n夏休み期間中も対象なので、チャンス！ \n \n羽田ー那覇9\,200円～、羽田ー新千歳7\,700円から。 \n2025年5月9日0時スタート！ \nーーーーーーーーーーーーーーーーーーーーーーー\n【キャンペーン名】\nANA国内線タイムセール\n【キャンペーン期間】\n発売期間：2025年5月9日～5月15日\n搭乗期間：2025年7月1日～9月30日\nーーーーーーーーーーーーーーーーーーーーーーー
URL:https://tabi-mile.com/campaign_calendar/ana-timesale202505/
CATEGORIES:エアライン
ATTACH;FMTTYPE=image/jpeg:https://tabi-mile.com/wp-content/uploads/2025/05/3e53541fcb7eae597758164757fb872d.jpg
END:VEVENT
BEGIN:VEVENT
DTSTART;VALUE=DATE:20250507
DTEND;VALUE=DATE:20250512
DTSTAMP:20260423T170751
CREATED:20250507T074743Z
LAST-MODIFIED:20250507T074743Z
UID:66291-1746576000-1747007999@tabi-mile.com
SUMMARY:ANAツアータイムセール
DESCRIPTION:ANA国内ツアー、ANA海外ツアー、国内ホテルでタイムセール。 \n夏休みも対象！ \nーーーーーーーーーーーーーーーーーーーーーーー\n【キャンペーン名】\n\n\n    \n        \n                    ANAツアータイムセール                                                \n\n                                \n    \n\n【キャンペーン期間】\n2025年5月7日（水）0:00～5月11日（日）23:59\nーーーーーーーーーーーーーーーーーーーーーーー
URL:https://tabi-mile.com/campaign_calendar/anatour202505/
CATEGORIES:エアライン
ATTACH;FMTTYPE=image/jpeg:https://tabi-mile.com/wp-content/uploads/2025/05/1400db911617b0775f4d58c221f80940.jpg
END:VEVENT
BEGIN:VEVENT
DTSTART;VALUE=DATE:20250216
DTEND;VALUE=DATE:20250501
DTSTAMP:20260423T170751
CREATED:20250430T025127Z
LAST-MODIFIED:20250501T205511Z
UID:66106-1739664000-1746057599@tabi-mile.com
SUMMARY:ANA JCB期間限定新規入会キャンペーン
DESCRIPTION:ANA JCB新規入会で最大116\,000マイル相当プレゼント！ \nANA JCBカードの詳細は「ANA JCBカード最新入会キャンペーン！ANA JCBカードのメリット・デメリット、券種比較まとめ」へ。 \n\n				\n					\n					\n												\n							\n																																																																															\n							\n																	ANA JCBカード最新入会キャンペーン！ANA JCBカードのメリット・デメリット、券種比較まとめ\n								\n																									続きを見る \n															\n						\n					\n					\n\n				\nーーーーーーーーーーーーーーーーーーーーーーー\n【キャンペーン名】\nANA JCB新規入会キャンペーン\n【キャンペーン期間】\n2025年2月16日～4月30日\nーーーーーーーーーーーーーーーーーーーーーーー \n\n\n    \n        \n                    ANA JCBカードの最新入会キャンペーンは、新規入会で最大125\,300マイルプレゼント\n\nキャンペーンの詳細はこちら↓\n\n最大125\,300マイルプレゼント（一部抽選あり） ANA JCBカードの入会・キャンペーン詳細はこちら プレミアムは2026年5月31日まで！ \n\n※キャンペーンの詳細は、公式ホームページにてご確認ください。
URL:https://tabi-mile.com/campaign_calendar/ana-jcb%e2%80%90202502/
CATEGORIES:クレジットカード
ATTACH;FMTTYPE=image/png:https://tabi-mile.com/wp-content/uploads/2025/04/d99c3cc5c635673369c43935dff62a8b.png
END:VEVENT
BEGIN:VEVENT
DTSTART;VALUE=DATE:20250205
DTEND;VALUE=DATE:20250514
DTSTAMP:20260423T170751
CREATED:20250430T022016Z
LAST-MODIFIED:20250430T070105Z
UID:66098-1738713600-1747180799@tabi-mile.com
SUMMARY:ANAアメックス期間限定新規入会キャンペーン
DESCRIPTION:ANAアメックス、ANAアメックスゴールド、ANAアメックスプラチナで、期間限定入会キャンペーン実施中！ \n最大165\,000マイル獲得可能。 \nANAアメックスは、ポイントを無期限で貯められるので、マイルの期限切れに泣きたくない方にとてもおすすめ。 \nANA航空券購入のボーナスマイルもNo.1なので、SFC修行にも最適です。 \n\n\n    \n        \n                                                \n                    \n\n                                \n    \n\n\n\n    \n        \n                    2026年4月実施中の入会キャンペーンは、なんと最大120\,000マイルもらえるキャンペーン！\n\n最大120\,000マイル相当獲得可能 ANAアメックスプレミアムのキャンペーン詳細&入会はこちら 国内線ANAラウンジアクセス付き \n\n\n\nなんとビジネスクラスでヨーロッパ往復可能なマイル相当！\n\n入会キャンペーンだけでこれだけもらえるのはかなりの衝撃的。\n\n                                                 \n\n                                \n    \n\n\n				\n					\n					\n												\n							\n																																																																															\n							\n																	ANAカードの最高峰ANAアメックスプレミアムのメリット・デメリットまとめ\n								\n																									続きを見る \n															\n						\n					\n					\n\n				\n\n\n    \n        \n                                                                    \n\n                                \n    \n\n\n\n    \n        \n                    最大68\,000マイル相当獲得可能 ANAアメックスゴールドの入会・キャンペーン詳細はこちら ポイント有効期限なし \n\n\n\nプレミアムエコノミーでハワイ往復可能なマイル。\n\n入会キャンペーンだけでこれだけもらえるのはとても魅力的。\n\n                                                 \n\n                                \n    \n\n\n\n    \n        \n                                                                    \n\n                                \n    \n\n\n\n    \n        \n                    最大18\,000マイル相当獲得可能 ANAアメックスの入会・キャンペーン詳細はこちら 無期限で貯めることが可能 \n韓国往復特典航空券に交換できるマイル数！                                                 \n\n                                \n    \n\n\n				\n					\n					\n												\n							\n																																																																															\n							\n																	ANAアメックス&ゴールドお得な入会キャンペーン！ANAマイルが無期限に貯められる\n								\n																									続きを見る \n															\n						\n					\n					\n\n				\nーーーーーーーーーーーーーーーーーーーーーーー\n【キャンペーン名】\nANAアメックス新規入会キャンペーン\n【キャンペーン期間】\n2025年2月5日～5月13日\nーーーーーーーーーーーーーーーーーーーーーーー
URL:https://tabi-mile.com/campaign_calendar/ana-amex-20250513/
CATEGORIES:クレジットカード
ATTACH;FMTTYPE=image/png:https://tabi-mile.com/wp-content/uploads/2025/04/cdc87f23241ecec14ba024a26e8794ea.png
END:VEVENT
END:VCALENDAR