BEGIN:VCALENDAR
VERSION:2.0
PRODID:-//旅マイル - ECPv6.15.20//NONSGML v1.0//EN
CALSCALE:GREGORIAN
METHOD:PUBLISH
X-ORIGINAL-URL:https://tabi-mile.com
X-WR-CALDESC:旅マイル のイベント
REFRESH-INTERVAL;VALUE=DURATION:PT1H
X-Robots-Tag:noindex
X-PUBLISHED-TTL:PT1H
BEGIN:VTIMEZONE
TZID:Asia/Tokyo
BEGIN:STANDARD
TZOFFSETFROM:+0900
TZOFFSETTO:+0900
TZNAME:JST
DTSTART:20240101T000000
END:STANDARD
END:VTIMEZONE
BEGIN:VEVENT
DTSTART;VALUE=DATE:20250521
DTEND;VALUE=DATE:20250901
DTSTAMP:20260423T123442
CREATED:20250522T074408Z
LAST-MODIFIED:20250522T074408Z
UID:66796-1747785600-1756684799@tabi-mile.com
SUMMARY:最大12\,000マイルがもらえる！ANAガスリリース記念キャンペーン
DESCRIPTION:ANAガス新登場を記念して、最大12\,000マイルもらえるキャンペーン。 \n内訳は、 \n\nANAガス新規契約で1\,500マイル\nANAでんき新規契約で500マイル\nANAガス・ANAでんき両方契約&ANAカード会員なら抽選で10\,000マイル\n\nANAガス契約だけだと1\,500マイル獲得になります。 \nANAガスはANAカード会員なら年間1\,200マイル貯まるガスサービス。 \nーーーーーーーーーーーーーーーーーーーーーーー\n【キャンペーン名】\n最大12\,000マイルがもらえる！ANAガスリリース記念キャンペーン\n【キャンペーン期間】\n2025年5月21日（水）～2025年8月31日（日）お申し込み分まで\nーーーーーーーーーーーーーーーーーーーーーーー
URL:https://tabi-mile.com/campaign_calendar/ana-gus-camp-202505/
CATEGORIES:エアライン
ATTACH;FMTTYPE=image/jpeg:https://tabi-mile.com/wp-content/uploads/2025/05/654f14fb692641d0bd2206c0f86b8246.jpg
END:VEVENT
BEGIN:VEVENT
DTSTART;VALUE=DATE:20250616
DTEND;VALUE=DATE:20251001
DTSTAMP:20260423T123442
CREATED:20250617T071853Z
LAST-MODIFIED:20250617T071853Z
UID:67126-1750032000-1759276799@tabi-mile.com
SUMMARY:ANA陸でもマイルを貯めよう！要参加登録！わくわくキャンペーン第1弾
DESCRIPTION:対象のホテル、レンタカーを利用して、ANAマイルを積算すると抽選で最大3\,000マイルが当たるキャンペーン。 \nもれなく必ず100マイルはもらえるので、エントリーしておいて損はないです。 \nーーーーーーーーーーーーーーーーーーーーーーー\n【キャンペーン名】\nANA陸でもマイルを貯めよう！要参加登録！わくわくキャンペーン第1弾\n【キャンペーン期間】\n参加登録期間：2025年6月16日（月）～2025年9月30日（火）\n利用（決済）期間：2025年10月1日（水）～2025年11月30日（日）\nーーーーーーーーーーーーーーーーーーーーーーー
URL:https://tabi-mile.com/campaign_calendar/ana-wakuwaku-vampaign-202506/
CATEGORIES:エアライン
ATTACH;FMTTYPE=image/jpeg:https://tabi-mile.com/wp-content/uploads/2025/06/fc6e0688cf8a2ed3f581faba2f00c2ab.jpg
END:VEVENT
BEGIN:VEVENT
DTSTART;VALUE=DATE:20250728
DTEND;VALUE=DATE:20250819
DTSTAMP:20260423T123442
CREATED:20250728T152005Z
LAST-MODIFIED:20250728T152005Z
UID:67872-1753660800-1755561599@tabi-mile.com
SUMMARY:ANAマイレージクラブ新規入会キャンペーン！今ならANA便ご搭乗で500マイルプレゼント
DESCRIPTION:ANAマイレージクラブにまだ入会していない方向けのキャンペーン。 \n8月8日～8月18日までの間でフライト予定&まだANAマイレージクラブ会員でないなら、キャンペーン参加登録で500マイル追加でもらえます。 \nなかなか期間が短いのですが、対象ならぜひ、キャンペーン参加登録を。 \nーーーーーーーーーーーーーーーーーーーーーーー\n【キャンペーン名】\nANAマイレージクラブ新規入会キャンペーン！今ならANA便ご搭乗で500マイルプレゼント\n【キャンペーン期間】\n：2025年7月28日（月）～2025年8月18日（月）\nーーーーーーーーーーーーーーーーーーーーーーー
URL:https://tabi-mile.com/campaign_calendar/ana-mile-new-202507/
CATEGORIES:エアライン
ATTACH;FMTTYPE=image/jpeg:https://tabi-mile.com/wp-content/uploads/2025/07/f6dcd27bfb66daf99ac98a966f7c2c91.jpg
END:VEVENT
BEGIN:VEVENT
DTSTART;VALUE=DATE:20250801
DTEND;VALUE=DATE:20250909
DTSTAMP:20260423T123442
CREATED:20250804T144433Z
LAST-MODIFIED:20250804T144442Z
UID:68010-1754006400-1757375999@tabi-mile.com
SUMMARY:ANAカード決済限定！ANA Mall 3倍マイルキャンペーン2025夏
DESCRIPTION:ANA MallでANAカード決済でマイル3倍キャンペーン。 \nSFCを含む上級会員ならライフソリューションサービスボーナスマイルも100円=1マイルプラスになって最大4倍に。 \nキャンペーン参加登録が必須です。 \nANA Mallは、ANAライフソリューションサービスの必須項目です。 \nーーーーーーーーーーーーーーーーーーーーーーー\n【キャンペーン名】\nANAカード決済限定！ANA Mall 3倍マイルキャンペーン2025夏\n【キャンペーン期間】\n2025年8月1日～9月8日まで\nーーーーーーーーーーーーーーーーーーーーーーー \n\n				\n					\n					\n												\n							\n																																																																															\n							\n																	JCBオリジナルシリーズ期間限定キャンペーン\n								\n																									続きを見る
URL:https://tabi-mile.com/campaign_calendar/ana-mall-camp-202508/
CATEGORIES:エアライン
ATTACH;FMTTYPE=image/jpeg:https://tabi-mile.com/wp-content/uploads/2025/08/e0916c33dec64f509dd6f88715018d57.jpg
END:VEVENT
BEGIN:VEVENT
DTSTART;VALUE=DATE:20250801
DTEND;VALUE=DATE:20250808
DTSTAMP:20260423T123442
CREATED:20250801T082603Z
LAST-MODIFIED:20250801T083957Z
UID:67946-1754006400-1754611199@tabi-mile.com
SUMMARY:ANA国内線&国際線航空券タイムセール！
DESCRIPTION:ANAの国内線と国際線の航空券タイムセール！ \n国内線は、 \n\n羽田～那覇9\,200円～\n羽田～福岡8\,500円～\n羽田～新千歳7\,700円～\n羽田～伊丹7\,000円～\n羽田～広島8\,000円～\n羽田～松山7\,700円～\n羽田～長崎8\,500円～\n伊丹～仙台7\,700円～\n那覇～石垣4\,500円～\n\n国際線は、 \n\nハワイ：\n［エコノミー往復］87\,000円～\n［プレエコ往復］154\,000円～\nホーチミン：\n［エコノミー往復］39\,900円～\n［ビジネス往復］230\,400円～\nハノイ：\n［エコノミー往復］39\,900円～\n上海（浦東）：\n［エコノミー往復］35\,200円～\n［ビジネス往復］117\,200円～\n北京：\n［エコノミー往復］36\,200円～\nバンコク：\n［エコノミー往復］52\,000円～\n［ビジネス往復］232\,000円～\nパース：\n［エコノミー往復］90\,000円～\nロサンゼルス：\n［エコノミー往復］150\,000円～\n［プレエコ往復］180\,000円～\n\nーーーーーーーーーーーーーーーーーーーーーーー\n【キャンペーン名】\nANA国内線&国際線航空券タイムセール！\n【キャンペーン期間】\n2025年8月1日（金）0:00～8月7日（木）23:59\n【搭乗期間】\n国内線:2025年10月1日（水）～2026年1月31日（土）\n国際線:2025年9月1日（月）～2026年4月23日（木）\nーーーーーーーーーーーーーーーーーーーーーーー
URL:https://tabi-mile.com/campaign_calendar/ana-time-sale-202508/
CATEGORIES:エアライン
ATTACH;FMTTYPE=image/jpeg:https://tabi-mile.com/wp-content/uploads/2025/08/20ba3cdba1f2eb76ad32f8e7ed7f6682.jpg
END:VEVENT
BEGIN:VEVENT
DTSTART;VALUE=DATE:20250801
DTEND;VALUE=DATE:20250829
DTSTAMP:20260423T123442
CREATED:20250804T062614Z
LAST-MODIFIED:20250804T062614Z
UID:68003-1754006400-1756425599@tabi-mile.com
SUMMARY:【マイル積算は9月末で終了！】ANAのふるさと納税10年目の大感謝祭マイルが最大8倍貯まる！
DESCRIPTION:ANAのふるさと納税でマイル積算サービスは2025年9月末で終了に… \n総務省の制度変更によるものなので、致し方ないけど残念。 \n今ならマイルが最大8倍貯まるキャンペーン（はじめての寄付の場合）も実施中です。 \nANAライフソリューションズの修行をしている方や、マイルがほしい方は9月末までの寄付がおすすめ。 \nーーーーーーーーーーーーーーーーーーーーーーー\n【キャンペーン名】\nANAのふるさと納税10年目の大感謝祭マイルが最大8倍貯まる！\n【キャンペーン期間】\n～2025年8月31日\nーーーーーーーーーーーーーーーーーーーーーーー \n\n				\n					\n					\n												\n							\n																																																																															\n							\n																	【2027年度】 ANAライフソリューションサービス攻略！SFC修行を効率化！ 知って得する裏技も紹介\n								\n																									続きを見る
URL:https://tabi-mile.com/campaign_calendar/ana-furusato-202508/
CATEGORIES:エアライン
ATTACH;FMTTYPE=image/jpeg:https://tabi-mile.com/wp-content/uploads/2025/08/f395de1077bcb066e8f5a81fa4cfd920.jpg
END:VEVENT
BEGIN:VEVENT
DTSTART;VALUE=DATE:20250801
DTEND;VALUE=DATE:20251001
DTSTAMP:20260423T123442
CREATED:20250818T134655Z
LAST-MODIFIED:20250818T134655Z
UID:68156-1754006400-1759276799@tabi-mile.com
SUMMARY:ANA 陸でもマイルを貯めよう！要参加登録！わくわくキャンペーン第2弾
DESCRIPTION:ANAのマイルが貯まる対象サービスを利用するだけで、もれなく最低でも100マイル、抽選で最大3\,000マイルもらえるキャンペーン。 \n日常的にANAマイルを貯めている方は自然と達成して100マイルは最低もらえるので、キャンペーン参加登録はしておきましょう。 \nーーーーーーーーーーーーーーーーーーーーーーー\n【キャンペーン名】\nANA 陸でもマイルを貯めよう！要参加登録！わくわくキャンペーン第2弾\n【キャンペーン期間】\n2025年8月1日（金）10:00～2025年9月30日（火）23:59まで\nーーーーーーーーーーーーーーーーーーーーーーー
URL:https://tabi-mile.com/campaign_calendar/ana-wakwak-202508/
CATEGORIES:エアライン
ATTACH;FMTTYPE=image/jpeg:https://tabi-mile.com/wp-content/uploads/2025/08/d2238f65f87824a75a8aa47a95ccf520.jpg
END:VEVENT
BEGIN:VEVENT
DTSTART;VALUE=DATE:20250806
DTEND;VALUE=DATE:20250819
DTSTAMP:20260423T123442
CREATED:20250817T144744Z
LAST-MODIFIED:20250817T145203Z
UID:68131-1754438400-1755561599@tabi-mile.com
SUMMARY:ANA国内&海外ツアータイムセール
DESCRIPTION:ANAの国内&海外ツアー旅行もタイムセール。 \n国内ツアーは15\,000円の割引クーポンや、海外ツアーなら最大10万円の割引クーポンも。 \nーーーーーーーーーーーーーーーーーーーーーーー\n【キャンペーン名】\nANAツアータイムセール\n【キャンペーン期間】\n2025年8月6日（水）00:00〜2025年8月18日（月）23:59\nーーーーーーーーーーーーーーーーーーーーーーー
URL:https://tabi-mile.com/campaign_calendar/ana-travel-sale-202508/
CATEGORIES:エアライン
ATTACH;FMTTYPE=image/jpeg:https://tabi-mile.com/wp-content/uploads/2025/08/1edd2c5745a12b7ecc988c375c94103f.jpg
END:VEVENT
BEGIN:VEVENT
DTSTART;VALUE=DATE:20250807
DTEND;VALUE=DATE:20250821
DTSTAMP:20260423T123442
CREATED:20250807T075724Z
LAST-MODIFIED:20250807T075724Z
UID:68056-1754524800-1755734399@tabi-mile.com
SUMMARY:ANAマイレージモールで【Hotels.com】４倍マイルキャンペーン
DESCRIPTION:ANAマイレージモール経由でHotels.comを予約すると4倍マイルになるキャンペーン。 \n200円ごとに4マイル貯まります。 \nANAカードで決済すればANAカードでのポイントも獲得できます。 \nーーーーーーーーーーーーーーーーーーーーーーー\n【キャンペーン名】\nANAマイレージモールで【Hotels.com】４倍マイルキャンペーン\n【キャンペーン期間】\n2025/08/07（木）～2025/08/20（水）ご予約分まで\nーーーーーーーーーーーーーーーーーーーーーーー \n\n				\n					\n					\n												\n							\n																																																																															\n							\n																	マイルが良く貯まるおすすめのANAカードは？失敗しないANAカードの選び方！【2026年版】\n								\n																									続きを見る
URL:https://tabi-mile.com/campaign_calendar/ana-hotels-com-4-202508/
CATEGORIES:エアライン
ATTACH;FMTTYPE=image/jpeg:https://tabi-mile.com/wp-content/uploads/2025/08/5a4c5e4cabd9672414493fd28492e91c.jpg
END:VEVENT
BEGIN:VEVENT
DTSTART;VALUE=DATE:20250815
DTEND;VALUE=DATE:20250913
DTSTAMP:20260423T123442
CREATED:20250815T073747Z
LAST-MODIFIED:20250815T073747Z
UID:68079-1755216000-1757721599@tabi-mile.com
SUMMARY:ANAカード会員限定　2025年8月プレゼント
DESCRIPTION:ANAカード会員向けのキャンペーンで、オリジナル扇子が30名に当たるキャンペーン。 \n当たる確率はかなり低いですが、エントリーしておくだけでOKなので、とりあえずエントリーがおすすめ。 \nーーーーーーーーーーーーーーーーーーーーーーー\n【キャンペーン名】\nANAカード会員限定　2025年8月プレゼント\n【キャンペーン期間】\n2025年8月15日（金）から2025年9月12日（金）まで\nーーーーーーーーーーーーーーーーーーーーーーー
URL:https://tabi-mile.com/campaign_calendar/ana-card-present-202508/
CATEGORIES:エアライン
ATTACH;FMTTYPE=image/jpeg:https://tabi-mile.com/wp-content/uploads/2025/08/7cbe028cdd5eb0b1cd9e345b938d4c58.jpg
END:VEVENT
BEGIN:VEVENT
DTSTART;VALUE=DATE:20250824
DTEND;VALUE=DATE:20250828
DTSTAMP:20260423T123442
CREATED:20250824T133132Z
LAST-MODIFIED:20250824T133132Z
UID:68357-1755993600-1756339199@tabi-mile.com
SUMMARY:楽天セールスタート！ANAマイレージモール&JALマイレージパーク経由を忘れずに
DESCRIPTION:2025年8月24日から楽天お買い物マラソンがスタート。 \n楽天でお買い物するなら、ANAマイラーならANAマイレージモール、JALマイラーならJALマイレージパーク経由を忘れずに。 \nANAは200円=1マイル、JALは300円=1マイル楽天ポイントとは別に貯まります。 \nーーーーーーーーーーーーーーーーーーーーーーー\n【キャンペーン名】\nANAマイレージモール\nJALマイレージパーク\n【キャンペーン期間】\n2025年8月24日20時～2025年8月27日9時59分まで\nーーーーーーーーーーーーーーーーーーーーーーー \n\n\n\n    \n        \n                                                \n                    \n\n                                \n    \n\n 
URL:https://tabi-mile.com/campaign_calendar/rakuten-sele-ana-jal/
CATEGORIES:エアライン
ATTACH;FMTTYPE=image/jpeg:https://tabi-mile.com/wp-content/uploads/2025/08/5ff439c265ac8d78092807523362d179.jpg
END:VEVENT
BEGIN:VEVENT
DTSTART;VALUE=DATE:20250828
DTEND;VALUE=DATE:20250918
DTSTAMP:20260423T123442
CREATED:20250828T144545Z
LAST-MODIFIED:20250828T144545Z
UID:68523-1756339200-1758153599@tabi-mile.com
SUMMARY:ANAマイレージモール エクスペディア5倍マイルキャンペーン
DESCRIPTION:ANAマイレージモールを通してエクスペディアを予約すると、通常の5倍のマイルを獲得できます。 \n2025年9月17日までは、200円=5マイル貯まります。 \nーーーーーーーーーーーーーーーーーーーーーーー\n【キャンペーン名】\nANAマイレージモール エクスペディア5倍マイルキャンペーン\n【キャンペーン期間】\n2025/08/28～2025/09/17\nーーーーーーーーーーーーーーーーーーーーーーー
URL:https://tabi-mile.com/campaign_calendar/ana-expedia-202508/
CATEGORIES:エアライン
ATTACH;FMTTYPE=image/jpeg:https://tabi-mile.com/wp-content/uploads/2025/08/b6e4eff3aea633d721c43a6f7b66684f.jpg
END:VEVENT
BEGIN:VEVENT
DTSTART;VALUE=DATE:20250829
DTEND;VALUE=DATE:20250830
DTSTAMP:20260423T123442
CREATED:20250827T130026Z
LAST-MODIFIED:20250827T130032Z
UID:68472-1756425600-1756511999@tabi-mile.com
SUMMARY:ANAにキュン！今回はツアーの割引がメイン
DESCRIPTION:2025年8月29日の「ANAにキュン！」は、秋の国内宿泊と航空券に使える最大12\,000円引きのクーポンがメインかな。 \nあとは、海外旅行ツアーで最大10万円クーポン。 \n残念ながら減額マイルや航空券セールはないです。 \nーーーーーーーーーーーーーーーーーーーーーーー\n【キャンペーン名】\nANAにキュン！今回はツアーの割引がメイン\n【キャンペーン期間】\n2025年8月29日\nーーーーーーーーーーーーーーーーーーーーーーー
URL:https://tabi-mile.com/campaign_calendar/ana-kyun-202508/
CATEGORIES:エアライン
ATTACH;FMTTYPE=image/jpeg:https://tabi-mile.com/wp-content/uploads/2025/08/580259168faea5f6a9c5c825843b0251.jpg
END:VEVENT
BEGIN:VEVENT
DTSTART;VALUE=DATE:20250901
DTEND;VALUE=DATE:20251001
DTSTAMP:20260423T123442
CREATED:20250902T141152Z
LAST-MODIFIED:20250902T141152Z
UID:68628-1756684800-1759276799@tabi-mile.com
SUMMARY:「ANAの住宅ローン」ダブルマイルキャンペーン
DESCRIPTION:ANAの住宅ローンでは、2025年9月1日から9月30日まで、ANAのマイルが通常の2倍たまるキャンペーンを実施。 \n期間中にANAの住宅ローンに仮審査を申し込み、実際に借り入れを行うと、借入額に応じて最大20万マイルを獲得できます。 \n例えば、5000万円を借り入れると、通常は2万5000マイルのところ、キャンペーン期間中は5万マイル獲得できます。 \nーーーーーーーーーーーーーーーーーーーーーーー\n【キャンペーン名】\n「ANAの住宅ローン」ダブルマイルキャンペーン\n【キャンペーン期間】\n2025年9月1日～9月30日\nーーーーーーーーーーーーーーーーーーーーーーー \n\n\n\n    \n        \n                                                                    \n\n                                \n    \n\n 
URL:https://tabi-mile.com/campaign_calendar/ana-loan-202509/
CATEGORIES:エアライン
ATTACH;FMTTYPE=image/jpeg:https://tabi-mile.com/wp-content/uploads/2025/09/5ae829899e1a2fce1e9360bb3f531cba.jpg
END:VEVENT
BEGIN:VEVENT
DTSTART;VALUE=DATE:20250901
DTEND;VALUE=DATE:20251001
DTSTAMP:20260423T123442
CREATED:20250905T030852Z
LAST-MODIFIED:20250905T050433Z
UID:68746-1756684800-1759276799@tabi-mile.com
SUMMARY:ANAのふるさと納税マイル積算は9月末まで！ 10周年記念ボーナスマイルキャンペーン
DESCRIPTION:ANAのふるさと納税でマイルが貯まるのはいよいよ2025年9月30日まで！ \n最後のキャンペーンは、最大10倍マイル。 \nANAカードで寄付すれば、通常のマイルに加え、条件クリアでボーナスマイルがもらえます。 \nキャンペーン参加登録が必須なのでとりあえずキャンペーン登録しておきましょう。 \nーーーーーーーーーーーーーーーーーーーーーーー\n【キャンペーン名】\nANAのふるさと納税マイル積算は9月末まで！ 10周年記念ボーナスマイルキャンペーン\n【キャンペーン期間】\n2025年9月1日～2025年9月30日\nーーーーーーーーーーーーーーーーーーーーーーー
URL:https://tabi-mile.com/campaign_calendar/ana-furusato-miles-202509/
CATEGORIES:エアライン
ATTACH;FMTTYPE=image/jpeg:https://tabi-mile.com/wp-content/uploads/2025/09/0b0aad01156d8d91338b9fc25d2d4681.jpg
END:VEVENT
BEGIN:VEVENT
DTSTART;VALUE=DATE:20250901
DTEND;VALUE=DATE:20251101
DTSTAMP:20260423T123442
CREATED:20250828T145626Z
LAST-MODIFIED:20250828T145626Z
UID:68527-1756684800-1761955199@tabi-mile.com
SUMMARY:IHG ANAマイルが２倍 ダブルマイルキャンペーン
DESCRIPTION:IHGホテルズ＆リゾーツで、ANAのマイルが2倍貯まるキャンペーン。 \nキャンペーン登録し、公式サイト経由で予約するとANAマイルが2倍貯まります。 \n通常1米ドル=3マイルのところ、1米ドル=6マイルになります。 \n対象は、日本国内、グアム、サイパンのIHGホテル&リゾート。 \nただし、IHGのマイプロフィールの設定でポイント獲得タイプをANAにしておく必要があるので注意を。 \nーーーーーーーーーーーーーーーーーーーーーーー\n【キャンペーン名】\nANAマイルが２倍 ダブルマイルキャンペーン\n【キャンペーン期間】\n2025年9月1日（月）－10月31日（金）\nーーーーーーーーーーーーーーーーーーーーーーー
URL:https://tabi-mile.com/campaign_calendar/ihg-ana-202508/
CATEGORIES:エアライン,ホテル
ATTACH;FMTTYPE=image/jpeg:https://tabi-mile.com/wp-content/uploads/2025/08/97b9b453ec8a4ed899ba0fd8237abed0.jpg
END:VEVENT
BEGIN:VEVENT
DTSTART;VALUE=DATE:20250901
DTEND;VALUE=DATE:20251201
DTSTAMP:20260423T123442
CREATED:20250815T075902Z
LAST-MODIFIED:20250815T075902Z
UID:68082-1756684800-1764547199@tabi-mile.com
SUMMARY:ANA【東京-函館線】対象便にご搭乗で最大1\,200コインもらえるキャンペーン
DESCRIPTION:期間中にANAの東京ー函館線を利用するなら、ぜひ参加登録を。 \n参加登録&1回搭乗500コイン、2回以上搭乗1\,200コインがもらえます。 \nーーーーーーーーーーーーーーーーーーーーーーー\n【キャンペーン名】\nANA【東京-函館線】対象便にご搭乗で最大1\,200コインもらえるキャンペーン\n【キャンペーン期間】\n2025年9月1日（月）から2025年11月30日（日）ご搭乗分まで\nーーーーーーーーーーーーーーーーーーーーーーー
URL:https://tabi-mile.com/campaign_calendar/ana-tokyo-hakodate-1200-202508/
CATEGORIES:エアライン
ATTACH;FMTTYPE=image/jpeg:https://tabi-mile.com/wp-content/uploads/2025/08/60eebaf683d67ca5782f41b0391d8e95.jpg
END:VEVENT
BEGIN:VEVENT
DTSTART;VALUE=DATE:20250901
DTEND;VALUE=DATE:20260101
DTSTAMP:20260423T123442
CREATED:20250901T140140Z
LAST-MODIFIED:20250901T140140Z
UID:68609-1756684800-1767225599@tabi-mile.com
SUMMARY:スルガ銀行ANA支店新規口座開設で最大33\,000マイル
DESCRIPTION:スルガ銀行ANA支店では、新規口座開設キャンペーンを実施中です。 \nすべての条件を達成すると、最大33\,000マイルをプレゼント！ \nキャンペーン期間中に口座を開設し、口座残高に応じて毎月マイルを獲得できます。 \nたとえば、50万円以上の残高で996マイル、1\,000万円以上では30\,000マイルが獲得可能です。 \nまた、クレジットカード等の返済指定口座をANA支店に登録し、3\,000円以上の引き落としを行うことで、さらに500マイル（上限2\,500マイル）を獲得できます。 \n特典として、新規口座開設者にはウェルカム特典や、25歳以下のお客様にはヤング特典が用意されています。Visaデビットカードの利用や給与振込、口座振替でもマイルが貯まります。 \nキャンペーン期間は2025年12月31日までに口座申込をし、2026年1月中に口座開設完了した方が対象です。 \nーーーーーーーーーーーーーーーーーーーーーーー\n【キャンペーン名】\nスルガ銀行ANA支店新規口座開設で最大33\,000マイル\n【キャンペーン期間】\n2025年9月1日（月）～12月31日（水）\nーーーーーーーーーーーーーーーーーーーーーーー
URL:https://tabi-mile.com/campaign_calendar/ana-surugabank-202509/
CATEGORIES:エアライン
ATTACH;FMTTYPE=image/jpeg:https://tabi-mile.com/wp-content/uploads/2025/09/1fa0fb6b9d99c543450ff6114e46fbe2.jpg
END:VEVENT
BEGIN:VEVENT
DTSTART;VALUE=DATE:20250903
DTEND;VALUE=DATE:20250910
DTSTAMP:20260423T123442
CREATED:20250902T140557Z
LAST-MODIFIED:20250902T140557Z
UID:68625-1756857600-1757462399@tabi-mile.com
SUMMARY:ANA国内線&国際線タイムセール
DESCRIPTION:ANAの国内線と国際線の航空券でタイムセール。 \n国内線は、普通席だけでなく、プレミアムクラスも対象としたタイムセール。 \n羽田ー新千歳7\,700円～、羽田ー那覇9\,200円～など。 \nプレミアムクラスも羽田ー新千歳24\,100円～、羽田ー那覇27\,000円～と安い！ \nーーーーーーーーーーーーーーーーーーーーーーー\n【キャンペーン名】\nANA国内線タイムセール\nANA国際線タイムセール\n【キャンペーン期間】\n国内線普通席：2025年9月3日（水）0:00～9月9日（火）23:59\n国内線プレミアムクラス：2025年9月3日（水）0:00～9月4日（木）23:59\n国際線：2025年9月3日（水）0:00～9月9日（火）23:59\n【搭乗期間】\n国内線普通席：2025年10月26日（日）～2026年2月28日（土）\n国内線プレミアムクラス：2025年10月26日（日）～11月30日（日）\n国際線：2025年10月14日（火）～2026年5月31日（日）\nーーーーーーーーーーーーーーーーーーーーーーー
URL:https://tabi-mile.com/campaign_calendar/ana-sale-202509-2/
CATEGORIES:エアライン
ATTACH;FMTTYPE=image/jpeg:https://tabi-mile.com/wp-content/uploads/2025/09/f7af488d7f1621c8c7194be8f2b34ba5.jpg
END:VEVENT
BEGIN:VEVENT
DTSTART;VALUE=DATE:20250903
DTEND;VALUE=DATE:20251106
DTSTAMP:20260423T123442
CREATED:20250903T144322Z
LAST-MODIFIED:20250929T065635Z
UID:68664-1756857600-1762387199@tabi-mile.com
SUMMARY:ANAアメックス3券種で期間限定入会キャンペーン！プレミアム券種なら最大18万マイル
DESCRIPTION:ポイントを有効期限なしで貯められるANAアメックス3券種の期間限定新規入会キャンペーンがスタート！ \nANAアメックスプレミアムの最大18万マイルなら、北米やハワイをファーストクラスで往復できるマイル数。 \nANAアメックスゴールドも最大10万マイルで、ビジネスクラスでハワイ往復可能。 \nANAカードはブランドが異なれば複数枚持てるので、ANAマイルを大量に貯めるチャンス。 \nーーーーーーーーーーーーーーーーーーーーーーー\n【キャンペーン名】\nANAアメックス新規入会キャンペーン\nANAアメックスゴールド新規入会キャンペーン\nANAアメックスプレミアム新規入会キャンペーン\n【キャンペーン期間】\n2025年9月3日～11月5日\nーーーーーーーーーーーーーーーーーーーーーーー \n\n				\n					\n					\n												\n							\n																																																																															\n							\n																	ANAカードの最高峰ANAアメックスプレミアムのメリット・デメリットまとめ\n								\n																									続きを見る \n															\n						\n					\n					\n\n				\n\n				\n					\n					\n												\n							\n																																																																															\n							\n																	ANAアメックス&ゴールドお得な入会キャンペーン！ANAマイルが無期限に貯められる\n								\n																									続きを見る
URL:https://tabi-mile.com/campaign_calendar/ana-amex-camp-202509/
CATEGORIES:クレジットカード
ATTACH;FMTTYPE=image/jpeg:https://tabi-mile.com/wp-content/uploads/2025/09/593c2699305b9e828b8ab203e780b1c5.jpg
END:VEVENT
BEGIN:VEVENT
DTSTART;VALUE=DATE:20250905
DTEND;VALUE=DATE:20250912
DTSTAMP:20260423T123442
CREATED:20250905T061511Z
LAST-MODIFIED:20250905T061511Z
UID:68762-1757030400-1757635199@tabi-mile.com
SUMMARY:ANAトラベラーズ タイムセール国内・海外ダイナミックパッケージ
DESCRIPTION:ANAの「タイムセール国内・海外ダイナミックパッケージ」が開催中です。 \n国内線対象ツアーは、ANA航空券＋ホテルの組み合わせで大幅割引。 \n人気の温泉地やリゾートから都市観光まで、秋旅や年末年始の予約にもぴったり。 \n販売期間は短いですが、宿泊期間や出発対象期間が長めに設定されているのも魅力。 \n燃油サーチャージ込みで安心、空席連動のため早めの予約がおすすめです。 \nーーーーーーーーーーーーーーーーーーーーーーー\n【キャンペーン名】\nANAトラベラーズ タイムセール国内・海外ダイナミックパッケージ\n【キャンペーン期間】\n販売期間：2025年9月5日～2025年9月11日\n国内ツアー出発期間：2025年9月6日～2026年8月25日\n海外ツアー出発期間：2025年10月1日～2026年6月30日\n【概要】\n・ANA航空券＋宿泊がセットになった割引パッケージ\n・国内外とも秋から年末年始の旅計画に最適\n・燃油サーチャージ込み、空席動的価格で早割がお得\nーーーーーーーーーーーーーーーーーーーーーーー
URL:https://tabi-mile.com/campaign_calendar/ana-travel-timesale-202509/
CATEGORIES:旅行会社
ATTACH;FMTTYPE=image/jpeg:https://tabi-mile.com/wp-content/uploads/2025/09/6fbd20f03ea112cf0cd0ea9e44690a88.jpg
END:VEVENT
BEGIN:VEVENT
DTSTART;VALUE=DATE:20250912
DTEND;VALUE=DATE:20250917
DTSTAMP:20260423T123442
CREATED:20250914T145929Z
LAST-MODIFIED:20250914T150614Z
UID:68947-1757635200-1758067199@tabi-mile.com
SUMMARY:ANAのふるさと納税5日間限定最大9万マイル
DESCRIPTION:2025年9月12日から16日まで、マイルが貯まるふるさと納税サイト「ANAのふるさと納税」で最大9万マイルをプレゼントするキャンペーンを実施中。 \n3つのキャンペーンを組み合わせると最大9万マイルになります。 \n\n1万円以上の寄附をした人に最大10倍マイルキャンペーン（要エントリー）\n初めてANAのふるさと納税利用で最大45\,000マイル（要エントリー）\nBoostDayでマイルが2倍\n\n1と2は要エントリーなので忘れずにエントリーを。 \nーーーーーーーーーーーーーーーーーーーーーーー\n【キャンペーン名】\nANAのふるさと納税5日間限定最大9万マイル\n【キャンペーン期間】\n2025年9月12日～9月16日\nーーーーーーーーーーーーーーーーーーーーーーー
URL:https://tabi-mile.com/campaign_calendar/ana-furusato-10th-miles-202509/
CATEGORIES:エアライン
ATTACH;FMTTYPE=image/jpeg:https://tabi-mile.com/wp-content/uploads/2025/09/3ebd49fdc382ebc13c6a72814d313ac1.jpg
END:VEVENT
BEGIN:VEVENT
DTSTART;VALUE=DATE:20250918
DTEND;VALUE=DATE:20251002
DTSTAMP:20260423T123442
CREATED:20250919T022933Z
LAST-MODIFIED:20250919T022933Z
UID:68988-1758153600-1759363199@tabi-mile.com
SUMMARY:ANAマイレージモール【Hotels.com】4倍マイルキャンペーン
DESCRIPTION:ANAマイレージモール経由でHotels.comを利用すると、マイルが4倍になるキャンペーンがスタート。 \n200円ごとに4マイル貯まります。 \nHotels.comでは、現在秋のセール実施中。 \nダブルでお得です。 \nーーーーーーーーーーーーーーーーーーーーーーー\n【キャンペーン名】\nANAマイレージモール【Hotels.com】4倍マイルキャンペーン\n【キャンペーン期間】\n2025/09/18～2025/10/01\nーーーーーーーーーーーーーーーーーーーーーーー
URL:https://tabi-mile.com/campaign_calendar/ana-mall-hotelscom-4-202509/
CATEGORIES:エアライン,旅行会社
ATTACH;FMTTYPE=image/jpeg:https://tabi-mile.com/wp-content/uploads/2025/09/d4da2a01744b5ca51162e7da0d8ba4ae.jpg
END:VEVENT
BEGIN:VEVENT
DTSTART;VALUE=DATE:20250924
DTEND;VALUE=DATE:20251001
DTSTAMP:20260423T123442
CREATED:20250922T133240Z
LAST-MODIFIED:20250922T134853Z
UID:69012-1758672000-1759276799@tabi-mile.com
SUMMARY:ANA国内線&国際線 特典航空券減額マイル！
DESCRIPTION:ANAの減額マイルキャンペーンが来た！ \n国内線（片道）は、 \n\n\n\n路線\n割引後マイル\n通常マイル\n割引率\n\n\n\n\n羽田ー伊丹\n2\,900\n6\,000\n52%引き\n\n\n伊丹ー福岡\n2\,900\n6\,000\n52%引き\n\n\n羽田ー札幌\n3\,900\n7\,000\n44%引き\n\n\n羽田ー那覇\n5\,900\n8\,000\n26%引き\n\n\n羽田ー宮古・石垣\n7\,400\n9\,500\n22%引き\n\n\n\nなどなど。 \n短距離路線ほどオトクになっています。 \n国際線（片道）は、エコノミークラスが対象で路線はアジア・ハワイ・オセアニア・ヨーロッパ方面。 \n\n\n\n路線\n割引後マイル\n通常マイル\n割引率\n\n\n\n\n羽田・成田・関西ー上海\n4\,250\n8\,500\n50%引き\n\n\n羽田・成田ー香港\n4\,250\n8\,500\n50%引き\n\n\n羽田ーバンコク\n9\,000\n15\,000\n40%引き\n\n\n成田ーホノルル\n8\,750\n17\,500\n50%引き\n\n\n成田ーパース\n9\,250\n18\,500\n50%引き\n\n\n羽田ーフランクフルト\n11\,250\n22\,500\n50%引き\n\n\n羽田ーミュンヘン\n11\,250\n22\,500\n50%引き\n\n\n羽田ーミラノ\n11\,250\n22\,500\n50%引き\n\n\n羽田ーストックホルム\n11\,250\n22\,500\n50%引き\n\n\n羽田ーウィーン\n11\,250\n22\,500\n50%引き\n\n\n成田ーブリュッセル\n11\,250\n22\,500\n50%引き\n\n\n羽田ーパリ\n13\,500\n22\,500\n40%引き\n\n\n羽田ーロンドン\n15\,750\n22\,500\n30%引き\n\n\n\nなどで最大50%減額！ \nいつもよりかなり少ないマイルで特典航空券が予約できるのでチャンスです。 \nーーーーーーーーーーーーーーーーーーーーーーー\n【キャンペーン名】\nANA国内線&国際線 特典航空券減額マイル！\n【キャンペーン期間】\n2025年9月24日（水）～9月30日（火）\n【対象搭乗期間】\n国内線 2025年12月1日（月）～12月24日（水）\n国際線 路線によって異なる 長いもので2026年3月19日まで\nーーーーーーーーーーーーーーーーーーーーーーー
URL:https://tabi-mile.com/campaign_calendar/ana-tokutenkoukuuken-gengaku-202509/
CATEGORIES:エアライン
ATTACH;FMTTYPE=image/jpeg:https://tabi-mile.com/wp-content/uploads/2025/09/55d9dd4c5168f4584a50218b998d3f71.jpg
END:VEVENT
BEGIN:VEVENT
DTSTART;VALUE=DATE:20250929
DTEND;VALUE=DATE:20250930
DTSTAMP:20260423T123442
CREATED:20250924T081031Z
LAST-MODIFIED:20250924T081547Z
UID:69036-1759104000-1759190399@tabi-mile.com
SUMMARY:ANAにキュン！年末年始の国内線航空券セールが目玉！
DESCRIPTION:毎月恒例のANAにキュン！。 \n2025年9月29日の目玉は年末年始が対象の国内線航空券セール。 \n対象路線はこちら（片道あたり） \n\n東京ー札幌 8\,000円～\n東京ー那覇 9\,500円～\n東京ー福岡8\,800円～\n東京ー大阪 7\,000円～\n東京ー鹿児島 8\,500円～\n東京ー熊本 8\,500円～\n東京ー松山 8\,000円～\n東京ー秋田 7\,700円～\n東京ー岡山 8\,800円～\n沖縄ー石垣 4\,500円～\n\nと年末年始でこの値段は安い。 \n \nすでにセール前に埋まっている時期はかなり厳しそうですが、まだ空いている箇所もあり。 \n争奪戦必死なので、事前に日程・行き先を決めておくのが吉です。 \nーーーーーーーーーーーーーーーーーーーーーーー\n【キャンペーン名】\nANAにキュン！年末年始の国内線航空券セールが目玉！\n【キャンペーン期間】\n2025年9月29日（月）0:00～23:59まで\n【搭乗期間】\n2025年12月26日（金）～2026年1月4日（日）\nーーーーーーーーーーーーーーーーーーーーーーー
URL:https://tabi-mile.com/campaign_calendar/ana-kyun-202509/
CATEGORIES:エアライン
ATTACH;FMTTYPE=image/jpeg:https://tabi-mile.com/wp-content/uploads/2025/09/2025-09-24_17h06_55.jpg
END:VEVENT
BEGIN:VEVENT
DTSTART;VALUE=DATE:20251001
DTEND;VALUE=DATE:20251116
DTSTAMP:20260423T123442
CREATED:20251001T074754Z
LAST-MODIFIED:20251001T074754Z
UID:69237-1759276800-1763251199@tabi-mile.com
SUMMARY:ANAカード決済で最大2\,500マイル貯まる！秋のマイルアップキャンペーン
DESCRIPTION:ANAカード会員なら、全員とりあえずエントリーしておいて損はないです。 \nANAカード決済で、期間限定マイルアップ。 \n対象店舗は少なめですが、とりあえずエントリーしておけばいつのまにかマイルアップしているはず。 \nーーーーーーーーーーーーーーーーーーーーーーー\n【キャンペーン名】\nANAカード決済で最大2\,500マイル貯まる！秋のマイルアップキャンペーン\n【キャンペーン期間】\n2025年10月1日（水）から2025年11月15日（土）\nーーーーーーーーーーーーーーーーーーーーーーー
URL:https://tabi-mile.com/campaign_calendar/ana-card-mile-up-202510/
CATEGORIES:クレジットカード,エアライン
ATTACH;FMTTYPE=image/jpeg:https://tabi-mile.com/wp-content/uploads/2025/10/d54d567b93cf79d09c12f5e8f287f7bd.jpg
END:VEVENT
BEGIN:VEVENT
DTSTART;VALUE=DATE:20251001
DTEND;VALUE=DATE:20260101
DTSTAMP:20260423T123442
CREATED:20251001T074527Z
LAST-MODIFIED:20251001T074527Z
UID:69233-1759276800-1767225599@tabi-mile.com
SUMMARY:ANA国際線プレミアムポイント2倍キャンペーン
DESCRIPTION:路線限定ですが、ANA国際線プレミアムポイント2倍キャンペーンが来た！ \n対象路線は、 \n\n羽田・成田⇔ロサンゼルス\n羽田⇔ニューヨーク\n羽田⇔ロンドン\n羽田⇔パリ\n\nのANA及びANAグループ運航便。 \nしかも、ビジネスクラス以上（F・A・J・C・D・Z・P）クラスの運賃が対象。 \n長距離路線かつビジネスクラス以上なのでハードルは高めですね。 \n例えば、羽田ーロサンゼルスのビジネスクラスで60万円（運賃P）で獲得プレミアムポイントは通常往復8\,440ポイント。 \n2倍キャンペーンで16\,880ポイント。 \n1ポイント単価は、35.6円。 \n国内線の羽田ー那覇のプレミアムクラスならポイント単価15円くらいいけるので、35円は高めですが、1往復で16\,880ポイント稼げるのは楽といえば楽。 \n要キャンペーン登録です。 \nーーーーーーーーーーーーーーーーーーーーーーー\n【キャンペーン名】\nANA国際線プレミアムポイント2倍キャンペーン\n【キャンペーン期間】\n2025年10月1日（水）00:00（日本時間）～2025年12月31日（水）23:59（予約・発券する国の時間）\nーーーーーーーーーーーーーーーーーーーーーーー \n\n				\n					\n					\n												\n							\n																																																																															\n							\n																	【2027年度】 ANAライフソリューションサービス攻略！SFC修行を効率化！ 知って得する裏技も紹介\n								\n																									続きを見る
URL:https://tabi-mile.com/campaign_calendar/ana-pp-camp-202510/
CATEGORIES:エアライン
ATTACH;FMTTYPE=image/jpeg:https://tabi-mile.com/wp-content/uploads/2025/10/e0a6c4a5371543381bc440b2dfbc4333.jpg
END:VEVENT
BEGIN:VEVENT
DTSTART;VALUE=DATE:20251003
DTEND;VALUE=DATE:20251010
DTSTAMP:20260423T123442
CREATED:20251002T075812Z
LAST-MODIFIED:20251003T060959Z
UID:69244-1759449600-1760054399@tabi-mile.com
SUMMARY:ANA国内線&国際線航空券タイムセール！
DESCRIPTION:ANA国内線航空券と国際線航空券でタイムセール！ \n国内線は、 \n\n東京（羽田） ⇄ 札幌（新千歳）：7\,700円〜\n東京（羽田） ⇄ 福岡：8\,500円〜\n東京（羽田） ⇄ 広島：8\,000円〜\n東京（羽田） ⇄ 鹿児島：7\,700円〜\n名古屋（中部） ⇄ 札幌（新千歳）：8\,300円〜\n東京（羽田） ⇄ 沖縄（那覇）：9\,200円〜\n東京（羽田） ⇄ 大阪（伊丹）：7\,000円〜\n東京（羽田） ⇄ 長崎：8\,500円〜\n大阪（伊丹） ⇄ 札幌（新千歳）：8\,800円〜\n沖縄（那覇） ⇄ 石垣：4\,500円〜\n\n国際線はホノルル往復87\,000円～、ロサンゼルス往復15万円～、シンガポール往復64\,400円～などと国際線も安い！ \nーーーーーーーーーーーーーーーーーーーーーーー\n【キャンペーン名】\nANA国内線&国際線航空券タイムセール\n【キャンペーン期間】\n販売期間：2025年10月3日（金）0:00～10月9日（木）23:59\n搭乗期間：2025年12月1日（月）～2026年3月12日（木）\nーーーーーーーーーーーーーーーーーーーーーーー
URL:https://tabi-mile.com/campaign_calendar/ana-time-sale-202510/
CATEGORIES:エアライン
ATTACH;FMTTYPE=image/jpeg:https://tabi-mile.com/wp-content/uploads/2025/10/9f16a78411cb8ce4b69b5c042739da3b.jpg
END:VEVENT
BEGIN:VEVENT
DTSTART;VALUE=DATE:20251003
DTEND;VALUE=DATE:20251010
DTSTAMP:20260423T123442
CREATED:20251002T144647Z
LAST-MODIFIED:20251002T144647Z
UID:69261-1759449600-1760054399@tabi-mile.com
SUMMARY:ANA国内&海外ツアータイムセール
DESCRIPTION:航空券だけでなく、国内&海外ツアーもタイムセール。 \n国内は最大18\,000円割引のクーポン。 \n海外ツアーは最大8万円の割引クーポンあり。 \nーーーーーーーーーーーーーーーーーーーーーーー\n【キャンペーン名】\nANA国内&海外ツアータイムセール\n【キャンペーン期間】\n2025年10月3日（金）0:00～2025年10月9日（木）23:59\nクーポン適用対象期間（国内）2025年12月1日（月）～2026年6月30日（火）\nクーポン適用対象期間（海外）2025年11月1日（土）～2026年6月30日（火）\nーーーーーーーーーーーーーーーーーーーーーーー
URL:https://tabi-mile.com/campaign_calendar/ana-tour-sale-202510/
CATEGORIES:エアライン
ATTACH;FMTTYPE=image/jpeg:https://tabi-mile.com/wp-content/uploads/2025/10/690aca8d63ec9b97d7ad8a4543fa0e88.jpg
END:VEVENT
BEGIN:VEVENT
DTSTART;VALUE=DATE:20260116
DTEND;VALUE=DATE:20260131
DTSTAMP:20260423T123442
CREATED:20260116T094631Z
LAST-MODIFIED:20260116T100112Z
UID:69668-1768521600-1769817599@tabi-mile.com
SUMMARY:ANAマイレージクラブ / Sony Bank WALLET最大4万マイルキャンペーン 早期終了！
DESCRIPTION:ANAマイレージクラブ / Sony Bank WALLETの大型キャンペーンが早期終了に！ \n当初は2026年3月31日までの予定でしたが、人気殺到で2026年1月30日午前9時59分までがキャンペーンの対象に。 \n  \n特典1\nANAマイレージクラブ / Sony Bank WALLETの新規入会と国内ショッピングの金額に応じて、最大2万マイル。 \n条件はとても簡単。 \n\nANAマイレージクラブ / Sony Bank WALLETの新規入会\n2026年3月31日までに、ANAマイレージクラブ / Sony Bank WALLETで国内ショッピングを1万円以上\n20万円以上利用で最大の2万マイル獲得\n\n特典1は、まだANAマイレージクラブ / Sony Bank WALLETを持っていない方向け。 \n\n\n\n\n国内ショッピング利用金額合計\n\n\n特典マイル\n\n\n国内ショッピング通常特典マイル（*1）\n\n\n入会マイル（*2）\n\n\n合計\n\n\n\n\n\n\n1万円以上5万円未満\n\n\n450マイル\n\n\n50マイル（1万円ご利用の場合）\n\n\n500マイル\n\n\n1\,000マイル\n\n\n\n\n5万円以上10万円未満\n\n\n4\,250マイル\n\n\n250マイル（5万円ご利用の場合）\n\n\n500マイル\n\n\n5\,000マイル\n\n\n\n\n10万円以上15万円未満\n\n\n9\,000マイル\n\n\n500マイル（10万円ご利用の場合）\n\n\n500マイル\n\n\n10\,000マイル\n\n\n\n\n15万円以上20万円未満\n\n\n13\,750マイル\n\n\n750マイル（15万円ご利用の場合）\n\n\n500マイル\n\n\n15\,000マイル\n\n\n\n\n20万円以上\n\n\n18\,500マイル\n\n\n1\,000マイル（20万円ご利用の場合）\n\n\n500マイル\n\n\n20\,000マイル\n\n\n\n\n特典2\nさらに、外貨定期預金で最大2万マイルもらえます。 \n\n1月30日午前9時59分までに円普通預金から直接100万円以上のANAマイル付き外貨定期預金を1ヶ月\n\nこちらは新規加入者に加えて、すでにANAマイレージクラブ / Sony Bank WALLETを持っている方も対象。 \n\n\n\n\n合計預け入れ額\n\n\n特典マイル\n\n\nボーナスマイル（*）\n\n\n合計\n\n\n\n\n\n\n100万円以上〜200万円未満\n\n\n2\,500マイル\n\n\n2\,500マイル\n\n\n5\,000マイル\n\n\n\n\n200万円以上〜300万円未満\n\n\n5\,000マイル\n\n\n5\,000マイル\n\n\n10\,000マイル\n\n\n\n\n300万円以上\n\n\n15\,000マイル\n\n\n5\,000マイル\n\n\n20\,000マイル\n\n\n\n\nーーーーーーーーーーーーーーーーーーーーーーー\n【キャンペーン名】\nANA マイレージクラブ Sony Bank WALLET最大4万マイル\n【キャンペーン期間】\n～2026年1月30日午前9時59分まで\nーーーーーーーーーーーーーーーーーーーーーーー \n\n				\n					\n					\n												\n							\n																																																																															\n							\n																	ANAマイルが貯まるソニー銀行の外貨定期預金をやってみた！海外旅行に便利なANAマイレージクラブ / Sony Bank WALLET\n								\n																									続きを見る
URL:https://tabi-mile.com/campaign_calendar/ana-sony-bank-wallet-202601/
CATEGORIES:エアライン
ATTACH;FMTTYPE=image/jpeg:https://tabi-mile.com/wp-content/uploads/2026/01/b1cfc310418d35533cfb1fa75a5f4083.jpg
END:VEVENT
END:VCALENDAR