BEGIN:VCALENDAR
VERSION:2.0
PRODID:-//旅マイル - ECPv6.15.20//NONSGML v1.0//EN
CALSCALE:GREGORIAN
METHOD:PUBLISH
X-WR-CALNAME:旅マイル
X-ORIGINAL-URL:https://tabi-mile.com
X-WR-CALDESC:旅マイル のイベント
REFRESH-INTERVAL;VALUE=DURATION:PT1H
X-Robots-Tag:noindex
X-PUBLISHED-TTL:PT1H
BEGIN:VTIMEZONE
TZID:Asia/Tokyo
BEGIN:STANDARD
TZOFFSETFROM:+0900
TZOFFSETTO:+0900
TZNAME:JST
DTSTART:20240101T000000
END:STANDARD
END:VTIMEZONE
BEGIN:VEVENT
DTSTART;VALUE=DATE:20250501
DTEND;VALUE=DATE:20250716
DTSTAMP:20260423T134647
CREATED:20250501T205741Z
LAST-MODIFIED:20250502T014117Z
UID:66205-1746057600-1752623999@tabi-mile.com
SUMMARY:ANA JCB期間限定新規入会キャンペーン
DESCRIPTION:アフィリエイトプログラムを利用して広告収益を得て運営しております \n\nANA JCB新規入会で最大116\,000マイル相当プレゼント！ \n\n\n\n券種\nキャンペーン内容\n\n\n\n\nソラチカカード\n最大19\,000マイル\n\n\nソラチカゴールドカード\n最大116\,000マイル\n\n\nANA JCB CARD FIRST\n最大25\,200マイル\n\n\nANA JCB一般カード\n最大19\,000マイル\n\n\nANA JCB カード（学生用）\n最大19\,000マイル\n\n\nANA JCBワイドカード\n最大20\,000マイル\n\n\nANA JCBワイドゴールドカード\n最大116\,000マイル\n\n\nANA JCB カード プレミアム\n最大10\,000マイル\n\n\n\nANA JCBカードの詳細は「ANA JCBカード最新入会キャンペーン！ANA JCBカードのメリット・デメリット、券種比較まとめ」へ。 \n\n				\n					\n					\n												\n							\n																																																																															\n							\n																	ANA JCBカード最新入会キャンペーン！ANA JCBカードのメリット・デメリット、券種比較まとめ\n								\n																									続きを見る \n															\n						\n					\n					\n\n				\nーーーーーーーーーーーーーーーーーーーーーーー\n【キャンペーン名】\nANA JCB新規入会キャンペーン\n【キャンペーン期間】\n2025年5月1日～7月15日\nーーーーーーーーーーーーーーーーーーーーーーー \nANA JCBカードの最新入会キャンペーンは、新規入会で最大116\,000マイルプレゼント（一部抽選あり） \nキャンペーンの詳細はこちら↓ \n最大116\,000マイルプレゼント（一部抽選あり） ANA JCBカードの入会・キャンペーン詳細はこちら 2025年7月15日まで！ \n※キャンペーンの詳細は、公式ホームページにてご確認ください。
URL:https://tabi-mile.com/campaign_calendar/ana-jcb%e2%80%90202505/
CATEGORIES:クレジットカード
ATTACH;FMTTYPE=image/png:https://tabi-mile.com/wp-content/uploads/2025/04/d99c3cc5c635673369c43935dff62a8b.png
END:VEVENT
BEGIN:VEVENT
DTSTART;VALUE=DATE:20250515
DTEND;VALUE=DATE:20250605
DTSTAMP:20260423T134647
CREATED:20250526T080149Z
LAST-MODIFIED:20250526T080149Z
UID:66855-1747267200-1749081599@tabi-mile.com
SUMMARY:ANA エクスペディア5倍マイルキャンペーン
DESCRIPTION:ANAマイレージ会員なら、エクスペディア5倍マイルキャンペーン。 \n200円=5マイル貯まります。 \nーーーーーーーーーーーーーーーーーーーーーーー\n【キャンペーン名】\nANA【エクスペディア】5倍マイルキャンペーン\n【キャンペーン期間】\n2025年5月15日～6月4日\nーーーーーーーーーーーーーーーーーーーーーーー
URL:https://tabi-mile.com/campaign_calendar/ana-expedia-5-202505/
CATEGORIES:エアライン
ATTACH;FMTTYPE=image/jpeg:https://tabi-mile.com/wp-content/uploads/2025/05/0ddac93177926a760ada1dddc4f99bb3.jpg
END:VEVENT
BEGIN:VEVENT
DTSTART;VALUE=DATE:20250519
DTEND;VALUE=DATE:20250610
DTSTAMP:20260423T134647
CREATED:20250522T074638Z
LAST-MODIFIED:20250522T074638Z
UID:66799-1747612800-1749513599@tabi-mile.com
SUMMARY:ANA MALL初めて利用で3倍マイル
DESCRIPTION:ANA MALLをまだ使ったことがない方向けのキャンペーン。 \n初めての利用で獲得マイルが3倍に。 \nーーーーーーーーーーーーーーーーーーーーーーー\n【キャンペーン名】\nANA MALL初めて利用で3倍マイル\n【キャンペーン期間】\n2025年5月19日（月）10:00～6月9日（月）9:59\nーーーーーーーーーーーーーーーーーーーーーーー
URL:https://tabi-mile.com/campaign_calendar/ana-mall-3-miles-202505/
CATEGORIES:エアライン
ATTACH;FMTTYPE=image/jpeg:https://tabi-mile.com/wp-content/uploads/2025/05/ff67b986ad0c732f3bdb0d7f830c52dd.jpg
END:VEVENT
BEGIN:VEVENT
DTSTART;VALUE=DATE:20250521
DTEND;VALUE=DATE:20250901
DTSTAMP:20260423T134647
CREATED:20250522T074408Z
LAST-MODIFIED:20250522T074408Z
UID:66796-1747785600-1756684799@tabi-mile.com
SUMMARY:最大12\,000マイルがもらえる！ANAガスリリース記念キャンペーン
DESCRIPTION:ANAガス新登場を記念して、最大12\,000マイルもらえるキャンペーン。 \n内訳は、 \n\nANAガス新規契約で1\,500マイル\nANAでんき新規契約で500マイル\nANAガス・ANAでんき両方契約&ANAカード会員なら抽選で10\,000マイル\n\nANAガス契約だけだと1\,500マイル獲得になります。 \nANAガスはANAカード会員なら年間1\,200マイル貯まるガスサービス。 \nーーーーーーーーーーーーーーーーーーーーーーー\n【キャンペーン名】\n最大12\,000マイルがもらえる！ANAガスリリース記念キャンペーン\n【キャンペーン期間】\n2025年5月21日（水）～2025年8月31日（日）お申し込み分まで\nーーーーーーーーーーーーーーーーーーーーーーー
URL:https://tabi-mile.com/campaign_calendar/ana-gus-camp-202505/
CATEGORIES:エアライン
ATTACH;FMTTYPE=image/jpeg:https://tabi-mile.com/wp-content/uploads/2025/05/654f14fb692641d0bd2206c0f86b8246.jpg
END:VEVENT
BEGIN:VEVENT
DTSTART;VALUE=DATE:20250601
DTEND;VALUE=DATE:20250701
DTSTAMP:20260423T134647
CREATED:20250609T022136Z
LAST-MODIFIED:20250609T022136Z
UID:67044-1748736000-1751327999@tabi-mile.com
SUMMARY:ANAのふるさと納税10年目の大感謝祭
DESCRIPTION:ANAのふるさと納税でマイル6倍キャンペーン。 \nANAカードマイルプラスのマイルが6倍なので、ANAカードユーザー限定です。 \nーーーーーーーーーーーーーーーーーーーーーーー\n【キャンペーン名】\nANAのふるさと納税10年目の大感謝祭\n【キャンペーン期間】\n2025年6月1日（日）00:00-6月30日（月）23:59（日本時間）\nーーーーーーーーーーーーーーーーーーーーーーー
URL:https://tabi-mile.com/campaign_calendar/ana-furusato-camp-202506/
CATEGORIES:エアライン
ATTACH;FMTTYPE=image/jpeg:https://tabi-mile.com/wp-content/uploads/2025/06/e14a3b14a0f7dcc90f07d7de8bbf2670.jpg
END:VEVENT
BEGIN:VEVENT
DTSTART;VALUE=DATE:20250602
DTEND;VALUE=DATE:20250701
DTSTAMP:20260423T134647
CREATED:20250603T031727Z
LAST-MODIFIED:20250605T064724Z
UID:66975-1748822400-1751327999@tabi-mile.com
SUMMARY:ANA住宅ローン2倍マイルキャンペーン
DESCRIPTION:ANA住宅ローンで2倍マイルキャンペーン。 \n6月中にANAの住宅ローンの申込みをした方が対象。 \nANAの住宅ローンは、auじぶん銀行、SBI銀行、りそな銀行の住宅ローン好きなところから選べます。 \n融資額20万円につき100マイル（マイル積算上限10万マイル）貯まり、今回のキャンペーンで2倍にアップ（上限20万マイル）。 \n4\,000万円ローンした場合は、40\,000マイル。（通常は20\,000マイル）。 \nーーーーーーーーーーーーーーーーーーーーーーー\n【キャンペーン名】\nANA住宅ローン2倍マイルキャンペーン\n【キャンペーン期間】\n2025年6月2日（月）〜2025年6月30日（月）まで\nーーーーーーーーーーーーーーーーーーーーーーー
URL:https://tabi-mile.com/campaign_calendar/ana-homeloan-202506/
CATEGORIES:エアライン
ATTACH;FMTTYPE=image/jpeg:https://tabi-mile.com/wp-content/uploads/2025/06/af76599ca65c7cfbd2b973157e3799b5.jpg
END:VEVENT
BEGIN:VEVENT
DTSTART;VALUE=DATE:20250609
DTEND;VALUE=DATE:20250624
DTSTAMP:20260423T134647
CREATED:20250609T015227Z
LAST-MODIFIED:20250609T015227Z
UID:67036-1749427200-1750723199@tabi-mile.com
SUMMARY:ANA Mall マイルフェス2025夏
DESCRIPTION:ANA Mallで条件達成で最大13倍マイル。 \nさらに、マイル利用で最大1万マイル又は国内線往復航空券が当たるチャンスも。 \n参加登録が必須なので、参加登録を。 \nANA Mallはana ライフソリューションサービスの必須利用項目です。 \nーーーーーーーーーーーーーーーーーーーーーーー\n【キャンペーン名】\nANA Mall マイルフェス2025夏\n【キャンペーン期間】\n2025年6月9日（月）10:00～6月23日（月）9:59\nーーーーーーーーーーーーーーーーーーーーーーー \n【2026年度】 ANAライフソリューションサービス攻略！SFC修行を効率化！ 知って得する裏技も紹介
URL:https://tabi-mile.com/campaign_calendar/ana-mall-mile-fes-2025/
CATEGORIES:エアライン
ATTACH;FMTTYPE=image/jpeg:https://tabi-mile.com/wp-content/uploads/2025/06/d4f13d3d3fab387eecfc70d52a5a0dd6.jpg
END:VEVENT
BEGIN:VEVENT
DTSTART;VALUE=DATE:20250610
DTEND;VALUE=DATE:20250617
DTSTAMP:20260423T134647
CREATED:20250610T024412Z
LAST-MODIFIED:20250610T024412Z
UID:67047-1749513600-1750118399@tabi-mile.com
SUMMARY:ANA国内線航空券タイムセール
DESCRIPTION:ANA国内線航空券でタイムセール！ \n8月夏休みも対象！ \n羽田ー那覇9\,200円～、羽田ー札幌7\,700円～、羽田ー福岡8\,500円～など。 \nーーーーーーーーーーーーーーーーーーーーーーー\n【キャンペーン名】\nANA国内線航空券タイムセール\n【キャンペーン期間】\n販売期間：2025/6/10（火）0:00～6/16（月）23:59\n搭期間：2025/8/1（金）～10/25（土）※8/7〜8/19搭乗分を除く\nーーーーーーーーーーーーーーーーーーーーーーー
URL:https://tabi-mile.com/campaign_calendar/ana-kokunai-timesale-202506/
CATEGORIES:エアライン
ATTACH;FMTTYPE=image/jpeg:https://tabi-mile.com/wp-content/uploads/2025/06/76a873b11ee63d64cca23beab966160c.jpg
END:VEVENT
BEGIN:VEVENT
DTSTART;VALUE=DATE:20250610
DTEND;VALUE=DATE:20250617
DTSTAMP:20260423T134647
CREATED:20250610T024737Z
LAST-MODIFIED:20250610T024737Z
UID:67050-1749513600-1750118399@tabi-mile.com
SUMMARY:ANA国際線航空券でタイムセール！
DESCRIPTION:ANA国際線航空券でタイムセール！ \n8月夏休みも対象！ \nハワイ往復87\,000円～、ハワイプレエコ往復154\,000円～、ロサンゼルス往復150\,000円～など。 \nーーーーーーーーーーーーーーーーーーーーーーー\n【キャンペーン名】\nANA国際線航空券タイムセール\n【キャンペーン期間】\n販売期間：2025年6月10日（火）0:00～6月16日（月）23:59\n搭期間：2025年8月1日（金）～2026年2月28日（土）\nーーーーーーーーーーーーーーーーーーーーーーー
URL:https://tabi-mile.com/campaign_calendar/ana-kokusai-timesale-202506/
CATEGORIES:エアライン
ATTACH;FMTTYPE=image/jpeg:https://tabi-mile.com/wp-content/uploads/2025/06/18723528a32fee65396bc33d6d669c90.jpg
END:VEVENT
BEGIN:VEVENT
DTSTART;VALUE=DATE:20250616
DTEND;VALUE=DATE:20250801
DTSTAMP:20260423T134647
CREATED:20250616T031857Z
LAST-MODIFIED:20250616T031857Z
UID:67105-1750032000-1754006399@tabi-mile.com
SUMMARY:ANAショッピング A-styleANAカード利用で7%オフ
DESCRIPTION:期間限定で、ANAショッピング A-styleANAカード利用で7%オフ。 \n通常ANAカード利用で5%オフですが、キャンペーン期間中は7%オフに。 \nANAライフソリューションサービスの対象になっているので、今の機会に。 \nーーーーーーーーーーーーーーーーーーーーーーー\n【キャンペーン名】\nANAショッピング A-styleANAカード利用で7%オフ\n【キャンペーン期間】\n2025/6/16（月）10:00- 2025/7/31（木）23:59\nーーーーーーーーーーーーーーーーーーーーーーー \n【2026年度】 ANAライフソリューションサービス攻略！SFC修行を効率化！ 知って得する裏技も紹介
URL:https://tabi-mile.com/campaign_calendar/ana-a-style-sale-202506/
CATEGORIES:エアライン
ATTACH;FMTTYPE=image/jpeg:https://tabi-mile.com/wp-content/uploads/2025/06/1f1c6e1ddb0cf1e1d81e80134a882851.jpg
END:VEVENT
BEGIN:VEVENT
DTSTART;VALUE=DATE:20250616
DTEND;VALUE=DATE:20251001
DTSTAMP:20260423T134647
CREATED:20250617T071853Z
LAST-MODIFIED:20250617T071853Z
UID:67126-1750032000-1759276799@tabi-mile.com
SUMMARY:ANA陸でもマイルを貯めよう！要参加登録！わくわくキャンペーン第1弾
DESCRIPTION:対象のホテル、レンタカーを利用して、ANAマイルを積算すると抽選で最大3\,000マイルが当たるキャンペーン。 \nもれなく必ず100マイルはもらえるので、エントリーしておいて損はないです。 \nーーーーーーーーーーーーーーーーーーーーーーー\n【キャンペーン名】\nANA陸でもマイルを貯めよう！要参加登録！わくわくキャンペーン第1弾\n【キャンペーン期間】\n参加登録期間：2025年6月16日（月）～2025年9月30日（火）\n利用（決済）期間：2025年10月1日（水）～2025年11月30日（日）\nーーーーーーーーーーーーーーーーーーーーーーー
URL:https://tabi-mile.com/campaign_calendar/ana-wakuwaku-vampaign-202506/
CATEGORIES:エアライン
ATTACH;FMTTYPE=image/jpeg:https://tabi-mile.com/wp-content/uploads/2025/06/fc6e0688cf8a2ed3f581faba2f00c2ab.jpg
END:VEVENT
BEGIN:VEVENT
DTSTART;VALUE=DATE:20250629
DTEND;VALUE=DATE:20250630
DTSTAMP:20260423T134647
CREATED:20250625T072734Z
LAST-MODIFIED:20250627T010023Z
UID:67215-1751155200-1751241599@tabi-mile.com
SUMMARY:ANAにキュン！でお盆時期の国内線航空券セール
DESCRIPTION:6月29日のANAにキュン！は、お盆時期の国内線航空券セールが目玉。 \n\n\n東京（羽田） ⇔ 福岡：10\,500円〜 \n\n\n東京（羽田） ⇔ 札幌（千歳）：10\,800円〜 \n\n\n東京（羽田） ⇔ 大阪（伊丹）：9\,000円〜 \n\n\n東京（羽田） ⇔ 沖縄（那覇）：12\,000円〜 \n\n\n東京（羽田） ⇔ 函館：10\,800円〜 \n\n\n東京（羽田） ⇔ 秋田：9\,900円〜 \n\n\n東京（羽田） ⇔ 鹿児島：10\,500円〜 \n\n\n東京（羽田） ⇔ 長崎：10\,500円〜 \n\n\n東京（羽田） ⇔ 広島：10\,000円〜 \n\n\n沖縄（那覇） ⇔ 宮古：6\,000円〜 \n\n\nーーーーーーーーーーーーーーーーーーーーーーー\n【キャンペーン名】\nANAにキュン！でお盆時期の国内線航空券セール\n【キャンペーン期間】\n2025年6月29日0:00～23:59\n【搭乗期間】\n2025年8月7日（木）～8月19日（火）\nーーーーーーーーーーーーーーーーーーーーーーー
URL:https://tabi-mile.com/campaign_calendar/ana-kyun29-202506/
CATEGORIES:エアライン
ATTACH;FMTTYPE=image/jpeg:https://tabi-mile.com/wp-content/uploads/2025/06/b1965b91173ff15180e7a3d17bb33000.jpg
END:VEVENT
END:VCALENDAR