BEGIN:VCALENDAR
VERSION:2.0
PRODID:-//旅マイル - ECPv6.15.20//NONSGML v1.0//EN
CALSCALE:GREGORIAN
METHOD:PUBLISH
X-WR-CALNAME:旅マイル
X-ORIGINAL-URL:https://tabi-mile.com
X-WR-CALDESC:旅マイル のイベント
REFRESH-INTERVAL;VALUE=DURATION:PT1H
X-Robots-Tag:noindex
X-PUBLISHED-TTL:PT1H
BEGIN:VTIMEZONE
TZID:Asia/Tokyo
BEGIN:STANDARD
TZOFFSETFROM:+0900
TZOFFSETTO:+0900
TZNAME:JST
DTSTART:20240101T000000
END:STANDARD
END:VTIMEZONE
BEGIN:VEVENT
DTSTART;VALUE=DATE:20260202
DTEND;VALUE=DATE:20260401
DTSTAMP:20260423T182025
CREATED:20260305T022800Z
LAST-MODIFIED:20260305T022800Z
UID:70529-1769990400-1775001599@tabi-mile.com
SUMMARY:【ANA VISA & Mastercard限定】  タッチ決済で最大25\,000マイル  プレゼントキャンペーン！
DESCRIPTION:ANA VISA又はANA Mastercardを持っている方は、とりあえずエントリーを。 \nタッチ決済を使うごとに1口抽選権が付与され、抽選で最大25\,000マイルが当たる！ \nさらに期間中にスマホのタッチ決済を1度でも利用すれば口数が3倍にアップ。 \nーーーーーーーーーーーーーーーーーーーーーーー\n【キャンペーン名】\n【ANA VISA & Mastercard限定】 タッチ決済で最大25\,000マイル プレゼントキャンペーン！\n【キャンペーン期間】\n2026年2月2日（月）～3月31日（火）\nーーーーーーーーーーーーーーーーーーーーーーー
URL:https://tabi-mile.com/campaign_calendar/ana-visa-202603/
CATEGORIES:クレジットカード
ATTACH;FMTTYPE=image/jpeg:https://tabi-mile.com/wp-content/uploads/2026/03/b6c4b349ba1ae81108721a83bbf74ef5.jpg
END:VEVENT
BEGIN:VEVENT
DTSTART;VALUE=DATE:20251001
DTEND;VALUE=DATE:20260401
DTSTAMP:20260423T182025
CREATED:20251001T065831Z
LAST-MODIFIED:20251001T065831Z
UID:69222-1759276800-1775001599@tabi-mile.com
SUMMARY:ANAダイナース期間限定入会キャンペーンで最大122\,000マイル！
DESCRIPTION:ANAダイナースの新規入会キャンペーンがすごい！ \nなんと最大122\,000マイル獲得のチャンス。 \n\n新規入会で2\,000マイル\n入会後3ヶ月以内に80万円利用で21\,000ポイント\n入会後3ヶ月以内に180万円利用でさらに29\,000ポイント\n入会後3ヶ月以内に180万円利用でさらに50\,000マイル\nビジネス・アカウントカード入会で2\,000ポイント\n180万円分の通常利用ポイントで18\,000ポイント\n合計で122\,000マイル相当\n\n一応Bコースの年会費半額キャッシュバック&最大72\,000マイルキャンペーンも選べますが、確実にAコースの122\,000マイル相当のほうがお得です。 \nーーーーーーーーーーーーーーーーーーーーーーー\n【キャンペーン名】\nANAダイナース期間限定入会キャンペーンで最大122\,000マイル！\n【キャンペーン期間】\n2025年10月1日（水）～2026年3月31日（火）\nーーーーーーーーーーーーーーーーーーーーーーー \n\n				\n					\n					\n												\n							\n																																																																															\n							\n																	ANAダイナースクラブカードの入会キャンペーン！ANAマイルが一番貯まるANAカード！\n								\n																									続きを見る
URL:https://tabi-mile.com/campaign_calendar/ana-diners-camp-202510/
CATEGORIES:クレジットカード
ATTACH;FMTTYPE=image/jpeg:https://tabi-mile.com/wp-content/uploads/2025/10/85c10ab50b484eba76b8aacb8a406ef4.jpg
END:VEVENT
BEGIN:VEVENT
DTSTART;VALUE=DATE:20251001
DTEND;VALUE=DATE:20251116
DTSTAMP:20260423T182025
CREATED:20251001T074754Z
LAST-MODIFIED:20251001T074754Z
UID:69237-1759276800-1763251199@tabi-mile.com
SUMMARY:ANAカード決済で最大2\,500マイル貯まる！秋のマイルアップキャンペーン
DESCRIPTION:ANAカード会員なら、全員とりあえずエントリーしておいて損はないです。 \nANAカード決済で、期間限定マイルアップ。 \n対象店舗は少なめですが、とりあえずエントリーしておけばいつのまにかマイルアップしているはず。 \nーーーーーーーーーーーーーーーーーーーーーーー\n【キャンペーン名】\nANAカード決済で最大2\,500マイル貯まる！秋のマイルアップキャンペーン\n【キャンペーン期間】\n2025年10月1日（水）から2025年11月15日（土）\nーーーーーーーーーーーーーーーーーーーーーーー
URL:https://tabi-mile.com/campaign_calendar/ana-card-mile-up-202510/
CATEGORIES:クレジットカード,エアライン
ATTACH;FMTTYPE=image/jpeg:https://tabi-mile.com/wp-content/uploads/2025/10/d54d567b93cf79d09c12f5e8f287f7bd.jpg
END:VEVENT
BEGIN:VEVENT
DTSTART;VALUE=DATE:20250818
DTEND;VALUE=DATE:20251018
DTSTAMP:20260423T182025
CREATED:20250820T152048Z
LAST-MODIFIED:20250820T152048Z
UID:68196-1755475200-1760745599@tabi-mile.com
SUMMARY:【ANA VISA・マスターカード限定】  タッチ決済でマイルプレゼントキャンペーン
DESCRIPTION:ANAカード限定の「タッチ決済でマイルプレゼントキャンペーン」を開催中です！ \n期間中にタッチ決済を利用することで、抽選で6\,000名に500マイルが当たります。 \nさらに、スマホのタッチ決済を1度でも利用すると、当選口数が3倍に。 \nとりあえずキャンペーンエントリーが吉。 \n対象券種は、VISA又はMastercardブランドの \n\nANA一般カード\nANAワイドカード\nANAワイドゴールドカード\nANAスーパーフライヤーズカード（一般カード）\nANAスーパーフライヤーズ ゴールドカード\n\nーーーーーーーーーーーーーーーーーーーーーーー\n【キャンペーン名】\n【ANA VISA・マスターカード限定】 タッチ決済でマイルプレゼントキャンペーン\n【キャンペーン期間】\n2025年8月18日（月）～10月17日（金）\nーーーーーーーーーーーーーーーーーーーーーーー
URL:https://tabi-mile.com/campaign_calendar/ana-visa-mile-202508/
CATEGORIES:クレジットカード
ATTACH;FMTTYPE=image/jpeg:https://tabi-mile.com/wp-content/uploads/2025/08/eb8687063d3ed68f1a417979d4c51ecd.jpg
END:VEVENT
BEGIN:VEVENT
DTSTART;VALUE=DATE:20250801
DTEND;VALUE=DATE:20251001
DTSTAMP:20260423T182025
CREATED:20250801T085118Z
LAST-MODIFIED:20250801T085150Z
UID:67957-1754006400-1759276799@tabi-mile.com
SUMMARY:ANA VISA&Mastercard 期間限定新規入会キャンペーン
DESCRIPTION:2025年初では？ \nANA VISA&Mastercard 期間限定新規入会キャンペーンがスタート！ \n\n\n\n    \n        \n                    ANAカード（一般カード）                                                \n\n                                \n    \n 最大19\,000マイル+抽選で90\,000マイル\n\n\n    \n        \n                    ANAカード（ワイドカード）（Visa/Mastercard®）                                                \n\n                                \n    \n 最大20\,000マイル+抽選で90\,000マイル\n\n\n    \n        \n                    ANAカード（ワイドゴールドカード）                                                \n\n                                \n    \n 最大30\,000マイル+抽選で90\,000マイル\n\n\n    \n        \n                    ANA VISAプラチナ プレミアムカード                                                \n\n                                \n    \n 最大50\,000マイル+抽選で90\,000マイル\n\nANA VISA&Mastercardは、ほとんど期間限定入会キャンペーンをやらないので、入るなら今がチャンス。 \n要エントリーなので、忘れずに。 \nーーーーーーーーーーーーーーーーーーーーーーー\n【キャンペーン名】\nANA VISA&Mastercard 期間限定新規入会キャンペーン\n【キャンペーン期間】\n2025年8月1日（金）～9月30日（火）\nーーーーーーーーーーーーーーーーーーーーーーー
URL:https://tabi-mile.com/campaign_calendar/ana-visamastercard-camp-202508/
CATEGORIES:クレジットカード
ATTACH;FMTTYPE=image/jpeg:https://tabi-mile.com/wp-content/uploads/2025/08/bdce93b8e94b3e8867a5582d618bc8e0.jpg
END:VEVENT
BEGIN:VEVENT
DTSTART;VALUE=DATE:20250501
DTEND;VALUE=DATE:20250716
DTSTAMP:20260423T182025
CREATED:20250501T205741Z
LAST-MODIFIED:20250502T014117Z
UID:66205-1746057600-1752623999@tabi-mile.com
SUMMARY:ANA JCB期間限定新規入会キャンペーン
DESCRIPTION:アフィリエイトプログラムを利用して広告収益を得て運営しております \n\nANA JCB新規入会で最大116\,000マイル相当プレゼント！ \n\n\n\n券種\nキャンペーン内容\n\n\n\n\nソラチカカード\n最大19\,000マイル\n\n\nソラチカゴールドカード\n最大116\,000マイル\n\n\nANA JCB CARD FIRST\n最大25\,200マイル\n\n\nANA JCB一般カード\n最大19\,000マイル\n\n\nANA JCB カード（学生用）\n最大19\,000マイル\n\n\nANA JCBワイドカード\n最大20\,000マイル\n\n\nANA JCBワイドゴールドカード\n最大116\,000マイル\n\n\nANA JCB カード プレミアム\n最大10\,000マイル\n\n\n\nANA JCBカードの詳細は「ANA JCBカード最新入会キャンペーン！ANA JCBカードのメリット・デメリット、券種比較まとめ」へ。 \n\n				\n					\n					\n												\n							\n																																																																															\n							\n																	ANA JCBカード最新入会キャンペーン！ANA JCBカードのメリット・デメリット、券種比較まとめ\n								\n																									続きを見る \n															\n						\n					\n					\n\n				\nーーーーーーーーーーーーーーーーーーーーーーー\n【キャンペーン名】\nANA JCB新規入会キャンペーン\n【キャンペーン期間】\n2025年5月1日～7月15日\nーーーーーーーーーーーーーーーーーーーーーーー \nANA JCBカードの最新入会キャンペーンは、新規入会で最大116\,000マイルプレゼント（一部抽選あり） \nキャンペーンの詳細はこちら↓ \n最大116\,000マイルプレゼント（一部抽選あり） ANA JCBカードの入会・キャンペーン詳細はこちら 2025年7月15日まで！ \n※キャンペーンの詳細は、公式ホームページにてご確認ください。
URL:https://tabi-mile.com/campaign_calendar/ana-jcb%e2%80%90202505/
CATEGORIES:クレジットカード
ATTACH;FMTTYPE=image/png:https://tabi-mile.com/wp-content/uploads/2025/04/d99c3cc5c635673369c43935dff62a8b.png
END:VEVENT
END:VCALENDAR