BEGIN:VCALENDAR
VERSION:2.0
PRODID:-//旅マイル - ECPv6.15.20//NONSGML v1.0//EN
CALSCALE:GREGORIAN
METHOD:PUBLISH
X-WR-CALNAME:旅マイル
X-ORIGINAL-URL:https://tabi-mile.com
X-WR-CALDESC:旅マイル のイベント
REFRESH-INTERVAL;VALUE=DURATION:PT1H
X-Robots-Tag:noindex
X-PUBLISHED-TTL:PT1H
BEGIN:VTIMEZONE
TZID:Asia/Tokyo
BEGIN:STANDARD
TZOFFSETFROM:+0900
TZOFFSETTO:+0900
TZNAME:JST
DTSTART:20240101T000000
END:STANDARD
END:VTIMEZONE
BEGIN:VEVENT
DTSTART;VALUE=DATE:20260301
DTEND;VALUE=DATE:20260401
DTSTAMP:20260423T103245
CREATED:20260218T105342Z
LAST-MODIFIED:20260218T105342Z
UID:70402-1772323200-1775001599@tabi-mile.com
SUMMARY:ポイント交換でdポイント10%増量
DESCRIPTION:他社ポイントから、dポイントへの移行で10%増量キャンペーン！ \n要エントリーなので、忘れずに。 \nなお、付与されるポイントは期間・用途限定のdポイントで進呈日から62日しか有効期限がないので、もらったらすぐ使いましょう。 \nーーーーーーーーーーーーーーーーーーーーーーー\n【キャンペーン名】\nポイント交換でdポイント10%増量\n【キャンペーン期間】\n2026年3月1日（日）~2026年3月31日（火）\nーーーーーーーーーーーーーーーーーーーーーーー
URL:https://tabi-mile.com/campaign_calendar/d-point-10-202602/
CATEGORIES:クレジットカード
ATTACH;FMTTYPE=image/jpeg:https://tabi-mile.com/wp-content/uploads/2026/02/37eb22228e3b5b6d6febd98d1e06ad2d.jpg
END:VEVENT
BEGIN:VEVENT
DTSTART;VALUE=DATE:20251101
DTEND;VALUE=DATE:20260106
DTSTAMP:20260423T103245
CREATED:20251010T093630Z
LAST-MODIFIED:20251010T093921Z
UID:69306-1761955200-1767657599@tabi-mile.com
SUMMARY:dポイント交換でdポイント10%増量
DESCRIPTION:他社ポイントからdポイントに交換すると10%増量する恒例キャンペーンが2025年11月1日～2026年1月5日まで実施！ \nエントリー必須なで、10月9日から事前エントリーはできるので、とりあえず忘れないうちにエントリーを。 \nーーーーーーーーーーーーーーーーーーーーーーー\n【キャンペーン名】\ndポイント交換でdポイント10%増量\n【キャンペーン期間】\n2025年11月1日～2026年1月5日\nーーーーーーーーーーーーーーーーーーーーーーー
URL:https://tabi-mile.com/campaign_calendar/d-points-camp-202510/
CATEGORIES:クレジットカード
ATTACH;FMTTYPE=image/jpeg:https://tabi-mile.com/wp-content/uploads/2025/10/f867526a61e2c154202cefce92c3b5b7.jpg
END:VEVENT
BEGIN:VEVENT
DTSTART;VALUE=DATE:20250825
DTEND;VALUE=DATE:20251201
DTSTAMP:20260423T103245
CREATED:20250826T144021Z
LAST-MODIFIED:20250826T144021Z
UID:68438-1756080000-1764547199@tabi-mile.com
SUMMARY:アカウント連携で dポイント 300pt がもらえるキャンペーン！
DESCRIPTION:Googleアカウントとdポイントアカウントを連携するだけで、300ドコモポイントがもらえるキャンペーン。 \nとても簡単なので、まだ連携していない方はぜひ。 \nーーーーーーーーーーーーーーーーーーーーーーー\n【キャンペーン名】\nアカウント連携で dポイント 300pt がもらえるキャンペーン！\n【キャンペーン期間】\n2025 年 8 月 25 日 午後 12:00 〜 2025 年 11 月 30 日 午後 11:59\nーーーーーーーーーーーーーーーーーーーーーーー
URL:https://tabi-mile.com/campaign_calendar/google-dpoint-202508/
CATEGORIES:クレジットカード
ATTACH;FMTTYPE=image/jpeg:https://tabi-mile.com/wp-content/uploads/2025/08/023b50d4e2331eadba53598c0fb48df2.jpg
END:VEVENT
BEGIN:VEVENT
DTSTART;VALUE=DATE:20250801
DTEND;VALUE=DATE:20250901
DTSTAMP:20260423T103245
CREATED:20250801T085802Z
LAST-MODIFIED:20250801T085802Z
UID:67965-1754006400-1756684799@tabi-mile.com
SUMMARY:dポイントに交換で10%増量+Amazonではじめてdポイント連携で+3%増量
DESCRIPTION:dポイントへの交換で10%増量キャンペーンが8月1日からスタート。 \n8月末までなので、ぜひこの機会に手持ちのポイントを10%増量しましょう。 \n要エントリーなので、まずはエントリーを。 \nーーーーーーーーーーーーーーーーーーーーーーー\n【キャンペーン名】\ndポイントに交換で10%増量+Amazonではじめてdポイント連携で+3%増量\n【キャンペーン期間】\n2025年8月1日～8月31日\nーーーーーーーーーーーーーーーーーーーーーーー
URL:https://tabi-mile.com/campaign_calendar/d-point-202508/
CATEGORIES:クレジットカード
ATTACH;FMTTYPE=image/jpeg:https://tabi-mile.com/wp-content/uploads/2025/08/7c29929e1e7db98ab1d22d7951f35d59.jpg
END:VEVENT
END:VCALENDAR