BEGIN:VCALENDAR
VERSION:2.0
PRODID:-//旅マイル - ECPv6.15.20//NONSGML v1.0//EN
CALSCALE:GREGORIAN
METHOD:PUBLISH
X-ORIGINAL-URL:https://tabi-mile.com
X-WR-CALDESC:旅マイル のイベント
REFRESH-INTERVAL;VALUE=DURATION:PT1H
X-Robots-Tag:noindex
X-PUBLISHED-TTL:PT1H
BEGIN:VTIMEZONE
TZID:Asia/Tokyo
BEGIN:STANDARD
TZOFFSETFROM:+0900
TZOFFSETTO:+0900
TZNAME:JST
DTSTART:20240101T000000
END:STANDARD
END:VTIMEZONE
BEGIN:VEVENT
DTSTART;VALUE=DATE:20250624
DTEND;VALUE=DATE:20250722
DTSTAMP:20260423T085841
CREATED:20250625T075815Z
LAST-MODIFIED:20250625T075815Z
UID:67226-1750723200-1753142399@tabi-mile.com
SUMMARY:Expedia 夏旅特大SALE : 25% 以上 OFF
DESCRIPTION:Expediaで、夏の旅行が25%以上オフのサマーセール開催。 \nーーーーーーーーーーーーーーーーーーーーーーー\n【キャンペーン名】\nExpedia 夏旅特大SALE : 25% 以上 OFF\n【キャンペーン期間】\n予約期間：2025年6月24日―7月21日\n宿泊期間：2025年6月24日―10月31日\nーーーーーーーーーーーーーーーーーーーーーーー
URL:https://tabi-mile.com/campaign_calendar/expedia-sale-202506/
CATEGORIES:旅行会社
ATTACH;FMTTYPE=image/jpeg:https://tabi-mile.com/wp-content/uploads/2025/06/0cc4ac1c07efeab177f958c956846880.jpg
END:VEVENT
END:VCALENDAR