BEGIN:VCALENDAR
VERSION:2.0
PRODID:-//旅マイル - ECPv6.15.20//NONSGML v1.0//EN
CALSCALE:GREGORIAN
METHOD:PUBLISH
X-WR-CALNAME:旅マイル
X-ORIGINAL-URL:https://tabi-mile.com
X-WR-CALDESC:旅マイル のイベント
REFRESH-INTERVAL;VALUE=DURATION:PT1H
X-Robots-Tag:noindex
X-PUBLISHED-TTL:PT1H
BEGIN:VTIMEZONE
TZID:Asia/Tokyo
BEGIN:STANDARD
TZOFFSETFROM:+0900
TZOFFSETTO:+0900
TZNAME:JST
DTSTART:20240101T000000
END:STANDARD
END:VTIMEZONE
BEGIN:VEVENT
DTSTART;VALUE=DATE:20250704
DTEND;VALUE=DATE:20250715
DTSTAMP:20260423T152257
CREATED:20250704T071557Z
LAST-MODIFIED:20250704T071557Z
UID:67421-1751587200-1752537599@tabi-mile.com
SUMMARY:JAL海外特典航空券タイムセール
DESCRIPTION:JAL国際線特典航空券も減額マイルのタイムセール！ \n通常の必要マイルよりもだいたい約30%オフになっていて、非常にお得。 \nただ、燃油サーチャージが下がるのが8月からなので、それだけが残念。 \n\n\n\n\nエリア・路線（片道）\n\n\nエコノミー\n\n\nプレミアムEC\n\n\nビジネス\n\n\n\n\n\n\nホノルル\n\n\n14\,000\n\n\n–\n\n\n–\n\n\n\n\nグアム\n\n\n7\,000\n\n\n–\n\n\n16\,100\n\n\n\n\n台北（成田・中部）\n\n\n6\,300\n\n\n–\n\n\n16\,800\n\n\n\n\nマニラ\n\n\n7\,000\n\n\n–\n\n\n16\,800\n\n\n\n\nバンコク（大阪発）\n\n\n8\,750\n\n\n–\n\n\n26\,250\n\n\n\n\nバンコク（東京発 JL031/034以外）\n\n\n9\,450\n\n\n17\,500\n\n\n28\,000\n\n\n\n\nバンコク（東京発 JL031/034）\n\n\n–\n\n\n21\,000\n\n\n31\,500\n\n\n\n\nシンガポール\n\n\n9\,100\n\n\n17\,500\n\n\n–\n\n\n\n\nクアラルンプール\n\n\n10\,500\n\n\n17\,500\n\n\n28\,000\n\n\n\n\nジャカルタ\n\n\n10\,500\n\n\n–\n\n\n28\,000\n\n\n\n\nハノイ\n\n\n9\,100\n\n\n–\n\n\n–\n\n\n\n\nホーチミン\n\n\n9\,100\n\n\n–\n\n\n–\n\n\n\n\nデリー\n\n\n12\,250\n\n\n17\,500\n\n\n28\,000\n\n\n\n\nベンガルール\n\n\n12\,250\n\n\n17\,500\n\n\n28\,000\n\n\n\n\nシドニー\n\n\n16\,100\n\n\n–\n\n\n–\n\n\n\n\nメルボルン\n\n\n17\,500\n\n\n–\n\n\n–\n\n\n\n\nドーハ\n\n\n14\,000\n\n\n–\n\n\n–\n\n\n\n\nニューヨーク\n\n\n18\,900\n\n\n–\n\n\n–\n\n\n\n\nボストン\n\n\n18\,900\n\n\n28\,000\n\n\n–\n\n\n\n\nシカゴ\n\n\n18\,900\n\n\n28\,000\n\n\n–\n\n\n\n\nサンフランシスコ\n\n\n18\,900\n\n\n28\,000\n\n\n–\n\n\n\n\nロサンゼルス\n\n\n18\,900\n\n\n28\,000\n\n\n–\n\n\n\n\nサンディエゴ\n\n\n18\,900\n\n\n–\n\n\n–\n\n\n\n\nシアトル\n\n\n18\,900\n\n\n28\,000\n\n\n–\n\n\n\n\n基本マイル数で予約できない便（特典航空券PLUSのご利用時）は上記キャンペーン減額マイルは対象外。 \nーーーーーーーーーーーーーーーーーーーーーーー\n【キャンペーン名】\nJAL海外特典航空券タイムセール\n【キャンペーン期間】\nご予約日：2025年7月4日（金）～7月14日（月）\nーーーーーーーーーーーーーーーーーーーーーーー
URL:https://tabi-mile.com/campaign_calendar/jal-int-july-discount-202507/
CATEGORIES:エアライン
ATTACH;FMTTYPE=image/jpeg:https://tabi-mile.com/wp-content/uploads/2025/07/3912955c0cdf1c5068f9346c032f43f2.jpg
END:VEVENT
BEGIN:VEVENT
DTSTART;VALUE=DATE:20250703
DTEND;VALUE=DATE:20250710
DTSTAMP:20260423T152257
CREATED:20250703T013809Z
LAST-MODIFIED:20250703T013809Z
UID:67390-1751500800-1752105599@tabi-mile.com
SUMMARY:JAL 国内線特典航空券タイムセール
DESCRIPTION:JAL国内線特典航空券で減額マイルのタイムセール。 \n国内線片道最大2\,000マイル引き。 \n\n\n\nゾーン\n代表的な路線（羽田発着）\n基本マイル数\nディスカウントマイル\n\n\n\n\nAゾーン\n札幌（新千歳）ー函館、福岡ー長崎\n4\,500マイル\n4\,000マイル\n\n\nBゾーン\n羽田ー大阪（伊丹・関西）、羽田ー名古屋（中部）\n5\,500マイル\n4\,500マイル\n\n\nCゾーン\n羽田ー秋田、羽田ー庄内、羽田ー南紀白浜\n6\,500マイル\n5\,500マイル\n\n\nDゾーン\n羽田ー札幌（新千歳）、羽田ー山口宇部\n7\,500マイル\n6\,000マイル\n\n\nEゾーン\n羽田ー鹿児島、羽田ー宮崎、羽田ー熊本\n8\,500マイル\n7\,000マイル\n\n\nFゾーン\n羽田ー那覇、羽田ー奄美大島\n9\,500マイル\n7\,500マイル\n\n\nGゾーン\n羽田ー石垣、羽田ー宮古\n10\,500マイル\n8\,500マイル\n\n\n\nーーーーーーーーーーーーーーーーーーーーーーー\n【キャンペーン名】\nJAL国内線特典航空券タイムセール\n【キャンペーン期間】\nタイムセール期間：2025年7月3日（木）～2025年7月9日（水）\n対象搭乗期間：2025年10月1日（水）～2025年10月25日（土）\nーーーーーーーーーーーーーーーーーーーーーーー
URL:https://tabi-mile.com/campaign_calendar/jal-kokunai-summer-sale-202507/
CATEGORIES:エアライン
ATTACH;FMTTYPE=image/jpeg:https://tabi-mile.com/wp-content/uploads/2025/07/f944bd87c211b8178a5acc478511b8a5.jpg
END:VEVENT
BEGIN:VEVENT
DTSTART;VALUE=DATE:20250701
DTEND;VALUE=DATE:20250801
DTSTAMP:20260423T152257
CREATED:20250704T074316Z
LAST-MODIFIED:20250704T074356Z
UID:67429-1751328000-1754006399@tabi-mile.com
SUMMARY:PontaポイントからJALのマイル交換レート20%アップキャンペーン
DESCRIPTION:PontaポイントからJALのマイル交換レート20%アップ！ \n通常：100Pontaポイント → 50マイル\nキャンペーン期間：100Pontaポイント → 60マイル \nーーーーーーーーーーーーーーーーーーーーーーー\n【キャンペーン名】\nPontaポイントからJALのマイル交換レート20%アップキャンペーン\n【キャンペーン期間】\n2025年7月1日（火）～7月31日（木）\nーーーーーーーーーーーーーーーーーーーーーーー
URL:https://tabi-mile.com/campaign_calendar/ponta-mile-202507/
CATEGORIES:エアライン
ATTACH;FMTTYPE=image/jpeg:https://tabi-mile.com/wp-content/uploads/2025/07/45e8eba1573fe5eec700145e837789b8.jpg
END:VEVENT
BEGIN:VEVENT
DTSTART;VALUE=DATE:20250701
DTEND;VALUE=DATE:20250703
DTSTAMP:20260423T152257
CREATED:20250627T083809Z
LAST-MODIFIED:20250627T083809Z
UID:67260-1751328000-1751500799@tabi-mile.com
SUMMARY:JAL国内線航空券タイムセール
DESCRIPTION:JALも国内線航空券タイムセール！ \n羽田ー新千歳 8\,800円～\n羽田ー伊丹 8\,800円～\n羽田ー福岡 9\,900円～\n羽田ー沖縄 9\,900円～ \n「プロモーション」運賃がタイムセールの運賃。 \nーーーーーーーーーーーーーーーーーーーーーーー\n【キャンペーン名】\nJAL国内線航空券タイムセール\n【キャンペーン期間】\n販売期間：2025年7月1日（火）0:00～7月2日（水）23:59\n搭乗期間：2025年8月25日（月）～9月30日（火）\nーーーーーーーーーーーーーーーーーーーーーーー
URL:https://tabi-mile.com/campaign_calendar/jal-time-sale-202506/
CATEGORIES:エアライン
ATTACH;FMTTYPE=image/jpeg:https://tabi-mile.com/wp-content/uploads/2025/06/5b87cba562ad7994391baf8c763aeeaa.jpg
END:VEVENT
BEGIN:VEVENT
DTSTART;VALUE=DATE:20250616
DTEND;VALUE=DATE:20250701
DTSTAMP:20260423T152257
CREATED:20250616T031541Z
LAST-MODIFIED:20250616T031541Z
UID:67100-1750032000-1751327999@tabi-mile.com
SUMMARY:JAL北米・中米行き 海外航空券セール
DESCRIPTION:JALで北米・中米行き 海外航空券セール。 \nサンフランシスコ・ロサンゼルス・ニューヨーク・バンクーバー行き158\,000円～。 \nラスベガス・フェニックス、ツーソン行き158\,000円～などと安い。 \nーーーーーーーーーーーーーーーーーーーーーーー\n【キャンペーン名】\nJAL北米・中米行き 海外航空券セール\n【キャンペーン期間】\n販売期間；2025年6月16日（月）0:00～6月30日（月）23:59\n搭乗期間；2025年8月20日（水）～2026年2月28日（土）（旅行開始分）\nーーーーーーーーーーーーーーーーーーーーーーー \n\n\n\n    \n        \n                                                                    \n\n                                \n    \n\n 
URL:https://tabi-mile.com/campaign_calendar/jal-america-special-sale-20/
CATEGORIES:エアライン
ATTACH;FMTTYPE=image/jpeg:https://tabi-mile.com/wp-content/uploads/2025/06/faa368f5c69db9685164d08c252d31bb.jpg
END:VEVENT
BEGIN:VEVENT
DTSTART;VALUE=DATE:20250616
DTEND;VALUE=DATE:20250625
DTSTAMP:20260423T152257
CREATED:20250617T072213Z
LAST-MODIFIED:20250617T072213Z
UID:67129-1750032000-1750809599@tabi-mile.com
SUMMARY:JALふるさと納税を初めてご利用の方限定！最大50\,000マイル
DESCRIPTION:JALふるさと納税で初めての方をターゲットにしたキャンペーン。 \n期間中初めてJALふるさと納税で納税すると、納税額に応じて最大50\,000マイル。 \nキャンペーンコード「2506KIFU」入力を忘れずに。 \nーーーーーーーーーーーーーーーーーーーーーーー\n【キャンペーン名】\nJALふるさと納税を初めてご利用の方限定！最大50\,000マイル\n【キャンペーン期間】\n2025年6月16日（月）～6月24日（火）\nーーーーーーーーーーーーーーーーーーーーーーー
URL:https://tabi-mile.com/campaign_calendar/jal-furusato-202506/
CATEGORIES:エアライン
ATTACH;FMTTYPE=image/jpeg:https://tabi-mile.com/wp-content/uploads/2025/06/f9805326b82b0571bca0ce0e0480ef2f.jpg
END:VEVENT
BEGIN:VEVENT
DTSTART;VALUE=DATE:20250606
DTEND;VALUE=DATE:20250613
DTSTAMP:20260423T152257
CREATED:20250609T014537Z
LAST-MODIFIED:20250609T014728Z
UID:67028-1749168000-1749772799@tabi-mile.com
SUMMARY:JAL 海外航空券タイムセール
DESCRIPTION:JAL海外航空券タイムセール！ \n\nホノルル行き87\,000円～\nグアム行き46\,000円～\n香港行き47\,000円～\nシンガポール行き54\,000円～\nバンコク行き65\,000円～\n\nーーーーーーーーーーーーーーーーーーーーーーー\n【キャンペーン名】\nJAL 海外航空券タイムセール\n【キャンペーン期間】\n2025年6月6日（金）0:00～6月12日（木）23:59\n【搭乗期間】\n2025年6月6日（金）～2026年5月31日（日）のうち路線ごとに設定する期間\nーーーーーーーーーーーーーーーーーーーーーーー
URL:https://tabi-mile.com/campaign_calendar/jal-sale-202506/
CATEGORIES:エアライン
ATTACH;FMTTYPE=image/jpeg:https://tabi-mile.com/wp-content/uploads/2025/06/d417cfefbcf388fc911e42e6b024528c.jpg
END:VEVENT
BEGIN:VEVENT
DTSTART;VALUE=DATE:20250603
DTEND;VALUE=DATE:20250605
DTSTAMP:20260423T152257
CREATED:20250530T080733Z
LAST-MODIFIED:20250530T080733Z
UID:66928-1748908800-1749081599@tabi-mile.com
SUMMARY:JAL国内線タイムセール
DESCRIPTION:夏休みも対象のJAL国内線タイムセール！ \n2025年8月1日～9月30日までの搭乗が対象。 \n羽田ー新千歳7\,700円～、羽田ー伊丹8\,250円～、羽田ー福岡8\,800円～、羽田ー沖縄9\,900円～など。 \nーーーーーーーーーーーーーーーーーーーーーーー\n【キャンペーン名】\nJAL国内線タイムセール\n【キャンペーン期間】\n2025年6月3日（火）0時～4日（水）23：59\n【搭乗期間】\n2025年8月1日～9月30日\nーーーーーーーーーーーーーーーーーーーーーーー
URL:https://tabi-mile.com/campaign_calendar/jal-taime-sale-202506/
CATEGORIES:エアライン
ATTACH;FMTTYPE=image/jpeg:https://tabi-mile.com/wp-content/uploads/2025/05/73e5554446f48177777ec7c5c77296bb.jpg
END:VEVENT
BEGIN:VEVENT
DTSTART;VALUE=DATE:20250602
DTEND;VALUE=DATE:20250714
DTSTAMP:20260423T152257
CREATED:20250602T032703Z
LAST-MODIFIED:20250607T015051Z
UID:66933-1748822400-1752451199@tabi-mile.com
SUMMARY:JAL PAY 外貨から日本円への両替でマイルプレゼントキャンペーン
DESCRIPTION:JAL Payで、外貨から日本円への両替でマイルプレゼントキャンペーン。 \n1\,000円毎に最大5マイル付与。 \nーーーーーーーーーーーーーーーーーーーーーーー\n【キャンペーン名】\n外貨から日本円への両替でマイルプレゼントキャンペーン\n【キャンペーン期間】\n2025年6月2日（月）～7月13日（日）\nーーーーーーーーーーーーーーーーーーーーーーー
URL:https://tabi-mile.com/campaign_calendar/jal-pay-camp-202506/
CATEGORIES:エアライン
ATTACH;FMTTYPE=image/jpeg:https://tabi-mile.com/wp-content/uploads/2025/06/4f265cedb33540df96c18a42184568ed.jpg
END:VEVENT
BEGIN:VEVENT
DTSTART;VALUE=DATE:20250525
DTEND;VALUE=DATE:20250526
DTSTAMP:20260423T152257
CREATED:20250523T133208Z
LAST-MODIFIED:20250523T133227Z
UID:66836-1748131200-1748217599@tabi-mile.com
SUMMARY:JAL Mall 感謝DAYでマイル10倍
DESCRIPTION:JAL Mallでのお買い物で、最大100円=10マイル！ \nJALカード決済なら、合わせて最大100円=12マイルに。 \nライフステータスポイントもJAL Mallで100マイル獲得ごとに1ポイント獲得できます。 \nーーーーーーーーーーーーーーーーーーーーーーー\n【キャンペーン名】\nJAL Mall 感謝DAYでマイル10倍\n【キャンペーン期間】\n2025年5月25日（日）のみ\nーーーーーーーーーーーーーーーーーーーーーーー
URL:https://tabi-mile.com/campaign_calendar/jal-mall-10-202505/
CATEGORIES:エアライン
ATTACH;FMTTYPE=image/jpeg:https://tabi-mile.com/wp-content/uploads/2025/05/f9a4f127e62acd7a8d32cc6244771db7.jpg
END:VEVENT
BEGIN:VEVENT
DTSTART;VALUE=DATE:20250519
DTEND;VALUE=DATE:20250525
DTSTAMP:20260423T152257
CREATED:20250521T015452Z
LAST-MODIFIED:20250521T015452Z
UID:66733-1747612800-1748131199@tabi-mile.com
SUMMARY:JALふるさと納税を初めて利用で最大50\,000マイル貯まる
DESCRIPTION:まだJALふるさと納税をやったことない方限定！ \nふるさと納税で大量JALマイルを貯めるチャンス！ \n寄附金額により1\,000〜30\,000マイルをプレゼントで、JALカード決済と組み合わせて合計最大50\,000マイルに。 \nキャンペーンコード「2505KIFU」を入力必要なので忘れずに。 \n現実的な5万円寄付でも最大2\,000マイルになるので、 \n過去JALふるさと納税をやったことがある方は対象外なので注意！ \nーーーーーーーーーーーーーーーーーーーーーーー \n【キャンペーン名】\nJALふるさと納税を初めて利用で最大50\,000マイル貯まる\n【キャンペーン期間】\n2025年5月19日～5月24日\nーーーーーーーーーーーーーーーーーーーーーーー
URL:https://tabi-mile.com/campaign_calendar/jal-furusato-202505/
CATEGORIES:エアライン
ATTACH;FMTTYPE=image/jpeg:https://tabi-mile.com/wp-content/uploads/2025/05/82cb32d5d4262d5042893f697ad4ba41.jpg
END:VEVENT
BEGIN:VEVENT
DTSTART;VALUE=DATE:20250514
DTEND;VALUE=DATE:20250712
DTSTAMP:20260423T152257
CREATED:20250513T233751Z
LAST-MODIFIED:20250513T233751Z
UID:66450-1747180800-1752278399@tabi-mile.com
SUMMARY:JAL福岡－沖縄（那覇）線、沖縄（那覇）－宮古・石垣線、石垣－宮古線ダブルマイルキャンペーン
DESCRIPTION:JALの福岡－沖縄（那覇）線、沖縄（那覇）－宮古・石垣線、石垣－宮古線でダブルマイルキャンペーン。 \n通常の2倍マイルが貯まります。 \n搭乗日までにキャンペーン参加登録が必要なので、その期間登場予定の方は忘れずにエントリーを。 \nーーーーーーーーーーーーーーーーーーーーーーー\n【キャンペーン名】\nJAL福岡－沖縄（那覇）線、沖縄（那覇）－宮古・石垣線、石垣－宮古線ダブルマイルキャンペーン\n【キャンペーン期間】\n2025年5月14日（水）～7月11日（金）\nーーーーーーーーーーーーーーーーーーーーーーー
URL:https://tabi-mile.com/campaign_calendar/jal-oka-bonusmile-202505/
CATEGORIES:エアライン
ATTACH;FMTTYPE=image/jpeg:https://tabi-mile.com/wp-content/uploads/2025/05/275994b6631abf6aa8551017cb2153df.jpg
END:VEVENT
BEGIN:VEVENT
DTSTART;VALUE=DATE:20250513
DTEND;VALUE=DATE:20250515
DTSTAMP:20260423T152257
CREATED:20250509T051124Z
LAST-MODIFIED:20250509T051124Z
UID:66362-1747094400-1747267199@tabi-mile.com
SUMMARY:JAL国内線タイムセール7\,700円～
DESCRIPTION:JAL国内線航空券タイムセール！ \n羽田ー新千歳8\,800円～、羽田ー伊丹7\,700円～、羽田ー福岡8\,800円～、羽田ー沖縄11\,000円～と安い。 \nーーーーーーーーーーーーーーーーーーーーーーー\n【キャンペーン名】\nJAL国内線タイムセール\n【キャンペーン期間】\n販売期間：2025年5月13日～14日\n搭乗期間：2025年7月1日～31日\nーーーーーーーーーーーーーーーーーーーーーーー
URL:https://tabi-mile.com/campaign_calendar/jal-timesale-202505/
CATEGORIES:エアライン
ATTACH;FMTTYPE=image/jpeg:https://tabi-mile.com/wp-content/uploads/2025/05/eaefc61e333b8f939c1988c88787e776.jpg
END:VEVENT
BEGIN:VEVENT
DTSTART;VALUE=DATE:20250508
DTEND;VALUE=DATE:20250521
DTSTAMP:20260423T152257
CREATED:20250508T005450Z
LAST-MODIFIED:20250508T023618Z
UID:66307-1746662400-1747785599@tabi-mile.com
SUMMARY:JALツアータイムセール
DESCRIPTION:JALダイナミックパッケージでタイムセール！ \n国内は最大33\,000円割引のクーポンも。 \nレンタカーも安くなっています。 \n海外はハワイ1名4万円引き。 \n※国内ツアーと海外ツアーでキャンペーン期間が異なるので注意 \nーーーーーーーーーーーーーーーーーーーーーーー\n【キャンペーン名】\n\n\n    \n        \n                    JAL国内ダイナミックパッケージタイムセール                                                \n\n                                \n    \n\n\n\n    \n        \n                    JAL海外ダイナミックパッケージタイムセール                                                \n\n                                \n    \n\n【キャンペーン期間】\n国内：2025年5月8日（木）10:00～5月20日（火）23:59\n海外：2025年4月30日（水）10:00～5月14日（水）23:59\nーーーーーーーーーーーーーーーーーーーーーーー
URL:https://tabi-mile.com/campaign_calendar/jal-tour-sale-202505/
CATEGORIES:旅行会社
ATTACH;FMTTYPE=image/jpeg:https://tabi-mile.com/wp-content/uploads/2025/05/488de7b2cf57b7119b838a6e6df6643c.jpg
END:VEVENT
BEGIN:VEVENT
DTSTART;VALUE=DATE:20250416
DTEND;VALUE=DATE:20250801
DTSTAMP:20260423T152257
CREATED:20250430T031550Z
LAST-MODIFIED:20250430T065553Z
UID:66114-1744761600-1754006399@tabi-mile.com
SUMMARY:JAL×ワールド オブ ハイアット ボーナスマイルキャンペーン
DESCRIPTION:ハイアット&JALの共同キャンペーン。 \nキャンペーンページでワールド オブ ハイアット会員番号およびJMBお得意様番号を登録後、キャンペーン対象宿泊期間中にアジア太平洋地域の対象のハイアットのホテルやリゾートでの宿泊で、通常の500マイルに加えて、もれなく500マイルがたまります。 \nーーーーーーーーーーーーーーーーーーーーーーー\n【キャンペーン名】\nJAL×ワールド オブ ハイアット ボーナスマイルキャンペーン\n【キャンペーン期間】\n2025年4月16日～7月31日\nーーーーーーーーーーーーーーーーーーーーーーー
URL:https://tabi-mile.com/campaign_calendar/jal-hyatt-202504/
CATEGORIES:エアライン,ホテル
ATTACH;FMTTYPE=image/png:https://tabi-mile.com/wp-content/uploads/2025/04/01bd2924a28cba38c17834a7522254c8.png
END:VEVENT
BEGIN:VEVENT
DTSTART;VALUE=DATE:20250416
DTEND;VALUE=DATE:20250621
DTSTAMP:20260423T152257
CREATED:20250430T061953Z
LAST-MODIFIED:20250521T014559Z
UID:66133-1744761600-1750463999@tabi-mile.com
SUMMARY:JALカード新規入会キャンペーン
DESCRIPTION:JALカードの期間限定入会キャンペーン実施中。 \n今回の入会キャンペーンは、提携ブランドごとに獲得できるマイルが異なるキャンペーンで、VISAが一番オススメ。 \n\n\n    \n        \n                    日々の生活でJALマイルを貯めるなら JALカードの入会・キャンペーン詳細はこちら 普通カードは初年度年会費無料 \n                                                \n\n                                \n    \n\nJALカードキャンペーンについては、「JALカード入会キャンペーンまとめ！JALマイルを貯めるならJALカードは必須！4つのメリット」で詳しく解説しています。 \n\n				\n					\n					\n												\n							\n																																																																															\n							\n																	【2025年12月版】JALカード入会キャンペーンまとめ！JALマイルを貯めるならJALカードは必須！4つのメリット\n								\n																									続きを見る \n															\n						\n					\n					\n\n				\nーーーーーーーーーーーーーーーーーーーーーーー\n【キャンペーン名】\nJALカード新規入会キャンペーン\n【キャンペーン期間】\n2025年4月16日～6月20日\nーーーーーーーーーーーーーーーーーーーーーーー
URL:https://tabi-mile.com/campaign_calendar/jalcard_202504/
CATEGORIES:クレジットカード
ATTACH;FMTTYPE=image/png:https://tabi-mile.com/wp-content/uploads/2025/04/b799c6b490301a8c4a317beca35adbd0.png
END:VEVENT
END:VCALENDAR