BEGIN:VCALENDAR
VERSION:2.0
PRODID:-//旅マイル - ECPv6.15.20//NONSGML v1.0//EN
CALSCALE:GREGORIAN
METHOD:PUBLISH
X-ORIGINAL-URL:https://tabi-mile.com
X-WR-CALDESC:旅マイル のイベント
REFRESH-INTERVAL;VALUE=DURATION:PT1H
X-Robots-Tag:noindex
X-PUBLISHED-TTL:PT1H
BEGIN:VTIMEZONE
TZID:Asia/Tokyo
BEGIN:STANDARD
TZOFFSETFROM:+0900
TZOFFSETTO:+0900
TZNAME:JST
DTSTART:20240101T000000
END:STANDARD
END:VTIMEZONE
BEGIN:VEVENT
DTSTART;VALUE=DATE:20250801
DTEND;VALUE=DATE:20260901
DTSTAMP:20260423T050039
CREATED:20250815T132625Z
LAST-MODIFIED:20250815T132625Z
UID:68099-1754006400-1788220799@tabi-mile.com
SUMMARY:JALお誕生月～翌月限定 バースデーマイル
DESCRIPTION:JALでは、誕生月およびその翌月に国内線に搭乗すると、300マイルを付与するキャンペーンをスタート。 \n今のところ2025年8月～2026年7月までなので、チャンスは1回のみ。 \nキャンペーン登録が必要なのでとりあえずエントリーしておきましょう。 \nーーーーーーーーーーーーーーーーーーーーーーー\n【キャンペーン名】\nJALお誕生月～翌月限定 バースデーマイル\n【キャンペーン期間】\n2025年8月1日（金）～2026年8月31日（月）\nーーーーーーーーーーーーーーーーーーーーーーー \n\n\n\n    \n        \n                                                \n                    \n\n                                \n    \n\nキャンペーン期間: 2025年8月15日から2026年8月まで\n搭乗期間: 誕生月およびその翌月\n宿泊期間: 記載なし
URL:https://tabi-mile.com/campaign_calendar/jal-birthday-mile/
CATEGORIES:エアライン
ATTACH;FMTTYPE=image/jpeg:https://tabi-mile.com/wp-content/uploads/2025/08/f124b415d0ec0245ef7f662c174231df.jpg
END:VEVENT
BEGIN:VEVENT
DTSTART;VALUE=DATE:20250922
DTEND;VALUE=DATE:20260116
DTSTAMP:20260423T050039
CREATED:20250923T102133Z
LAST-MODIFIED:20250923T102133Z
UID:69027-1758499200-1768521599@tabi-mile.com
SUMMARY:暮らしにもっとJALを！広げようJALマイルライフキャンペーン
DESCRIPTION:JALライフステータスポイントを貯めるべく、以下のサービスを利用しているなら、ぜひキャンペーン登録を。 \n\nJAL光\nJALでKariteco\nJALでんき\nJAL Wellness&Travel\nJALモバイル\n\n3つ以上使っていると抽選で1\,500円相当のJAL Payポイントプレンゼント。 \n5つ以上使っているともれなく3\,000円相当のJAL Payポイントが貰えます。 \nーーーーーーーーーーーーーーーーーーーーーーー\n【キャンペーン名】\n暮らしにもっとJALを！広げようJALマイルライフキャンペーン\n【キャンペーン期間】\n2025年9月22日（月）～2026年1月15日（木）\nーーーーーーーーーーーーーーーーーーーーーーー
URL:https://tabi-mile.com/campaign_calendar/jal-mile-life-camp-202509/
CATEGORIES:エアライン
ATTACH;FMTTYPE=image/jpeg:https://tabi-mile.com/wp-content/uploads/2025/09/bef8df4782693384faa1b0055a9640d0.jpg
END:VEVENT
BEGIN:VEVENT
DTSTART;VALUE=DATE:20260101
DTEND;VALUE=DATE:20260302
DTSTAMP:20260423T050039
CREATED:20260112T120048Z
LAST-MODIFIED:20260112T120048Z
UID:69602-1767225600-1772409599@tabi-mile.com
SUMMARY:JAL ビックカメラでマイル6%還元&ライフステータスポイント2倍
DESCRIPTION:JAL ビックカメラでマイル6%還元！ \n通常、ビックカメラ店舗で100円=3マイル貯まるところ、キャンペーン期間中は100円=6マイル貯まります。 \nさらに、2026年1月は、別キャンペーンで、JALカードを使うと、生涯のJAL上級会員に必要なライフステータスポイント2倍キャンペーンを同時開催。 \n両方エントリーして、ビックカメラで1月使うと、100円=6マイル貯まり、ライフステータスポイントも10ポイント貯まり、いつもの2倍。 \nどちらも要エントリーなので忘れずに。 \nーーーーーーーーーーーーーーーーーーーーーーー\n【キャンペーン名】\nJAL ビックカメラでマイル6%還元\nJAL Life Status プログラム2周年（2周年キャンペーン）\n【キャンペーン期間】\n2026年1月1日～3月1日（ライフステータスポイント2倍は1月末まで）\nーーーーーーーーーーーーーーーーーーーーーーー
URL:https://tabi-mile.com/campaign_calendar/jal-bic-camp-202601/
CATEGORIES:エアライン
ATTACH;FMTTYPE=image/jpeg:https://tabi-mile.com/wp-content/uploads/2026/01/c47039efcbabb2cc8f263bc0849b8925.jpg
END:VEVENT
BEGIN:VEVENT
DTSTART;VALUE=DATE:20260201
DTEND;VALUE=DATE:20260401
DTSTAMP:20260423T050039
CREATED:20260207T141317Z
LAST-MODIFIED:20260207T141317Z
UID:70294-1769904000-1775001599@tabi-mile.com
SUMMARY:dポイントからJALマイル交換で10%増量
DESCRIPTION:dポイント→JALマイルの増量キャンペーンが、約1年ぶりに復活しました。 \n通常：1\,000dポイント → 500マイル\n今だけ：1\,000dポイント → 550マイル（10％増量） \nエントリー不要なので、期間だけ気をつければOK！ \nーーーーーーーーーーーーーーーーーーーーーーー\n【キャンペーン名】\ndポイントからJALマイル交換で10%増量\n【キャンペーン期間】\n2026年2月1日〜3月31日\nーーーーーーーーーーーーーーーーーーーーーーー
URL:https://tabi-mile.com/campaign_calendar/dpoint-jal-202602/
CATEGORIES:エアライン
ATTACH;FMTTYPE=image/jpeg:https://tabi-mile.com/wp-content/uploads/2026/02/3f2fc3922d27a1afb8f24b167468d9b6.jpg
END:VEVENT
BEGIN:VEVENT
DTSTART;VALUE=DATE:20260202
DTEND;VALUE=DATE:20260511
DTSTAMP:20260423T050039
CREATED:20260130T163501Z
LAST-MODIFIED:20260130T163501Z
UID:70199-1769990400-1778457599@tabi-mile.com
SUMMARY:JAL PayマイルUPリリース記念で最大10%還元
DESCRIPTION:JALマイル最大10％還元キャンペーンが始まります！ \n円定期預金をしてからJAL Payで支払うと、 \n海外利用：最大10％還元国内利用：最大5％還元 \nもらえるマイルの上限は円定期預金の預け入れ額次第。 \n\n\n\n\n\n\n円定期預金預入金額 \n\n\n\n\n\n\n海外利用 \n\n\n\n\n\n\n国内利用 \n\n\n\n\n\n\n\n\n\n\n50万円以上～100万円未満 \n\n\n\n\n\n\n800マイル \n\n\n\n\n\n\n400マイル \n\n\n\n\n\n\n\n\n100万円以上～200万円未満 \n\n\n\n\n\n\n1\,600マイル \n\n\n\n\n\n\n800マイル \n\n\n\n\n\n\n\n\n200万円以上～500万円未満 \n\n\n\n\n\n\n3\,200マイル \n\n\n\n\n\n\n1\,600マイル \n\n\n\n\n\n\n\n\n500万円以上～1\,000万円未満 \n\n\n\n\n\n\n6\,000マイル \n\n\n\n\n\n\n3\,000マイル \n\n\n\n\n\n\n\n\n1\,000万円以上 \n\n\n\n\n\n\n10\,000マイル \n\n\n\n\n\n\n5\,000マイル \n\n\n\n\n\n\n預け入れが多いほど、JAL Payでもらえるマイルの上限がアップします！ \nそして、JAL NEOBANKの円定期預金が満期になるとボーナスマイルもプレゼント！ \n※参加にはエントリーが必須です。 \nーーーーーーーーーーーーーーーーーーーーーーー\n【キャンペーン名】\nJAL PayマイルUPリリース記念で最大10%還元\n【キャンペーン期間】\n2026年2月2日（月） 午前0時00分～5月10日（日） 午後11時59分\nーーーーーーーーーーーーーーーーーーーーーーー
URL:https://tabi-mile.com/campaign_calendar/jal-pay-202601/
CATEGORIES:エアライン
ATTACH;FMTTYPE=image/jpeg:https://tabi-mile.com/wp-content/uploads/2026/01/aa4c2e62014c1d478685a896a1c7e13e.jpg
END:VEVENT
BEGIN:VEVENT
DTSTART;VALUE=DATE:20260203
DTEND;VALUE=DATE:20260205
DTSTAMP:20260423T050039
CREATED:20260130T115644Z
LAST-MODIFIED:20260130T120455Z
UID:70184-1770076800-1770249599@tabi-mile.com
SUMMARY:JAL国内線航空券タイムセール！春旅&ゴールデンウィークが対象！
DESCRIPTION:JAL国内線航空券タイムセールが来た！ \n春休み〜ゴールデンウィーク〜初夏の旅行シーズン対象で \n羽田ー沖縄が9\,900円〜など、この時期としてはかなりお得な運賃が出ています。 \nしかも航空券だけじゃなく… \n✔ 航空券＋ホテルの国内ツアーもセール\n✔ レンタカーもタイムセール（6時間3\,500円〜）\n✔ 国内ホテルもセール＋マイル2倍特典 \n旅行をまるごと安く手配できるチャンスです。 \n安い日程からどんどん埋まるので、早めのチェックがおすすめ！ \nーーーーーーーーーーーーーーーーーーーーーーー\n【キャンペーン名】\nJAL国内線航空券タイムセール！春旅&ゴールデンウィークが対象！\n【キャンペーン期間】\n2026年2月3日 0:00 〜 2月4日\n【搭乗期間】\n2026年3月29日～5月6日\nーーーーーーーーーーーーーーーーーーーーーーー \nーーーーーーーーーーーーーーーーーーーーーーー\n【キャンペーン名】\nJAL航空券＋ホテルの国内ツアーもセール\n【キャンペーン期間】\n2026年2月3日 0:00 〜 2月12日\n【搭乗期間】\n2026年2月4日～2027年1月17日宿泊\nーーーーーーーーーーーーーーーーーーーーーーー
URL:https://tabi-mile.com/campaign_calendar/jal-sale-202601/
CATEGORIES:エアライン
ATTACH;FMTTYPE=image/jpeg:https://tabi-mile.com/wp-content/uploads/2026/01/107b8ef25146e581d4d9a10756de103f.jpg
END:VEVENT
BEGIN:VEVENT
DTSTART;VALUE=DATE:20260301
DTEND;VALUE=DATE:20260401
DTSTAMP:20260423T050039
CREATED:20260224T114658Z
LAST-MODIFIED:20260224T114658Z
UID:70411-1772323200-1775001599@tabi-mile.com
SUMMARY:JALのマイルへのポイント移行最大25％レートアップキャンペーン
DESCRIPTION:他社ポイントから、JALマイルへの移行で最大25%レートアップ！ \n今回の最大の25%レートアップは、Pontaポイントでした！ \nPonta勢歓喜。 \n20%レートアップは、アメックスとセゾンカードの永久不滅ポイント。 \nその他のレートアップは、こんな感じ。 \nエントリー必須なので、忘れずにエントリーを。 \n\n\n\n\nレートアップ\n\n\n移行元\n\n\n\n\n\n\n25％\n\n\nPontaポイント\n\n\n\n\n20％\n\n\nアメリカン・エキスプレス\n\n\n\n\n20％\n\n\nセゾンカード\n\n\n\n\n10％\n\n\nアプラスカード\n\n\n\n\n10％\n\n\n出光クレジット株式会社\n\n\n\n\n10％\n\n\nエポスカード\n\n\n\n\n10％\n\n\nエムアイポイント\n\n\n\n\n10％\n\n\nオリコカード\n\n\n\n\n10％\n\n\nJCBカード\n\n\n\n\n10％\n\n\n静銀セゾンカード株式会社\n\n\n\n\n10％\n\n\nジャックスカード\n\n\n\n\n10％\n\n\nダイナースクラブ\n\n\n\n\n10％\n\n\nTOKYU POINT\n\n\n\n\n10％\n\n\nドットマネー\n\n\n\n\n10％\n\n\nティーエスキュービックカード（ポイントプラス）\n\n\n\n\n10％\n\n\nトヨタファイナンス・マイレージプラン\n\n\n\n\n10％\n\n\nPiTaPa\n\n\n\n\n10％\n\n\nPRESIDENT CARD\n\n\n\n\n10％\n\n\n日専連カード（株式会社日専連ライフサービス）\n\n\n\n\n10％\n\n\nワールド オブ ハイアット\n\n\n\n\n10％\n\n\nポケットカード\n\n\n\n\n10％\n\n\nグローバルポイント\n\n\n\n\n10％\n\n\nNICOSゴールドポイントプログラム\n\n\n\n\n10％\n\n\nJAカードゴールドポイントプログラム\n\n\n\n\n10％\n\n\nりそな銀行\n\n\n\n\n10％\n\n\n埼玉りそな銀行\n\n\n\n\n10％\n\n\n関西みらい銀行\n\n\n\n\n10％\n\n\nみなと銀行\n\n\n\n\nーーーーーーーーーーーーーーーーーーーーーーー\n【キャンペーン名】\nJALのマイルへのポイント移行最大25％レートアップキャンペーン\n【キャンペーン期間】\n2026年3月1日～3月31日\nーーーーーーーーーーーーーーーーーーーーーーー
URL:https://tabi-mile.com/campaign_calendar/jal-rate-up202602/
CATEGORIES:エアライン
ATTACH;FMTTYPE=image/jpeg:https://tabi-mile.com/wp-content/uploads/2026/02/a32f339c87a121df9525953149a09afc.jpg
END:VEVENT
BEGIN:VEVENT
DTSTART;VALUE=DATE:20260303
DTEND;VALUE=DATE:20260401
DTSTAMP:20260423T050039
CREATED:20260309T002428Z
LAST-MODIFIED:20260326T083304Z
UID:70556-1772496000-1775001599@tabi-mile.com
SUMMARY:JALモバイル新規回線で初期費用無料又は1\,500マイルキャンペーン
DESCRIPTION:JALのマイルとライフステータスポイントが貯まるJALモバイル。 \n新規申し込みで、選べるキャンペーン。 \n1）初期費用無料\n2）1\,500マイル \n初期費用無料は、2GB・5GB契約で、通常3\,300円の初期費用が0円に。 \n1\,500マイルは、10GB以上の契約で対象に。 \n1\,500マイルあれば、JALモバイル会員限定の国内線特典航空券「どこかにマイル」1\,500マイル特典が使えるので、国内線1往復ができます。 \nJALでライフステータスポイント修行するなら必須のJALモバイル。 \n入会するなら今です。 \nーーーーーーーーーーーーーーーーーーーーーーー\n【キャンペーン名】\nJALモバイル新規回線で初期費用無料又は1\,500マイルキャンペーン\n【キャンペーン期間】\n2026年3月1日～2026年3月31日\nーーーーーーーーーーーーーーーーーーーーーーー \nJALモバイルの詳しい料金プランや、実際に使ってみての感想・速度は「JALモバイルでマイル＆Life Statusポイントゲット！毎年1回、国内線が実質無料に！」で詳しくまとめています。 \n\n				\n					\n					\n												\n							\n																																																																															\n							\n																	JALモバイルでマイル＆Life Statusポイントゲット！毎年1回、国内線が実質無料に！\n								\n																									続きを見る
URL:https://tabi-mile.com/campaign_calendar/jal-mobile-camp-202603/
CATEGORIES:エアライン
ATTACH;FMTTYPE=image/jpeg:https://tabi-mile.com/wp-content/uploads/2026/03/c06a7d193960fa1f427a483c21f1e789.jpg
END:VEVENT
BEGIN:VEVENT
DTSTART;VALUE=DATE:20260310
DTEND;VALUE=DATE:20260312
DTSTAMP:20260423T050039
CREATED:20260307T130311Z
LAST-MODIFIED:20260307T130311Z
UID:70549-1773100800-1773273599@tabi-mile.com
SUMMARY:JAL国内線タイムセール
DESCRIPTION:JAL国内航空券タイムセールが来た！ \n今回は、GWも対象。 \n主なセール運賃はこちら。 \n羽田 → 札幌　10\,010円〜\n羽田 → 大阪　8\,800円〜\n羽田 → 福岡　10\,780円〜\n羽田 → 沖縄　10\,010円〜\n羽田 → 石垣　11\,220円〜\n大阪 → 沖縄　9\,790円〜\n福岡 → 沖縄　9\,020円〜\n名古屋 → 札幌　8\,910円〜 \nいつものタイムセールよりも高めの設定ですが、旅行シーズンに入ってきているのでやむなしですね。 \nーーーーーーーーーーーーーーーーーーーーーーー\n【キャンペーン名】\nJAL国内線タイムセール\n【キャンペーン期間】\n2026年3月10日（火）00:00～11日（水）23:59\n【搭乗期間】\n2026年4月1日（水）～6月30日（火）\nーーーーーーーーーーーーーーーーーーーーーーー
URL:https://tabi-mile.com/campaign_calendar/jal-sale-202603/
CATEGORIES:エアライン
ATTACH;FMTTYPE=image/jpeg:https://tabi-mile.com/wp-content/uploads/2026/03/0015ccd097bd0e2094d901639ac864bc.jpg
END:VEVENT
BEGIN:VEVENT
DTSTART;VALUE=DATE:20260319
DTEND;VALUE=DATE:20260330
DTSTAMP:20260423T050039
CREATED:20260321T013941Z
LAST-MODIFIED:20260321T014000Z
UID:70655-1773878400-1774828799@tabi-mile.com
SUMMARY:JAL海外航空券タイムセール
DESCRIPTION:JALで海外航空券タイムセール実施中。 \n\n\n\nホノルル往復87\,000円～、台北往復37\,000円～、バンコク往復65\,000円～など。 \n\n\n\n対象搭乗期間は路線ごとに異なりますが、2026年9月30日までのも。 \n\n\n\nーーーーーーーーーーーーーーーーーーーーーーー 【キャンペーン名】JAL海外航空券タイムセール 【キャンペーン期間】2026年3月19日（木）00:00～3月29日（日）23:59ーーーーーーーーーーーーーーーーーーーーーーー
URL:https://tabi-mile.com/campaign_calendar/jal-time-sale-202603/
CATEGORIES:エアライン
ATTACH;FMTTYPE=image/jpeg:https://tabi-mile.com/wp-content/uploads/2026/03/86e627a09078bd3136e88d94b015e471.jpg
END:VEVENT
END:VCALENDAR