BEGIN:VCALENDAR
VERSION:2.0
PRODID:-//旅マイル - ECPv6.15.20//NONSGML v1.0//EN
CALSCALE:GREGORIAN
METHOD:PUBLISH
X-ORIGINAL-URL:https://tabi-mile.com
X-WR-CALDESC:旅マイル のイベント
REFRESH-INTERVAL;VALUE=DURATION:PT1H
X-Robots-Tag:noindex
X-PUBLISHED-TTL:PT1H
BEGIN:VTIMEZONE
TZID:Asia/Tokyo
BEGIN:STANDARD
TZOFFSETFROM:+0900
TZOFFSETTO:+0900
TZNAME:JST
DTSTART:20240101T000000
END:STANDARD
END:VTIMEZONE
BEGIN:VEVENT
DTSTART;VALUE=DATE:20250416
DTEND;VALUE=DATE:20250621
DTSTAMP:20260423T164739
CREATED:20250430T061953Z
LAST-MODIFIED:20250521T014559Z
UID:66133-1744761600-1750463999@tabi-mile.com
SUMMARY:JALカード新規入会キャンペーン
DESCRIPTION:JALカードの期間限定入会キャンペーン実施中。 \n今回の入会キャンペーンは、提携ブランドごとに獲得できるマイルが異なるキャンペーンで、VISAが一番オススメ。 \n\n\n    \n        \n                    日々の生活でJALマイルを貯めるなら JALカードの入会・キャンペーン詳細はこちら 普通カードは初年度年会費無料 \n                                                \n\n                                \n    \n\nJALカードキャンペーンについては、「JALカード入会キャンペーンまとめ！JALマイルを貯めるならJALカードは必須！4つのメリット」で詳しく解説しています。 \n\n				\n					\n					\n												\n							\n																																																																															\n							\n																	【2025年12月版】JALカード入会キャンペーンまとめ！JALマイルを貯めるならJALカードは必須！4つのメリット\n								\n																									続きを見る \n															\n						\n					\n					\n\n				\nーーーーーーーーーーーーーーーーーーーーーーー\n【キャンペーン名】\nJALカード新規入会キャンペーン\n【キャンペーン期間】\n2025年4月16日～6月20日\nーーーーーーーーーーーーーーーーーーーーーーー
URL:https://tabi-mile.com/campaign_calendar/jalcard_202504/
CATEGORIES:クレジットカード
ATTACH;FMTTYPE=image/png:https://tabi-mile.com/wp-content/uploads/2025/04/b799c6b490301a8c4a317beca35adbd0.png
END:VEVENT
BEGIN:VEVENT
DTSTART;VALUE=DATE:20250416
DTEND;VALUE=DATE:20250801
DTSTAMP:20260423T164739
CREATED:20250430T031550Z
LAST-MODIFIED:20250430T065553Z
UID:66114-1744761600-1754006399@tabi-mile.com
SUMMARY:JAL×ワールド オブ ハイアット ボーナスマイルキャンペーン
DESCRIPTION:ハイアット&JALの共同キャンペーン。 \nキャンペーンページでワールド オブ ハイアット会員番号およびJMBお得意様番号を登録後、キャンペーン対象宿泊期間中にアジア太平洋地域の対象のハイアットのホテルやリゾートでの宿泊で、通常の500マイルに加えて、もれなく500マイルがたまります。 \nーーーーーーーーーーーーーーーーーーーーーーー\n【キャンペーン名】\nJAL×ワールド オブ ハイアット ボーナスマイルキャンペーン\n【キャンペーン期間】\n2025年4月16日～7月31日\nーーーーーーーーーーーーーーーーーーーーーーー
URL:https://tabi-mile.com/campaign_calendar/jal-hyatt-202504/
CATEGORIES:エアライン,ホテル
ATTACH;FMTTYPE=image/png:https://tabi-mile.com/wp-content/uploads/2025/04/01bd2924a28cba38c17834a7522254c8.png
END:VEVENT
BEGIN:VEVENT
DTSTART;VALUE=DATE:20250508
DTEND;VALUE=DATE:20250521
DTSTAMP:20260423T164739
CREATED:20250508T005450Z
LAST-MODIFIED:20250508T023618Z
UID:66307-1746662400-1747785599@tabi-mile.com
SUMMARY:JALツアータイムセール
DESCRIPTION:JALダイナミックパッケージでタイムセール！ \n国内は最大33\,000円割引のクーポンも。 \nレンタカーも安くなっています。 \n海外はハワイ1名4万円引き。 \n※国内ツアーと海外ツアーでキャンペーン期間が異なるので注意 \nーーーーーーーーーーーーーーーーーーーーーーー\n【キャンペーン名】\n\n\n    \n        \n                    JAL国内ダイナミックパッケージタイムセール                                                \n\n                                \n    \n\n\n\n    \n        \n                    JAL海外ダイナミックパッケージタイムセール                                                \n\n                                \n    \n\n【キャンペーン期間】\n国内：2025年5月8日（木）10:00～5月20日（火）23:59\n海外：2025年4月30日（水）10:00～5月14日（水）23:59\nーーーーーーーーーーーーーーーーーーーーーーー
URL:https://tabi-mile.com/campaign_calendar/jal-tour-sale-202505/
CATEGORIES:旅行会社
ATTACH;FMTTYPE=image/jpeg:https://tabi-mile.com/wp-content/uploads/2025/05/488de7b2cf57b7119b838a6e6df6643c.jpg
END:VEVENT
BEGIN:VEVENT
DTSTART;VALUE=DATE:20250513
DTEND;VALUE=DATE:20250515
DTSTAMP:20260423T164739
CREATED:20250509T051124Z
LAST-MODIFIED:20250509T051124Z
UID:66362-1747094400-1747267199@tabi-mile.com
SUMMARY:JAL国内線タイムセール7\,700円～
DESCRIPTION:JAL国内線航空券タイムセール！ \n羽田ー新千歳8\,800円～、羽田ー伊丹7\,700円～、羽田ー福岡8\,800円～、羽田ー沖縄11\,000円～と安い。 \nーーーーーーーーーーーーーーーーーーーーーーー\n【キャンペーン名】\nJAL国内線タイムセール\n【キャンペーン期間】\n販売期間：2025年5月13日～14日\n搭乗期間：2025年7月1日～31日\nーーーーーーーーーーーーーーーーーーーーーーー
URL:https://tabi-mile.com/campaign_calendar/jal-timesale-202505/
CATEGORIES:エアライン
ATTACH;FMTTYPE=image/jpeg:https://tabi-mile.com/wp-content/uploads/2025/05/eaefc61e333b8f939c1988c88787e776.jpg
END:VEVENT
BEGIN:VEVENT
DTSTART;VALUE=DATE:20250514
DTEND;VALUE=DATE:20250712
DTSTAMP:20260423T164739
CREATED:20250513T233751Z
LAST-MODIFIED:20250513T233751Z
UID:66450-1747180800-1752278399@tabi-mile.com
SUMMARY:JAL福岡－沖縄（那覇）線、沖縄（那覇）－宮古・石垣線、石垣－宮古線ダブルマイルキャンペーン
DESCRIPTION:JALの福岡－沖縄（那覇）線、沖縄（那覇）－宮古・石垣線、石垣－宮古線でダブルマイルキャンペーン。 \n通常の2倍マイルが貯まります。 \n搭乗日までにキャンペーン参加登録が必要なので、その期間登場予定の方は忘れずにエントリーを。 \nーーーーーーーーーーーーーーーーーーーーーーー\n【キャンペーン名】\nJAL福岡－沖縄（那覇）線、沖縄（那覇）－宮古・石垣線、石垣－宮古線ダブルマイルキャンペーン\n【キャンペーン期間】\n2025年5月14日（水）～7月11日（金）\nーーーーーーーーーーーーーーーーーーーーーーー
URL:https://tabi-mile.com/campaign_calendar/jal-oka-bonusmile-202505/
CATEGORIES:エアライン
ATTACH;FMTTYPE=image/jpeg:https://tabi-mile.com/wp-content/uploads/2025/05/275994b6631abf6aa8551017cb2153df.jpg
END:VEVENT
BEGIN:VEVENT
DTSTART;VALUE=DATE:20250519
DTEND;VALUE=DATE:20250525
DTSTAMP:20260423T164739
CREATED:20250521T015452Z
LAST-MODIFIED:20250521T015452Z
UID:66733-1747612800-1748131199@tabi-mile.com
SUMMARY:JALふるさと納税を初めて利用で最大50\,000マイル貯まる
DESCRIPTION:まだJALふるさと納税をやったことない方限定！ \nふるさと納税で大量JALマイルを貯めるチャンス！ \n寄附金額により1\,000〜30\,000マイルをプレゼントで、JALカード決済と組み合わせて合計最大50\,000マイルに。 \nキャンペーンコード「2505KIFU」を入力必要なので忘れずに。 \n現実的な5万円寄付でも最大2\,000マイルになるので、 \n過去JALふるさと納税をやったことがある方は対象外なので注意！ \nーーーーーーーーーーーーーーーーーーーーーーー \n【キャンペーン名】\nJALふるさと納税を初めて利用で最大50\,000マイル貯まる\n【キャンペーン期間】\n2025年5月19日～5月24日\nーーーーーーーーーーーーーーーーーーーーーーー
URL:https://tabi-mile.com/campaign_calendar/jal-furusato-202505/
CATEGORIES:エアライン
ATTACH;FMTTYPE=image/jpeg:https://tabi-mile.com/wp-content/uploads/2025/05/82cb32d5d4262d5042893f697ad4ba41.jpg
END:VEVENT
BEGIN:VEVENT
DTSTART;VALUE=DATE:20250525
DTEND;VALUE=DATE:20250526
DTSTAMP:20260423T164739
CREATED:20250523T133208Z
LAST-MODIFIED:20250523T133227Z
UID:66836-1748131200-1748217599@tabi-mile.com
SUMMARY:JAL Mall 感謝DAYでマイル10倍
DESCRIPTION:JAL Mallでのお買い物で、最大100円=10マイル！ \nJALカード決済なら、合わせて最大100円=12マイルに。 \nライフステータスポイントもJAL Mallで100マイル獲得ごとに1ポイント獲得できます。 \nーーーーーーーーーーーーーーーーーーーーーーー\n【キャンペーン名】\nJAL Mall 感謝DAYでマイル10倍\n【キャンペーン期間】\n2025年5月25日（日）のみ\nーーーーーーーーーーーーーーーーーーーーーーー
URL:https://tabi-mile.com/campaign_calendar/jal-mall-10-202505/
CATEGORIES:エアライン
ATTACH;FMTTYPE=image/jpeg:https://tabi-mile.com/wp-content/uploads/2025/05/f9a4f127e62acd7a8d32cc6244771db7.jpg
END:VEVENT
END:VCALENDAR