BEGIN:VCALENDAR
VERSION:2.0
PRODID:-//旅マイル - ECPv6.15.20//NONSGML v1.0//EN
CALSCALE:GREGORIAN
METHOD:PUBLISH
X-WR-CALNAME:旅マイル
X-ORIGINAL-URL:https://tabi-mile.com
X-WR-CALDESC:旅マイル のイベント
REFRESH-INTERVAL;VALUE=DURATION:PT1H
X-Robots-Tag:noindex
X-PUBLISHED-TTL:PT1H
BEGIN:VTIMEZONE
TZID:Asia/Tokyo
BEGIN:STANDARD
TZOFFSETFROM:+0900
TZOFFSETTO:+0900
TZNAME:JST
DTSTART:20240101T000000
END:STANDARD
END:VTIMEZONE
BEGIN:VEVENT
DTSTART;VALUE=DATE:20250801
DTEND;VALUE=DATE:20251001
DTSTAMP:20260423T101239
CREATED:20250824T132743Z
LAST-MODIFIED:20250824T132743Z
UID:68352-1754006400-1759276799@tabi-mile.com
SUMMARY:JAL NEOBANK 外貨受取キャンペーン 最大15万円&15万マイルプレゼント
DESCRIPTION:JAL NEOBANKで、他金融機関から外貨受取で最大15万円&15万マイルプレゼントキャンペーン。 \n \n現在同時開催中の住信SBIネット銀行の「外貨まるっと移動キャンペーン」と連動しており、5\,000通貨以上で2\,000円もらえ、最大100万通貨以上で15万円もらえます。 \nJAL NEOBANKなら、さらに5\,000USD以上で2\,000マイル、最大100万USD以上で15万マイルもらえます。 \n外貨まるっと移動キャンペーンにエントリーしておけば、JAL NEOBANKのキャンペーンも適用されます。 \nーーーーーーーーーーーーーーーーーーーーーーー\n【キャンペーン名】\nJAL NEOBANK 外貨受取キャンペーン 最大15万円&15万マイルプレゼント\n【キャンペーン期間】\n2025年8月1日（金）～9月30日（火）\nーーーーーーーーーーーーーーーーーーーーーーー \n\n\n\n    \n        \n                                                                    \n\n                                \n    \n\n\n				\n					\n					\n												\n							\n																																																																															\n							\n																	ANAマイルが貯まるソニー銀行の外貨定期預金をやってみた！海外旅行に便利なANAマイレージクラブ / Sony Bank WALLET\n								\n																									続きを見る
URL:https://tabi-mile.com/campaign_calendar/jal-neobank-camp202508/
CATEGORIES:エアライン
ATTACH;FMTTYPE=image/jpeg:https://tabi-mile.com/wp-content/uploads/2025/08/97e3171fb331b5f02d4aba1cc0e14ea9.jpg
END:VEVENT
BEGIN:VEVENT
DTSTART;VALUE=DATE:20250801
DTEND;VALUE=DATE:20260901
DTSTAMP:20260423T101239
CREATED:20250815T132625Z
LAST-MODIFIED:20250815T132625Z
UID:68099-1754006400-1788220799@tabi-mile.com
SUMMARY:JALお誕生月～翌月限定 バースデーマイル
DESCRIPTION:JALでは、誕生月およびその翌月に国内線に搭乗すると、300マイルを付与するキャンペーンをスタート。 \n今のところ2025年8月～2026年7月までなので、チャンスは1回のみ。 \nキャンペーン登録が必要なのでとりあえずエントリーしておきましょう。 \nーーーーーーーーーーーーーーーーーーーーーーー\n【キャンペーン名】\nJALお誕生月～翌月限定 バースデーマイル\n【キャンペーン期間】\n2025年8月1日（金）～2026年8月31日（月）\nーーーーーーーーーーーーーーーーーーーーーーー \n\n\n\n    \n        \n                                                                    \n\n                                \n    \n\nキャンペーン期間: 2025年8月15日から2026年8月まで\n搭乗期間: 誕生月およびその翌月\n宿泊期間: 記載なし
URL:https://tabi-mile.com/campaign_calendar/jal-birthday-mile/
CATEGORIES:エアライン
ATTACH;FMTTYPE=image/jpeg:https://tabi-mile.com/wp-content/uploads/2025/08/f124b415d0ec0245ef7f662c174231df.jpg
END:VEVENT
BEGIN:VEVENT
DTSTART;VALUE=DATE:20250808
DTEND;VALUE=DATE:20251001
DTSTAMP:20260423T101239
CREATED:20250807T135016Z
LAST-MODIFIED:20250807T135016Z
UID:68065-1754611200-1759276799@tabi-mile.com
SUMMARY:Uber JapanとJAL、「Wでおトク」な夏のコラボキャンペーン
DESCRIPTION:Uberの利用でJALマイルが貯まるお得なキャンペーンを実施。 \n国内・海外どちらも初回利用者対象。 \n国内特典（Uber初回利用者）\n\n先着10\,000名に500マイル\n初回乗車 最大2\,500円割引\n 乗車金額の10％分のJALマイル付与\n※割引後の金額に対して付与\nプロモコード【JAUBAUG25】を入力して配車\n\n海外特典（アメリカ・台湾・韓国）\n\n各国ごとの乗車割引（JAL Pay支払い限定）\n\n米国：最大20ドル\n台湾：最大600NTD\n韓国：最大28\,000KRW\n\n\n期間中の乗車回数に応じてマイル付与\n\n3回以上：300マイル\n6回以上：1\,000マイル\n※1回あたり1\,500円以上が対象\n\n\nプロモコードを入力し、JAL Payで支払い\n\n米国：JALPSU25\n台湾：JALPST25\n韓国：JALPSK25\n\n\n\nーーーーーーーーーーーーーーーーーーーーーーー\n【キャンペーン名】\nUber JapanとJAL、「Wでおトク」な夏のコラボキャンペーン\n【キャンペーン期間】\n2025年8月8日～9月30日\nーーーーーーーーーーーーーーーーーーーーーーー
URL:https://tabi-mile.com/campaign_calendar/uber-jal-camp-202508/
CATEGORIES:エアライン
ATTACH;FMTTYPE=image/jpeg:https://tabi-mile.com/wp-content/uploads/2025/08/4d7daa24ac95261b11bb888d78f7ae8f.jpg
END:VEVENT
BEGIN:VEVENT
DTSTART;VALUE=DATE:20250818
DTEND;VALUE=DATE:20250916
DTSTAMP:20260423T101239
CREATED:20250818T133030Z
LAST-MODIFIED:20250818T133113Z
UID:68144-1755475200-1757980799@tabi-mile.com
SUMMARY:JAL NEOBANK｜為替コストキャッシュバックキャンペーン
DESCRIPTION:JAL NEOBANKでは、為替コストキャッシュバックキャンペーンを実施中です。 \nこのキャンペーンでは、JAL NEOBANKで100USD以上買付すると、買付金額に応じて為替コストをキャッシュバック。 \n100USDで6円キャッシュバックですが、10\,000USD（150万円）だと600円キャッシュバック。 \nーーーーーーーーーーーーーーーーーーーーーーー\n【キャンペーン名】\nJAL NEOBANK｜為替コストキャッシュバックキャンペーン\n【キャンペーン期間】\n2025年8月18日（月）～9月15日（月）\nーーーーーーーーーーーーーーーーーーーーーーー
URL:https://tabi-mile.com/campaign_calendar/jal-neobank-202508/
CATEGORIES:エアライン
ATTACH;FMTTYPE=image/jpeg:https://tabi-mile.com/wp-content/uploads/2025/08/47035b281764da553d36f9d913675358.jpg
END:VEVENT
BEGIN:VEVENT
DTSTART;VALUE=DATE:20250827
DTEND;VALUE=DATE:20250911
DTSTAMP:20260423T101239
CREATED:20250827T125616Z
LAST-MODIFIED:20250827T125616Z
UID:68468-1756252800-1757548799@tabi-mile.com
SUMMARY:JALダイナミックパッケージ 期間限定タイムセール
DESCRIPTION:JALが国内航空券の往復とホテルをセットでお得に提供するSALEを開催中です。 \n東京から沖縄が26\,700円、北海道が29\,000円、大阪-東京が27\,800円など、さまざまなルートでお得。 \nさらに、テーマパーク割引やレンタカーの割引もあり、1泊2日で1\,500円から利用できます。 \nーーーーーーーーーーーーーーーーーーーーーーー\n【キャンペーン名】\nJALダイナミックパッケージ 期間限定タイムセール\n【キャンペーン期間】\n販売期間 8月27日10時〜9月10日23時59分\n搭乗期間 8月28日〜2026年8月12日\n宿泊期間 8月28日〜2026年8月12日\nーーーーーーーーーーーーーーーーーーーーーーー
URL:https://tabi-mile.com/campaign_calendar/jal-tour-sale-202508/
CATEGORIES:エアライン
ATTACH;FMTTYPE=image/jpeg:https://tabi-mile.com/wp-content/uploads/2025/08/97a965ea17970cc291111730debb234a.jpg
END:VEVENT
BEGIN:VEVENT
DTSTART;VALUE=DATE:20250901
DTEND;VALUE=DATE:20251001
DTSTAMP:20260423T101239
CREATED:20250802T142211Z
LAST-MODIFIED:20250802T145425Z
UID:67991-1756684800-1759276799@tabi-mile.com
SUMMARY:JALのマイルへのポイント移行最大20％レートアップキャンペーン
DESCRIPTION:他社ポイントからJALマイルへの移行で最大20%レートアップキャンペーン！ \n2025年9月1日～9月30日までの期間で、キャンペーン登録が必須。 \nなお、キャンペーン登録は8月1日からできますが、実際のポイント交換は9月になってから！ \n20%レートアップは、 \n\nアプラスカード\nセゾンカード\nダイナースクラブ\nPRESIDENT CARD\n\n10%レートアップは、 \n\nアメリカン・エキスプレス\n出光クレジット株式会社\nエポスカード\nオリコカード\nジャックスカード\nティーエスキュービックカード（ポイントプラス）\nトヨタファイナンス・マイレージプラン\n日連カード（株式会社日専連ライフサービス）\nポケットカード\nMUFGカード\nNICOSカード\nDCカード\n\nーーーーーーーーーーーーーーーーーーーーーーー\n【キャンペーン名】\nJALのマイルへのポイント移行最大20％レートアップキャンペーン\n【キャンペーン期間】\n2025年9月1日～9月30日\nーーーーーーーーーーーーーーーーーーーーーーー
URL:https://tabi-mile.com/campaign_calendar/jal-bonus_mile-202509/
CATEGORIES:エアライン
ATTACH;FMTTYPE=image/jpeg:https://tabi-mile.com/wp-content/uploads/2025/08/a7ca20dc5477b501a37a3892be446acb.jpg
END:VEVENT
BEGIN:VEVENT
DTSTART;VALUE=DATE:20250901
DTEND;VALUE=DATE:20251010
DTSTAMP:20260423T101239
CREATED:20250831T153015Z
LAST-MODIFIED:20250831T153140Z
UID:68582-1756684800-1760054399@tabi-mile.com
SUMMARY:JALスカイメイトセール！当日予約限定国内線全路線一律4\,950円
DESCRIPTION:満12歳～25歳限定で、当日予約限定でお得に航空券が買えるJALスカイメイト。 \nそのスカイメイトでセール。 \n国内線全路線が一律4\,950円に。 \nこの運賃は、JALカード会員限定。 \n学生なら学生用のJALカードnavi、20代ならJAL CLUB ESTがおすすめ。 \nーーーーーーーーーーーーーーーーーーーーーーー\n【キャンペーン名】\nJALスカイメイトセール！当日予約限定国内線全路線一律4\,950円\n【キャンペーン期間】\n2025年9月1日～10月9日\nーーーーーーーーーーーーーーーーーーーーーーー \n\n				\n					\n					\n												\n							\n																																																																															\n							\n																	学生におすすめのJALカードは「JALカード navi」！年会費無料で帰省や旅行がタダになる！\n								\n																									続きを見る \n															\n						\n					\n					\n\n				\n\n				\n					\n					\n												\n							\n																																																																															\n							\n																	20代なら迷わずJAL CLUB EST！サクララウンジ利用やマイル有効期限延長など特典が満載のJALカード\n								\n																									続きを見る
URL:https://tabi-mile.com/campaign_calendar/jal-skymete-sale-202509/
CATEGORIES:エアライン
ATTACH;FMTTYPE=image/jpeg:https://tabi-mile.com/wp-content/uploads/2025/09/94b9879d460b2601108e12905108246c.jpg
END:VEVENT
BEGIN:VEVENT
DTSTART;VALUE=DATE:20250903
DTEND;VALUE=DATE:20250917
DTSTAMP:20260423T101239
CREATED:20250903T145734Z
LAST-MODIFIED:20250905T061611Z
UID:68671-1756857600-1758067199@tabi-mile.com
SUMMARY:JAL海外ダイナミックパッケージでタイムセール最大4万円引き
DESCRIPTION:JALの海外ダイナミックパッケージで期間限定タイムセール！ \n例えば、ハワイなら1人最大40\,000円の割引もあり。 \n割引適用でハワイ2泊4日が88\,800円～。（ホテル・フライト・燃油サーチャージ含む） \n国内のダイナミックパッケージもタイムセール中。 \nーーーーーーーーーーーーーーーーーーーーーーー\n【キャンペーン名】\nJAL海外ダイナミックパッケージでタイムセール\n【キャンペーン期間】\n2025年9月3日（水）10:00 ～ 9月16日（火）23:59\n【対象搭乗期間】\n2025年9月8日（月） ～ 2026年3月31日（火）\nーーーーーーーーーーーーーーーーーーーーーーー
URL:https://tabi-mile.com/campaign_calendar/jal-oversea-taime-sale-202509/
CATEGORIES:エアライン
ATTACH;FMTTYPE=image/jpeg:https://tabi-mile.com/wp-content/uploads/2025/09/d89bb27d28e19439c06e23fc550d30d4.jpg
END:VEVENT
BEGIN:VEVENT
DTSTART;VALUE=DATE:20250909
DTEND;VALUE=DATE:20250912
DTSTAMP:20260423T101239
CREATED:20250905T045224Z
LAST-MODIFIED:20250905T045224Z
UID:68749-1757376000-1757635199@tabi-mile.com
SUMMARY:JAL国内線タイムセール
DESCRIPTION:JAL国内線のタイムセールがスタート！ \n羽田－札幌8\,800円、羽田ー福岡8\,800円、羽田ー那覇9\,900円など非常にお得な価格で登場しています。 \n販売期間は9月9日0時からで、搭乗期間も10月～12月25日までと長く、秋の週末旅行や冬休みの計画にもぴったり。\nーーーーーーーーーーーーーーーーーーーーーーー\n【キャンペーン名】\nJAL国内線タイムセール\n【キャンペーン期間】\n販売期間：2025年9月9日～2025年9月11日\n搭乗期間：2025年10月1日～2025年12月25日\n【概要】\n・羽田－新千歳、福岡、那覇など人気路線が片道7\,700円、9\,900円など特価\n・予約は早い者勝ち、人気日は早期完売の可能性あり\nーーーーーーーーーーーーーーーーーーーーーーー
URL:https://tabi-mile.com/campaign_calendar/jal-timesale-202509/
CATEGORIES:エアライン
ATTACH;FMTTYPE=image/jpeg:https://tabi-mile.com/wp-content/uploads/2025/09/042b1320e27a9a6846adf0bb3a4db488.jpg
END:VEVENT
BEGIN:VEVENT
DTSTART;VALUE=DATE:20250922
DTEND;VALUE=DATE:20260116
DTSTAMP:20260423T101239
CREATED:20250923T102133Z
LAST-MODIFIED:20250923T102133Z
UID:69027-1758499200-1768521599@tabi-mile.com
SUMMARY:暮らしにもっとJALを！広げようJALマイルライフキャンペーン
DESCRIPTION:JALライフステータスポイントを貯めるべく、以下のサービスを利用しているなら、ぜひキャンペーン登録を。 \n\nJAL光\nJALでKariteco\nJALでんき\nJAL Wellness&Travel\nJALモバイル\n\n3つ以上使っていると抽選で1\,500円相当のJAL Payポイントプレンゼント。 \n5つ以上使っているともれなく3\,000円相当のJAL Payポイントが貰えます。 \nーーーーーーーーーーーーーーーーーーーーーーー\n【キャンペーン名】\n暮らしにもっとJALを！広げようJALマイルライフキャンペーン\n【キャンペーン期間】\n2025年9月22日（月）～2026年1月15日（木）\nーーーーーーーーーーーーーーーーーーーーーーー
URL:https://tabi-mile.com/campaign_calendar/jal-mile-life-camp-202509/
CATEGORIES:エアライン
ATTACH;FMTTYPE=image/jpeg:https://tabi-mile.com/wp-content/uploads/2025/09/bef8df4782693384faa1b0055a9640d0.jpg
END:VEVENT
BEGIN:VEVENT
DTSTART;VALUE=DATE:20250926
DTEND;VALUE=DATE:20251010
DTSTAMP:20260423T101239
CREATED:20250926T020908Z
LAST-MODIFIED:20250926T020923Z
UID:69046-1758844800-1760054399@tabi-mile.com
SUMMARY:JALダイナミックパッケージタイムセール
DESCRIPTION:JALの国内航空券+宿泊でタイムセール。 \nクーポン併用で最大33\,000円割引！ \nよりおトクな6日間！ \n2月～3月出発分がさらにおトクに！ \n台数限定！いち押しレンタカー　Sクラス1泊2日1\,500円～利用可能！ \nーーーーーーーーーーーーーーーーーーーーーーー\n【キャンペーン名】\nJALダイナミックパッケージタイムセール\n【キャンペーン期間】\n2025年9月26日～9月28日、10月7日～10月9日\n【出発期間】\n2026年2月1日～3月31日\nーーーーーーーーーーーーーーーーーーーーーーー
URL:https://tabi-mile.com/campaign_calendar/jal-pack-sale-202509/
CATEGORIES:エアライン
ATTACH;FMTTYPE=image/jpeg:https://tabi-mile.com/wp-content/uploads/2025/09/2025-09-26_11h08_33.jpg
END:VEVENT
END:VCALENDAR