BEGIN:VCALENDAR
VERSION:2.0
PRODID:-//旅マイル - ECPv6.15.20//NONSGML v1.0//EN
CALSCALE:GREGORIAN
METHOD:PUBLISH
X-WR-CALNAME:旅マイル
X-ORIGINAL-URL:https://tabi-mile.com
X-WR-CALDESC:旅マイル のイベント
REFRESH-INTERVAL;VALUE=DURATION:PT1H
X-Robots-Tag:noindex
X-PUBLISHED-TTL:PT1H
BEGIN:VTIMEZONE
TZID:Asia/Tokyo
BEGIN:STANDARD
TZOFFSETFROM:+0900
TZOFFSETTO:+0900
TZNAME:JST
DTSTART:20240101T000000
END:STANDARD
END:VTIMEZONE
BEGIN:VEVENT
DTSTART;VALUE=DATE:20250816
DTEND;VALUE=DATE:20250916
DTSTAMP:20260421T192344
CREATED:20250818T134329Z
LAST-MODIFIED:20250818T134329Z
UID:68152-1755302400-1757980799@tabi-mile.com
SUMMARY:App Storeで使うならJCBで！Apple Gift Cardがもらえる！
DESCRIPTION:App StoreやAppleのサービスで、JCBカードを使って合計2\,000円以上の支払いをすると、最大400円分のApple Gift Cardプレゼント。 \n多くのJCBのロゴが付いたカードが対象なので、利用する方はキャンペーン参加登録を。 \nーーーーーーーーーーーーーーーーーーーーーーー\n【キャンペーン名】\nApp Storeで使うならJCBで！Apple Gift Cardがもらえる！\n【キャンペーン期間】\n2025年8月16日（土）～9月15日（月・祝）\nーーーーーーーーーーーーーーーーーーーーーーー
URL:https://tabi-mile.com/campaign_calendar/jcb-app-store-202508/
CATEGORIES:クレジットカード
ATTACH;FMTTYPE=image/jpeg:https://tabi-mile.com/wp-content/uploads/2025/08/c9c87e6928bfe183dba15e9d90f28f9e.jpg
END:VEVENT
BEGIN:VEVENT
DTSTART;VALUE=DATE:20250816
DTEND;VALUE=DATE:20250916
DTSTAMP:20260421T192344
CREATED:20250816T141232Z
LAST-MODIFIED:20250816T142226Z
UID:68118-1755302400-1757980799@tabi-mile.com
SUMMARY:外食するならJCBで！タッチ決済を利用して10％キャッシュバック
DESCRIPTION:ガストやバーミヤン、スシロー、松屋、吉野家、はま寿司などで、JCBのタッチ決済で10%キャッシュバック（最大1\,000円キャッシュバック）。 \n JCBブランドが付いた多くのカードがキャンペーンの対象なので、キャンペーン参加登録の上、ぜひタッチを。 \nーーーーーーーーーーーーーーーーーーーーーーー\n【キャンペーン名】\n外食するならJCBで！タッチ決済を利用して10％キャッシュバック\n【キャンペーン期間】\n2025年8月16日（土）～9月15日（月・祝）\nーーーーーーーーーーーーーーーーーーーーーーー
URL:https://tabi-mile.com/campaign_calendar/jcb-gaishoku202508/
CATEGORIES:クレジットカード
ATTACH;FMTTYPE=image/jpeg:https://tabi-mile.com/wp-content/uploads/2025/08/f15067604dd5e11523d1324082d73b5c.jpg
END:VEVENT
BEGIN:VEVENT
DTSTART;VALUE=DATE:20250801
DTEND;VALUE=DATE:20250901
DTSTAMP:20260421T192344
CREATED:20250716T033922Z
LAST-MODIFIED:20250716T033922Z
UID:67723-1754006400-1756684799@tabi-mile.com
SUMMARY:ハワイ全島でJCBを利用すると20％キャッシュバック！
DESCRIPTION:JCBブランドが付いたクレジットカードをハワイ全島で使うと、20%キャッシュバック。 \n上限はカード1枚あたり1\,000円。 \nキャンペーンは参加登録が必須。 \n複数枚JCBブランドを持っている場合は、カードごとに参加登録が必要です。 \nーーーーーーーーーーーーーーーーーーーーーーー\n【キャンペーン名】\nハワイ全島でJCBを利用すると20％キャッシュバック！\n【キャンペーン期間】\n2025年8月1日（金）～8月31日（日）\nーーーーーーーーーーーーーーーーーーーーーーー
URL:https://tabi-mile.com/campaign_calendar/jcb-hawaii-20-202507/
CATEGORIES:クレジットカード
ATTACH;FMTTYPE=image/jpeg:https://tabi-mile.com/wp-content/uploads/2025/07/97b5f8e6a0305620579313008ecfaca0.jpg
END:VEVENT
BEGIN:VEVENT
DTSTART;VALUE=DATE:20250501
DTEND;VALUE=DATE:20250716
DTSTAMP:20260421T192344
CREATED:20250501T205741Z
LAST-MODIFIED:20250502T014117Z
UID:66205-1746057600-1752623999@tabi-mile.com
SUMMARY:ANA JCB期間限定新規入会キャンペーン
DESCRIPTION:アフィリエイトプログラムを利用して広告収益を得て運営しております \n\nANA JCB新規入会で最大116\,000マイル相当プレゼント！ \n\n\n\n券種\nキャンペーン内容\n\n\n\n\nソラチカカード\n最大19\,000マイル\n\n\nソラチカゴールドカード\n最大116\,000マイル\n\n\nANA JCB CARD FIRST\n最大25\,200マイル\n\n\nANA JCB一般カード\n最大19\,000マイル\n\n\nANA JCB カード（学生用）\n最大19\,000マイル\n\n\nANA JCBワイドカード\n最大20\,000マイル\n\n\nANA JCBワイドゴールドカード\n最大116\,000マイル\n\n\nANA JCB カード プレミアム\n最大10\,000マイル\n\n\n\nANA JCBカードの詳細は「ANA JCBカード最新入会キャンペーン！ANA JCBカードのメリット・デメリット、券種比較まとめ」へ。 \n\n				\n					\n					\n												\n							\n																																																																															\n							\n																	ANA JCBカード最新入会キャンペーン！ANA JCBカードのメリット・デメリット、券種比較まとめ\n								\n																									続きを見る \n															\n						\n					\n					\n\n				\nーーーーーーーーーーーーーーーーーーーーーーー\n【キャンペーン名】\nANA JCB新規入会キャンペーン\n【キャンペーン期間】\n2025年5月1日～7月15日\nーーーーーーーーーーーーーーーーーーーーーーー \nANA JCBカードの最新入会キャンペーンは、新規入会で最大116\,000マイルプレゼント（一部抽選あり） \nキャンペーンの詳細はこちら↓ \n最大116\,000マイルプレゼント（一部抽選あり） ANA JCBカードの入会・キャンペーン詳細はこちら 2025年7月15日まで！ \n※キャンペーンの詳細は、公式ホームページにてご確認ください。
URL:https://tabi-mile.com/campaign_calendar/ana-jcb%e2%80%90202505/
CATEGORIES:クレジットカード
ATTACH;FMTTYPE=image/png:https://tabi-mile.com/wp-content/uploads/2025/04/d99c3cc5c635673369c43935dff62a8b.png
END:VEVENT
BEGIN:VEVENT
DTSTART;VALUE=DATE:20250216
DTEND;VALUE=DATE:20250501
DTSTAMP:20260421T192344
CREATED:20250430T025127Z
LAST-MODIFIED:20250501T205511Z
UID:66106-1739664000-1746057599@tabi-mile.com
SUMMARY:ANA JCB期間限定新規入会キャンペーン
DESCRIPTION:ANA JCB新規入会で最大116\,000マイル相当プレゼント！ \nANA JCBカードの詳細は「ANA JCBカード最新入会キャンペーン！ANA JCBカードのメリット・デメリット、券種比較まとめ」へ。 \n\n				\n					\n					\n												\n							\n																																																																															\n							\n																	ANA JCBカード最新入会キャンペーン！ANA JCBカードのメリット・デメリット、券種比較まとめ\n								\n																									続きを見る \n															\n						\n					\n					\n\n				\nーーーーーーーーーーーーーーーーーーーーーーー\n【キャンペーン名】\nANA JCB新規入会キャンペーン\n【キャンペーン期間】\n2025年2月16日～4月30日\nーーーーーーーーーーーーーーーーーーーーーーー \n\n\n    \n        \n                    ANA JCBカードの最新入会キャンペーンは、新規入会で最大125\,300マイルプレゼント\n\nキャンペーンの詳細はこちら↓\n\n最大125\,300マイルプレゼント（一部抽選あり） ANA JCBカードの入会・キャンペーン詳細はこちら プレミアムは2026年5月31日まで！ \n\n※キャンペーンの詳細は、公式ホームページにてご確認ください。
URL:https://tabi-mile.com/campaign_calendar/ana-jcb%e2%80%90202502/
CATEGORIES:クレジットカード
ATTACH;FMTTYPE=image/png:https://tabi-mile.com/wp-content/uploads/2025/04/d99c3cc5c635673369c43935dff62a8b.png
END:VEVENT
END:VCALENDAR