BEGIN:VCALENDAR
VERSION:2.0
PRODID:-//旅マイル - ECPv6.15.20//NONSGML v1.0//EN
CALSCALE:GREGORIAN
METHOD:PUBLISH
X-WR-CALNAME:旅マイル
X-ORIGINAL-URL:https://tabi-mile.com
X-WR-CALDESC:旅マイル のイベント
REFRESH-INTERVAL;VALUE=DURATION:PT1H
X-Robots-Tag:noindex
X-PUBLISHED-TTL:PT1H
BEGIN:VTIMEZONE
TZID:Asia/Tokyo
BEGIN:STANDARD
TZOFFSETFROM:+0900
TZOFFSETTO:+0900
TZNAME:JST
DTSTART:20240101T000000
END:STANDARD
END:VTIMEZONE
BEGIN:VEVENT
DTSTART;VALUE=DATE:20250708
DTEND;VALUE=DATE:20250719
DTSTAMP:20260423T200630
CREATED:20250709T025849Z
LAST-MODIFIED:20250709T030754Z
UID:67583-1751932800-1752883199@tabi-mile.com
SUMMARY:ZIPAIRファイナルサマーセールで全路線安い
DESCRIPTION:ZIPAIRで全路線セール。 \n \n上記は片道あたりの運賃で機内持ち込み手荷物7kgが含まれた料金。 \n燃油サーチャージは不要。 \nただ、セール対象座席は限りがあるので早いものがち。 \nーーーーーーーーーーーーーーーーーーーーーーー\n【キャンペーン名】\nZIPAIRファイナルサマーセール\n【キャンペーン期間】\n2025年7月8日～7月18日\n【搭乗期間】\n2025年7月26日～10月31日\nーーーーーーーーーーーーーーーーーーーーーーー
URL:https://tabi-mile.com/campaign_calendar/zipair-sale-202507/
CATEGORIES:エアライン
ATTACH;FMTTYPE=image/jpeg:https://tabi-mile.com/wp-content/uploads/2025/07/7b1a6bd817a9beae11c4acd71db45583.jpg
END:VEVENT
BEGIN:VEVENT
DTSTART;VALUE=DATE:20250604
DTEND;VALUE=DATE:20250614
DTSTAMP:20260423T200630
CREATED:20250605T052334Z
LAST-MODIFIED:20250605T052334Z
UID:66992-1748995200-1749859199@tabi-mile.com
SUMMARY:ZIP Summer Sale
DESCRIPTION:ZIPAIRでセール。 \n成田ーホノルル片道20\,000円、成田ーバンコク片道16\,500円、成田ーシンガポール片道14\,700円、成田ーソウル片道8\,000円、成田ーマニラ片道11\,500円。 \nーーーーーーーーーーーーーーーーーーーーーーー\n【キャンペーン名】\nZIP Summer Sale\n【キャンペーン期間】\n2025年6月4日～6月13日\nーーーーーーーーーーーーーーーーーーーーーーー
URL:https://tabi-mile.com/campaign_calendar/zip-summer-sale/
CATEGORIES:エアライン
ATTACH;FMTTYPE=image/jpeg:https://tabi-mile.com/wp-content/uploads/2025/06/584098b0710aaf752f5310d8980417f0.jpg
END:VEVENT
END:VCALENDAR