BEGIN:VCALENDAR
VERSION:2.0
PRODID:-//旅マイル - ECPv6.15.20//NONSGML v1.0//EN
CALSCALE:GREGORIAN
METHOD:PUBLISH
X-WR-CALNAME:旅マイル
X-ORIGINAL-URL:https://tabi-mile.com
X-WR-CALDESC:旅マイル のイベント
REFRESH-INTERVAL;VALUE=DURATION:PT1H
X-Robots-Tag:noindex
X-PUBLISHED-TTL:PT1H
BEGIN:VTIMEZONE
TZID:Asia/Tokyo
BEGIN:STANDARD
TZOFFSETFROM:+0900
TZOFFSETTO:+0900
TZNAME:JST
DTSTART:20240101T000000
END:STANDARD
END:VTIMEZONE
BEGIN:VEVENT
DTSTART;VALUE=DATE:20250827
DTEND;VALUE=DATE:20250906
DTSTAMP:20260423T164433
CREATED:20250827T125109Z
LAST-MODIFIED:20250827T125109Z
UID:68463-1756252800-1757116799@tabi-mile.com
SUMMARY:ジップエア片道8\,000円からのタイムセール
DESCRIPTION:ジップエアでは、片道8\,000円からのタイムセールを開催中です。 \n成田発 海外行き 片道航空券 \n\nバンコク行き: 16\,500円～ (税抜)\nソウル行き: 8\,000円～ (税抜)\nホノルル行き: 20\,000円～ (税抜)\nシンガポール行き: 14\,700円～ (税抜)\nマニラ行き: 11\,500円～ (税抜)\n\n燃油サーチャージが不要。 \nーーーーーーーーーーーーーーーーーーーーーーー\n【キャンペーン名】\nジップエア片道8\,000円からのタイムセール\n【キャンペーン期間】\n販売期間：2025年8月27日～9月5日\n搭乗期間：2025年8月28日～12月11日\nーーーーーーーーーーーーーーーーーーーーーーー
URL:https://tabi-mile.com/campaign_calendar/zip-air-sale-202508/
CATEGORIES:エアライン
ATTACH;FMTTYPE=image/jpeg:https://tabi-mile.com/wp-content/uploads/2025/08/1239ba8b7c9d68e542167a153ccfdcc4.jpg
END:VEVENT
BEGIN:VEVENT
DTSTART;VALUE=DATE:20250925
DTEND;VALUE=DATE:20251004
DTSTAMP:20260423T164433
CREATED:20250927T144853Z
LAST-MODIFIED:20250927T145740Z
UID:69067-1758758400-1759535999@tabi-mile.com
SUMMARY:ZIPAIRアーリーハロウィンセールでロス29\,250円～、ホノルル20\,000円～と安い！
DESCRIPTION:ZIPAIRでタイムセール！ \n\n\n成田発 ロサンゼルス行き　Standard（片道）29\,250円〜（税抜） \n\n\n成田発 サンフランシスコ行き　Standard（片道）32\,500円〜（税抜） \n\n\n成田発 バンコク行き　Standard（片道）16\,500円〜（税抜） \n\n\n成田発 シンガポール行き　Standard（片道）14\,700円〜（税抜） \n\n\n成田発 ソウル行き　Standard（片道）8\,000円〜（税抜） \n\n\n成田発 マニラ行き　Standard（片道）11\,500円〜（税抜） \n\n\n成田発 バンクーバー行き　Standard（片道）28\,950円〜（税抜） \n\n\n成田発 サンノゼ行き　Standard（片道）32\,500円〜（税抜） \n\n\n成田発 ヒューストン行き　Standard（片道）39\,000円〜（税抜） \n\n\n成田発 ホノルル行き　Standard（片道）20\,000円〜（税抜） \n\n\nZIPAIRは、燃油サーチャージがないので、これに空港使用税や税金・諸税をプラスするだけなので、成田ーホノルル往復なら、往復税込み58\,398円とかなり安い。 \nーーーーーーーーーーーーーーーーーーーーーーー\n【キャンペーン名】\nZIPAIRアーリーハロウィンセールでロス29\,250円～、ホノルル20\,000円～と安い！\n【キャンペーン期間】\nロサンゼルス、サンフランシスコ、サンノゼ、ヒューストン、バンクーバー：2025年9月25日～2025年10月3日 バンコク、シンガポール、ソウル、マニラ、ホノルル：2025年9月26日～2025年10月3日\n【搭乗期間】\nロサンゼルス、サンフランシスコ、サンノゼ、ヒューストン、バンクーバー：2025年9月26日～2026年2月28日 バンコク、シンガポール、ソウル、マニラ、ホノルル：2025年9月27日～2026年2月28日\nーーーーーーーーーーーーーーーーーーーーーーー \n\n\n\n    \n        \n                                                \n                    \n\n                                \n    \n\n 
URL:https://tabi-mile.com/campaign_calendar/zipair-time-sale-202509/
CATEGORIES:エアライン
ATTACH;FMTTYPE=image/jpeg:https://tabi-mile.com/wp-content/uploads/2025/09/cf536e1072c92087ceba50b0f014f891.jpg
END:VEVENT
END:VCALENDAR