BEGIN:VCALENDAR
VERSION:2.0
PRODID:-//旅マイル - ECPv6.15.20//NONSGML v1.0//EN
CALSCALE:GREGORIAN
METHOD:PUBLISH
X-ORIGINAL-URL:https://tabi-mile.com
X-WR-CALDESC:旅マイル のイベント
REFRESH-INTERVAL;VALUE=DURATION:PT1H
X-Robots-Tag:noindex
X-PUBLISHED-TTL:PT1H
BEGIN:VTIMEZONE
TZID:Asia/Tokyo
BEGIN:STANDARD
TZOFFSETFROM:+0900
TZOFFSETTO:+0900
TZNAME:JST
DTSTART:20240101T000000
END:STANDARD
END:VTIMEZONE
BEGIN:VEVENT
DTSTART;VALUE=DATE:20250807
DTEND;VALUE=DATE:20250821
DTSTAMP:20260423T183715
CREATED:20250815T134322Z
LAST-MODIFIED:20250815T134322Z
UID:68108-1754524800-1755734399@tabi-mile.com
SUMMARY:SQワンダーラスト ごほうび割　最大22%オフ！
DESCRIPTION:シンガポール航空でセール。 \n\nシンガポール：\n\n東京（成田/羽田）発：10%\n関西発：15%\n中部、福岡発：20%\n\n\nロサンゼルス（成田発）、シンガポール乗り継ぎの目的地：15%\nシンガポール乗り継ぎの目的地（スクート運航便で乗り継ぎの場合）：22％\n\nーーーーーーーーーーーーーーーーーーーーーーー\n【キャンペーン名】\nSQワンダーラスト ごほうび割　最大22%オフ！\n【キャンペーン期間】\n2025年8月7日 午前10時00分～8月20日 午後23時59分\n【搭乗期間】\n2026年1月5日～2026年7月28日\nーーーーーーーーーーーーーーーーーーーーーーー
URL:https://tabi-mile.com/campaign_calendar/sq-wanderlust-202508/
CATEGORIES:エアライン
ATTACH;FMTTYPE=image/jpeg:https://tabi-mile.com/wp-content/uploads/2025/08/b38161394d807b1f0cfc7d83a02a4453.jpg
END:VEVENT
BEGIN:VEVENT
DTSTART;VALUE=DATE:20250818
DTEND;VALUE=DATE:20250901
DTSTAMP:20260423T183715
CREATED:20250818T133548Z
LAST-MODIFIED:20250818T133548Z
UID:68149-1755475200-1756684799@tabi-mile.com
SUMMARY:シンガポール航空特典航空券減額マイル
DESCRIPTION:シンガポール航空の特典航空券減額マイルキャンペーン。 \n東京ーシンガポールが最大30%減額マイルで、片道18\,900マイル～に。 \nーーーーーーーーーーーーーーーーーーーーーーー\n【キャンペーン名】\nシンガポール航空特典航空券減額マイル\n【キャンペーン期間】\n2025年8月18日～8月31日\nーーーーーーーーーーーーーーーーーーーーーーー
URL:https://tabi-mile.com/campaign_calendar/singaporeair-gengaku-mile-202508/
CATEGORIES:エアライン
ATTACH;FMTTYPE=image/jpeg:https://tabi-mile.com/wp-content/uploads/2025/08/3274e55d5efaae46a2fcc45e193dff96.jpg
END:VEVENT
END:VCALENDAR