BEGIN:VCALENDAR
VERSION:2.0
PRODID:-//旅マイル - ECPv6.15.20//NONSGML v1.0//EN
CALSCALE:GREGORIAN
METHOD:PUBLISH
X-WR-CALNAME:旅マイル
X-ORIGINAL-URL:https://tabi-mile.com
X-WR-CALDESC:旅マイル のイベント
REFRESH-INTERVAL;VALUE=DURATION:PT1H
X-Robots-Tag:noindex
X-PUBLISHED-TTL:PT1H
BEGIN:VTIMEZONE
TZID:Asia/Tokyo
BEGIN:STANDARD
TZOFFSETFROM:+0900
TZOFFSETTO:+0900
TZNAME:JST
DTSTART:20240101T000000
END:STANDARD
END:VTIMEZONE
BEGIN:VEVENT
DTSTART;VALUE=DATE:20260305
DTEND;VALUE=DATE:20260310
DTSTAMP:20260423T152257
CREATED:20260304T003324Z
LAST-MODIFIED:20260304T003324Z
UID:70518-1772668800-1773100799@tabi-mile.com
SUMMARY:ジェットスタージャパン 最強開運日セール片道777円～！
DESCRIPTION:ジェットスターでなんと片道777円～のセール！ \n成田ー関空、那覇、新千歳、福岡など人気路線も777円～と激安。 \nーーーーーーーーーーーーーーーーーーーーーーー\n【キャンペーン名】\nジェットスタージャパン 最強開運日セール片道777円～！\n【キャンペーン期間】\n2026年3月5日12:00～3月9日16:59\n【対象搭乗期間】\n4月～7月\nーーーーーーーーーーーーーーーーーーーーーーー
URL:https://tabi-mile.com/campaign_calendar/jetstar-sale-202603/
CATEGORIES:エアライン
ATTACH;FMTTYPE=image/jpeg:https://tabi-mile.com/wp-content/uploads/2026/03/13e872c21f5182dfdc5c87b56d9a5fc7.jpg
END:VEVENT
BEGIN:VEVENT
DTSTART;VALUE=DATE:20260219
DTEND;VALUE=DATE:20260226
DTSTAMP:20260423T152257
CREATED:20260218T093618Z
LAST-MODIFIED:20260218T093618Z
UID:70398-1771459200-1772063999@tabi-mile.com
SUMMARY:ジェットスタースーパースターセールで片道2\,390円～
DESCRIPTION:ジェットスタースーパースターセールで片道2\,390円～！ \n例をあげると、 \n成田ー那覇 2\,390円、成田ー新千歳 2\,390円、成田ー福岡 2\,390円などと安い！ \nーーーーーーーーーーーーーーーーーーーーーーー\n【キャンペーン名】\nジェットスタースーパースターセールで片道2\,390円～\n【キャンペーン期間】\n2025年2月19日12:00～2月25日16:59\nーーーーーーーーーーーーーーーーーーーーーーー
URL:https://tabi-mile.com/campaign_calendar/jetstar-sale-202602/
CATEGORIES:エアライン
ATTACH;FMTTYPE=image/jpeg:https://tabi-mile.com/wp-content/uploads/2026/02/9b352b29a59fa961ab6bb5c0d8e99585.jpg
END:VEVENT
BEGIN:VEVENT
DTSTART;VALUE=DATE:20260128
DTEND;VALUE=DATE:20260211
DTSTAMP:20260423T152257
CREATED:20260127T140216Z
LAST-MODIFIED:20260127T140216Z
UID:70084-1769558400-1770767999@tabi-mile.com
SUMMARY:ジェットスターオーストラリア路線セール
DESCRIPTION:ジェットスターでオーストラリア路線セール。 \n成田ーケアンズ24\,900円～、ブリスベン27\,900円～、ケアンズ乗り換えでクライストチャーチ32\,800円～など。 \nーーーーーーーーーーーーーーーーーーーーーーー\n【キャンペーン名】\nジェットスターオーストラリア路線セール\n【キャンペーン期間】\n1月28日12時～2月10日16時59分\n【搭乗期間】\n3月28日～9月1日\nーーーーーーーーーーーーーーーーーーーーーーー
URL:https://tabi-mile.com/campaign_calendar/jetstar-sale-202601/
CATEGORIES:エアライン
ATTACH;FMTTYPE=image/jpeg:https://tabi-mile.com/wp-content/uploads/2026/01/CleanShot-2026-01-27-at-23.00.37.jpg
END:VEVENT
BEGIN:VEVENT
DTSTART;VALUE=DATE:20251024
DTEND;VALUE=DATE:20251031
DTSTAMP:20260423T152257
CREATED:20251024T091135Z
LAST-MODIFIED:20251024T091135Z
UID:69397-1761264000-1761868799@tabi-mile.com
SUMMARY:ジェットスター・ジャパン国内線スーパースターセール&国際線高雄就航記念セール！
DESCRIPTION:ジェットスター・ジャパンで国内線&国際線でセール。 \n国内線は、成田ー新千歳2\,790円～、成田ー福岡2\,790円～、成田ー那覇5\,690円～などと安い！ \n国際線は、成田ー高雄8\,818円～、成田ー台北8\,690円～などとこちらも安い。 \nーーーーーーーーーーーーーーーーーーーーーーー\n【キャンペーン名】\nジェットスター・ジャパン国内線スーパースターセール&国際線高雄就航記念セール！\n【キャンペーン期間】\n2025年10月24日～10月30日16：59まで\nーーーーーーーーーーーーーーーーーーーーーーー
URL:https://tabi-mile.com/campaign_calendar/jetstar-japan-sale-202510/
CATEGORIES:エアライン
ATTACH;FMTTYPE=image/jpeg:https://tabi-mile.com/wp-content/uploads/2025/10/4e46c2ef126b8fe3ad489129345ba18b.jpg
END:VEVENT
BEGIN:VEVENT
DTSTART;VALUE=DATE:20250926
DTEND;VALUE=DATE:20250930
DTSTAMP:20260423T152257
CREATED:20250924T081537Z
LAST-MODIFIED:20250924T081537Z
UID:69041-1758844800-1759190399@tabi-mile.com
SUMMARY:ジェットスタージャパン ワケアリ！復路火、水、木限定 1\,990円セール
DESCRIPTION:復路が火、水、木限定の変わったセール。 \n往復予約し、復路のみ1\,990円～のセール価格になります。 \nーーーーーーーーーーーーーーーーーーーーーーー\n【キャンペーン名】\nジェットスタージャパン ワケアリ！復路火、水、木限定 1\,990円セール\n【キャンペーン期間】\n2025年9月26日12:00～9月29日16:59\nーーーーーーーーーーーーーーーーーーーーーーー
URL:https://tabi-mile.com/campaign_calendar/jetstar-sale-202509/
CATEGORIES:エアライン
ATTACH;FMTTYPE=image/jpeg:https://tabi-mile.com/wp-content/uploads/2025/09/2025-09-24_17h15_06.jpg
END:VEVENT
BEGIN:VEVENT
DTSTART;VALUE=DATE:20250910
DTEND;VALUE=DATE:20250918
DTSTAMP:20260423T152257
CREATED:20250909T065102Z
LAST-MODIFIED:20250909T065102Z
UID:68854-1757462400-1758153599@tabi-mile.com
SUMMARY:ジェットスタースーパースターセール 9月
DESCRIPTION:ジェットスターのセール！ \n国内17路線が片道3\,790円～。 \n\n成田ー旭川　4\,890円\n成田ー沖縄（那覇）　5\,880円\n成田ー高知　4\,290円\n成田ー長崎　5\,490円\n成田ー熊本　5\,390円\n成田ー鹿児島　5\,090円\n成田ー宮崎　5\,090円\n成田ー札幌（新千歳）　4\,680円\n成田ー松山　4\,390円\n成田ー大分　5\,290円\n成田ー高松　3\,790円\n成田ー福岡　5\,390円\n\nーーーーーーーーーーーーーーーーーーーーーーー\n【キャンペーン名】\nジェットスター公式セール\n【キャンペーン期間】\n＜Club Jetstar先行予約＞\n2025年9月10日12:00～9月11日11:59\n＜一般販売＞\n2025年9月11日12:00～9月17日16:59\n【搭乗期間】\n2025年10月1日～2026年1月31日（除外期間あり）\nーーーーーーーーーーーーーーーーーーーーーーー
URL:https://tabi-mile.com/campaign_calendar/jetstar-sale-2025/
CATEGORIES:エアライン
ATTACH;FMTTYPE=image/jpeg:https://tabi-mile.com/wp-content/uploads/2025/09/18bbfd46f09cb4273e7e3f79ac7869d1.jpg
END:VEVENT
BEGIN:VEVENT
DTSTART;VALUE=DATE:20250828
DTEND;VALUE=DATE:20250904
DTSTAMP:20260423T152257
CREATED:20250825T134137Z
LAST-MODIFIED:20250825T134137Z
UID:68398-1756339200-1756943999@tabi-mile.com
SUMMARY:ジェットスタースーパースターセール
DESCRIPTION:Jetstarの国内線スーパースターセール！ \n成田ー那覇、成田ー福岡、成田ー新千歳など多くの路線が片道2\,990円で利用可能。 \nーーーーーーーーーーーーーーーーーーーーーーー \n【キャンペーン名】\nジェットスタースーパースターセール\n【キャンペーン期間】\n2025/8/28(木) 12:00～2025/9/3(水) 16:59\nーーーーーーーーーーーーーーーーーーーーーーー
URL:https://tabi-mile.com/campaign_calendar/jetstar-super-star-sale-202508/
CATEGORIES:エアライン
ATTACH;FMTTYPE=image/jpeg:https://tabi-mile.com/wp-content/uploads/2025/08/d2cd4f5401a421aa935c7bfb92d8f407.jpg
END:VEVENT
BEGIN:VEVENT
DTSTART;VALUE=DATE:20250808
DTEND;VALUE=DATE:20250817
DTSTAMP:20260423T152257
CREATED:20250806T135237Z
LAST-MODIFIED:20250806T135237Z
UID:68040-1754611200-1755388799@tabi-mile.com
SUMMARY:ジェットスター・ジャパン「スーパースターセール」
DESCRIPTION:ジェットスター・ジャパンによる国内線18路線のセール開催。 \n片道3\,790円から。 \nーーーーーーーーーーーーーーーーーーーーーーー\n【キャンペーン名】\nジェットスター・ジャパン「スーパースターセール」\n【キャンペーン期間】\n2025年8月8日12:00～8月18日16:59\nーーーーーーーーーーーーーーーーーーーーーーー
URL:https://tabi-mile.com/campaign_calendar/jetstar-sale-202508/
CATEGORIES:エアライン
ATTACH;FMTTYPE=image/jpeg:https://tabi-mile.com/wp-content/uploads/2025/08/71464f90603ed88449b640471d6275ac.jpg
END:VEVENT
BEGIN:VEVENT
DTSTART;VALUE=DATE:20250718
DTEND;VALUE=DATE:20250723
DTSTAMP:20260423T152257
CREATED:20250718T063122Z
LAST-MODIFIED:20250718T063135Z
UID:67738-1752796800-1753228799@tabi-mile.com
SUMMARY:ジェットスタージャパン国内線セールで片道3\,790円
DESCRIPTION:ジェットスタージャパンの国内線セール。 \n片道3\,790円から。 \nーーーーーーーーーーーーーーーーーーーーーーー\n【キャンペーン名】\nジェットスタージャパン国内線セールで片道3\,790円\n【キャンペーン期間】\n販売期間：2025年7月18日12:00～7月22日16:59\n搭乗期間：2025年9月24日～2026年1月28日（除外期間あり）\nーーーーーーーーーーーーーーーーーーーーーーー
URL:https://tabi-mile.com/campaign_calendar/jetstar-sale-202507-2/
CATEGORIES:エアライン
ATTACH;FMTTYPE=image/jpeg:https://tabi-mile.com/wp-content/uploads/2025/07/f3814b01610f63032f82907df6135c86.jpg
END:VEVENT
BEGIN:VEVENT
DTSTART;VALUE=DATE:20250709
DTEND;VALUE=DATE:20250723
DTSTAMP:20260423T152257
CREATED:20250708T065638Z
LAST-MODIFIED:20250708T065638Z
UID:67479-1752019200-1753228799@tabi-mile.com
SUMMARY:ジェットスターオーストラリア路線セール★  ¥ 20\,900~燃油サーチャージ不要！
DESCRIPTION:ジェットスターのオーストラリア路線でセール！ \n \n燃油サーチャージ不要なので安い！ \n上記料金は片道当たりの運賃。 \nーーーーーーーーーーーーーーーーーーーーーーー\n【キャンペーン名】\nジェットスターオーストラリア路線セール★ ¥ 20\,900~燃油サーチャージ不要！\n【キャンペーン期間】\n2025/7/9(水) 12:00～2025/7/22(火) 16:59\nーーーーーーーーーーーーーーーーーーーーーーー
URL:https://tabi-mile.com/campaign_calendar/jetstar-sale-202507/
CATEGORIES:エアライン
ATTACH;FMTTYPE=image/jpeg:https://tabi-mile.com/wp-content/uploads/2025/07/28b9a7955d3bb37717f6508cb958d460.jpg
END:VEVENT
BEGIN:VEVENT
DTSTART;VALUE=DATE:20250620
DTEND;VALUE=DATE:20250624
DTSTAMP:20260423T152257
CREATED:20250619T001340Z
LAST-MODIFIED:20250619T001340Z
UID:67149-1750377600-1750723199@tabi-mile.com
SUMMARY:ジェットスタージャパン 国内線Super Star Sale で片道3\,790~！
DESCRIPTION:ジェットスタージャパンで国内線航空券セール。 \n成田ー高松3\,790円、成田ー福岡4\,990円、成田ー新千歳4\,680円など。 \nーーーーーーーーーーーーーーーーーーーーーーー\n【キャンペーン名】\nジェットスタージャパン 国内線Super Star Sale で片道3\,790~！\n【キャンペーン期間】\n2025年6月20日12:00～6月23日16:59\nーーーーーーーーーーーーーーーーーーーーーーー
URL:https://tabi-mile.com/campaign_calendar/jetstar-super-star-sale-202506/
CATEGORIES:エアライン
ATTACH;FMTTYPE=image/jpeg:https://tabi-mile.com/wp-content/uploads/2025/06/c81df3206bb42e49d36fbf6a73cfedd1.jpg
END:VEVENT
BEGIN:VEVENT
DTSTART;VALUE=DATE:20250605
DTEND;VALUE=DATE:20250612
DTSTAMP:20260423T152257
CREATED:20250605T051855Z
LAST-MODIFIED:20250605T051855Z
UID:66989-1749081600-1749686399@tabi-mile.com
SUMMARY:ジェットスター 寿司食べる？or 空旅る？国内全路線セール
DESCRIPTION:ジェットスターで、国内全路線が片道2\,090円からになるセール。 \n安い。 \nーーーーーーーーーーーーーーーーーーーーーーー\n【キャンペーン名】\n寿司食べる？or 空旅る？国内全路線セール\n【キャンペーン期間】\n2025/6/5(木) 12:00～2025/6/11(水) 16:59\nーーーーーーーーーーーーーーーーーーーーーーー
URL:https://tabi-mile.com/campaign_calendar/jetsar-sale-202506/
CATEGORIES:エアライン
ATTACH;FMTTYPE=image/jpeg:https://tabi-mile.com/wp-content/uploads/2025/06/a000b137e99c07e8598274825c8eb1c0.jpg
END:VEVENT
BEGIN:VEVENT
DTSTART;VALUE=DATE:20250528
DTEND;VALUE=DATE:20250612
DTSTAMP:20260423T152257
CREATED:20250528T001251Z
LAST-MODIFIED:20250530T005242Z
UID:66858-1748390400-1749686399@tabi-mile.com
SUMMARY:ジェットスターオーストラリア路線セール20\,900円～
DESCRIPTION:ジェットスターのオーストラリア路線でセール。 \nなんと20\,900円～。 \n \nーーーーーーーーーーーーーーーーーーーーーーー\n【キャンペーン名】\nジェットスターオーストラリア路線セール20\,900円～\n【キャンペーン期間】\n2025/5/28(水) 12:00～2025/6/11(水) 16:59\nーーーーーーーーーーーーーーーーーーーーーーー
URL:https://tabi-mile.com/campaign_calendar/jetstar-sale-202505-2/
CATEGORIES:エアライン
ATTACH;FMTTYPE=image/jpeg:https://tabi-mile.com/wp-content/uploads/2025/05/fe743d0bfd51c66edc7adb2fbd976faa.jpg
END:VEVENT
BEGIN:VEVENT
DTSTART;VALUE=DATE:20250514
DTEND;VALUE=DATE:20250520
DTSTAMP:20260423T152257
CREATED:20250512T080123Z
LAST-MODIFIED:20250512T080123Z
UID:66394-1747180800-1747699199@tabi-mile.com
SUMMARY:ジェットスター国内線全路線セール
DESCRIPTION:ジェットスターの国内線全路線セール！ \n東京ー新千歳や那覇が2\,803円など！ \n安い。 \nーーーーーーーーーーーーーーーーーーーーーーー\n【キャンペーン名】\nジェットスター肉焼く？or旅行く？セール\n【キャンペーン期間】\n2025年5月14日12:00～5月19日16:59\nーーーーーーーーーーーーーーーーーーーーーーー
URL:https://tabi-mile.com/campaign_calendar/jetstar-sale-202505/
CATEGORIES:エアライン
ATTACH;FMTTYPE=image/jpeg:https://tabi-mile.com/wp-content/uploads/2025/05/1ff37b694415b52a82c848f8a21b2fdc.jpg
END:VEVENT
END:VCALENDAR