BEGIN:VCALENDAR
VERSION:2.0
PRODID:-//旅マイル - ECPv6.15.20//NONSGML v1.0//EN
CALSCALE:GREGORIAN
METHOD:PUBLISH
X-WR-CALNAME:旅マイル
X-ORIGINAL-URL:https://tabi-mile.com
X-WR-CALDESC:旅マイル のイベント
REFRESH-INTERVAL;VALUE=DURATION:PT1H
X-Robots-Tag:noindex
X-PUBLISHED-TTL:PT1H
BEGIN:VTIMEZONE
TZID:Asia/Tokyo
BEGIN:STANDARD
TZOFFSETFROM:+0900
TZOFFSETTO:+0900
TZNAME:JST
DTSTART:20240101T000000
END:STANDARD
END:VTIMEZONE
BEGIN:VEVENT
DTSTART;VALUE=DATE:20250618
DTEND;VALUE=DATE:20250801
DTSTAMP:20260424T005112
CREATED:20250619T001616Z
LAST-MODIFIED:20250619T001616Z
UID:67152-1750204800-1754006399@tabi-mile.com
SUMMARY:スターフライヤー特典航空券ディスカウントマイルキャンペーン
DESCRIPTION:スターフライヤーで、羽田ー九州線限定のディスカウントマイルセール。 \n通常片道7\,500マイルのころ、4\,900マイルにディスカウント。 \nーーーーーーーーーーーーーーーーーーーーーーー\n【キャンペーン名】\nスターフライヤー特典航空券ディスカウントマイルキャンペーン\n【キャンペーン期間】\nキャンペーン期間：2025年6月18日（水）14:00～7月31日（木）23:59\n対象搭乗期間：2025年6月27日（金）～8月4日（月）ご搭乗分\nーーーーーーーーーーーーーーーーーーーーーーー
URL:https://tabi-mile.com/campaign_calendar/starflyer-discount-mile202506/
CATEGORIES:エアライン
ATTACH;FMTTYPE=image/jpeg:https://tabi-mile.com/wp-content/uploads/2025/06/92caa3d2ccdc734950290770b2dadd57.jpg
END:VEVENT
BEGIN:VEVENT
DTSTART;VALUE=DATE:20250725
DTEND;VALUE=DATE:20250801
DTSTAMP:20260424T005112
CREATED:20250724T142348Z
LAST-MODIFIED:20250724T142348Z
UID:67853-1753401600-1754006399@tabi-mile.com
SUMMARY:スターフライヤーセール「STARFRIDAY」開催！
DESCRIPTION:スターフライヤーでタイムセール。 \n羽田 ⇔ 北九州・福岡・山口宇部　9\,600円～\n中部 ⇔ 福岡　8\,600円～\n羽田 ⇔ 関西　7\,600円～ \n対象運賃は、「STAR LIMITED」。 \nーーーーーーーーーーーーーーーーーーーーーーー\n【キャンペーン名】\nスターフライヤーセール「STARFRIDAY」開催！\n【キャンペーン期間】\n販売期間：2025年7月25日（金）～7月31日（木）\n搭乗期間：2025年8月15日（金）～9月30日（火）\nーーーーーーーーーーーーーーーーーーーーーーー
URL:https://tabi-mile.com/campaign_calendar/starflyer-campaign-202507/
CATEGORIES:エアライン
ATTACH;FMTTYPE=image/jpeg:https://tabi-mile.com/wp-content/uploads/2025/07/c4a8792f0246d7d3d30be1917f05f576.jpg
END:VEVENT
BEGIN:VEVENT
DTSTART;VALUE=DATE:20250826
DTEND;VALUE=DATE:20260227
DTSTAMP:20260424T005112
CREATED:20250822T151046Z
LAST-MODIFIED:20250822T151046Z
UID:68323-1756166400-1772150399@tabi-mile.com
SUMMARY:スターフライヤー特典航空券ディスカウントマイルキャンペーン～第2弾・秋冬旅～
DESCRIPTION:スターフライヤーで、羽田⇔北九州線限定！特典航空券ディスカウントマイル。 \n羽田ー北九州往復がレギュラーシーズン12\,000マイル→9\,800マイル、ローシーズン9\,500マイル→8\,000マイルに。 \nーーーーーーーーーーーーーーーーーーーーーーー\n【キャンペーン名】\nスターフライヤー特典航空券ディスカウントマイルキャンペーン～第2弾・秋冬旅～\n【キャンペーン期間】\n2025年8月26日（火）13:00～2026年2月22日（日）23:59\n【搭乗期間】\n2025年10月26日（日）～12月24日（水）、2026年1月8日（木）～2月26日（木）ご搭乗分\nーーーーーーーーーーーーーーーーーーーーーーー \n\n\n\n    \n        \n                                                                    \n\n                                \n    \n\n 
URL:https://tabi-mile.com/campaign_calendar/starflyer-discount-mile-202508/
CATEGORIES:エアライン
ATTACH;FMTTYPE=image/jpeg:https://tabi-mile.com/wp-content/uploads/2025/08/ff39372e6f9424148637c058f3213a54.jpg
END:VEVENT
END:VCALENDAR