BEGIN:VCALENDAR
VERSION:2.0
PRODID:-//旅マイル - ECPv6.15.20//NONSGML v1.0//EN
CALSCALE:GREGORIAN
METHOD:PUBLISH
X-WR-CALNAME:旅マイル
X-ORIGINAL-URL:https://tabi-mile.com
X-WR-CALDESC:旅マイル のイベント
REFRESH-INTERVAL;VALUE=DURATION:PT1H
X-Robots-Tag:noindex
X-PUBLISHED-TTL:PT1H
BEGIN:VTIMEZONE
TZID:Asia/Tokyo
BEGIN:STANDARD
TZOFFSETFROM:+0900
TZOFFSETTO:+0900
TZNAME:JST
DTSTART:20240101T000000
END:STANDARD
END:VTIMEZONE
BEGIN:VEVENT
DTSTART;VALUE=DATE:20260310
DTEND;VALUE=DATE:20260313
DTSTAMP:20260423T195814
CREATED:20260310T074154Z
LAST-MODIFIED:20260310T074719Z
UID:70580-1773100800-1773359999@tabi-mile.com
SUMMARY:ソラシドエア タイムセールで片道4\,400円から
DESCRIPTION:ソラシドエアのソラシドスペシャルで、国内線が安い！ \n搭乗期間は5月後半が対象。 \n\n\n\n\n路線\n\n\n価格\n\n\n路線\n\n\n価格\n\n\n\n\n\n\n東京(羽田) – 宮崎\n\n\n8\,800円〜\n\n\n東京(羽田) – 熊本\n\n\n8\,800円〜\n\n\n\n\n東京(羽田) – 長崎\n\n\n9\,350円〜\n\n\n東京(羽田) – 鹿児島\n\n\n8\,360円〜\n\n\n\n\n東京(羽田) – 大分\n\n\n8\,800円〜\n\n\n東京(羽田) – 沖縄(那覇)\n\n\n9\,240円〜\n\n\n\n\n宮崎 – 沖縄(那覇)\n\n\n9\,680円〜\n\n\n鹿児島 – 沖縄(那覇)\n\n\n9\,680円〜\n\n\n\n\n神戸 – 沖縄(那覇)\n\n\n6\,380円〜\n\n\n名古屋(中部) – 沖縄(那覇)\n\n\n8\,910円〜\n\n\n\n\n石垣 – 沖縄(那覇)\n\n\n4\,400円〜\n\n\n福岡 – 沖縄(那覇)\n\n\n5\,500円〜\n\n\n\n\n名古屋(中部) – 宮崎\n\n\n9\,680円〜\n\n\n名古屋(中部) – 鹿児島\n\n\n6\,270円〜\n\n\n\n\n同時開催で減額マイルキャンペーンも実施中。 \nーーーーーーーーーーーーーーーーーーーーーーー\n【キャンペーン名】\nソラシドエア タイムセールで片道4\,400円から\n【キャンペーン期間】\n2026年3月10日（火）0:00～3月12日（木）23:59\n【搭乗期間】\n2026年5月19日（火）～5月31日（日）\nーーーーーーーーーーーーーーーーーーーーーーー
URL:https://tabi-mile.com/campaign_calendar/solaseedair-time-sale-202603/
CATEGORIES:エアライン
ATTACH;FMTTYPE=image/jpeg:https://tabi-mile.com/wp-content/uploads/2026/03/3fbdc73efeaec3eb8d0d4039cf09c437.jpg
END:VEVENT
BEGIN:VEVENT
DTSTART;VALUE=DATE:20260309
DTEND;VALUE=DATE:20260314
DTSTAMP:20260423T195814
CREATED:20260309T060155Z
LAST-MODIFIED:20260309T060155Z
UID:70559-1773014400-1773446399@tabi-mile.com
SUMMARY:ソラシドエア 路線限定！マイル一律！ふらっとマイルキャンペーン
DESCRIPTION:ソラシドエアで、特典航空券が片道一律3\,000マイルになるキャンペーンがスタート。 \n対象路線は、 \n\n東京（羽田）ー宮崎／熊本／長崎／鹿児島／大分線\n名古屋（中部）ー宮崎／鹿児島線\n沖縄（那覇）―福岡／石垣線\n\n搭乗期間は、 \n\n2026年3月14日（土） 〜 3月19日（木）\n\nかなり限定的なキャンペーンなので、タイミングが合えばですが、通常6\,000マイルが半分の3\,000マイルになるので、かなりお得。 \nーーーーーーーーーーーーーーーーーーーーーーー\n【キャンペーン名】\nソラシドエア 路線限定！マイル一律！ふらっとマイルキャンペーン\n【キャンペーン期間】\n2026年3月9日（月）14：00 ～ 3月13日（金）13：59\nーーーーーーーーーーーーーーーーーーーーーーー
URL:https://tabi-mile.com/campaign_calendar/solaseedair-sale-202603/
CATEGORIES:エアライン
ATTACH;FMTTYPE=image/jpeg:https://tabi-mile.com/wp-content/uploads/2026/03/b602134b09154a372ca76ece85a45fa0.jpg
END:VEVENT
BEGIN:VEVENT
DTSTART;VALUE=DATE:20260130
DTEND;VALUE=DATE:20260204
DTSTAMP:20260423T195814
CREATED:20260127T140529Z
LAST-MODIFIED:20260127T140529Z
UID:70089-1769731200-1770163199@tabi-mile.com
SUMMARY:ソラシドエア ソラシドスペシャル
DESCRIPTION:春旅のソラシドスペシャル！ \n羽田ー九州・沖縄が7\,900円～、那覇ー石垣が4\,500円～と安い！ \nーーーーーーーーーーーーーーーーーーーーーーー\n【キャンペーン名】\nソラシドエア ソラシドスペシャル\n【キャンペーン期間】\n2026年1月30日（金）0:00～2月3日（火）23:59\n【搭乗期間】\n2026年3月29日（日）～5月18日（月）\nーーーーーーーーーーーーーーーーーーーーーーー
URL:https://tabi-mile.com/campaign_calendar/solaseed-air-sale-202601/
CATEGORIES:エアライン
ATTACH;FMTTYPE=image/jpeg:https://tabi-mile.com/wp-content/uploads/2026/01/CleanShot-2026-01-27-at-23.02.44.jpg
END:VEVENT
BEGIN:VEVENT
DTSTART;VALUE=DATE:20251017
DTEND;VALUE=DATE:20251024
DTSTAMP:20260423T195814
CREATED:20251016T061921Z
LAST-MODIFIED:20251016T061921Z
UID:69330-1760659200-1761263999@tabi-mile.com
SUMMARY:ソラシドスペシャルで羽田ー沖縄片道7\,500円～
DESCRIPTION:ソラシドエアでタイムセール。 \n片道ごとのセール価格はこんな感じ。 \n\n東京（羽田）－宮崎：7\,900円〜\n東京（羽田）－熊本：7\,900円〜\n東京（羽田）－長崎：7\,900円〜\n東京（羽田）－鹿児島：7\,500円〜\n東京（羽田）－大分：7\,900円〜\n東京（羽田）－沖縄（那覇）：7\,500円〜\n宮崎－沖縄（那覇）：8\,000円〜\n鹿児島－沖縄（那覇）：8\,000円〜\n神戸－沖縄（那覇）：5\,700円〜\n名古屋（中部）－沖縄（那覇）：6\,900円〜\n石垣－沖縄（那覇）：4\,500円〜\n福岡－沖縄（那覇）：5\,600円〜\n名古屋（中部）－宮崎：8\,000円〜\n名古屋（中部）－鹿児島：6\,300円〜\n\nーーーーーーーーーーーーーーーーーーーーーーー\n【キャンペーン名】\nソラシドスペシャルで羽田ー沖縄片道7\,500円～\n【キャンペーン期間】\n2025年10月17日（金）0:00～10月23日（木）23:59\n【搭乗期間】\n2025年12月1日（月）～2026年2月28日（土）\nーーーーーーーーーーーーーーーーーーーーーーー
URL:https://tabi-mile.com/campaign_calendar/solaseedair-sale-202510/
CATEGORIES:エアライン
ATTACH;FMTTYPE=image/jpeg:https://tabi-mile.com/wp-content/uploads/2025/10/4d0dc47a110ee7fdadf8a4058751d8d8.jpg
END:VEVENT
BEGIN:VEVENT
DTSTART;VALUE=DATE:20250828
DTEND;VALUE=DATE:20250904
DTSTAMP:20260423T195814
CREATED:20250821T143820Z
LAST-MODIFIED:20250821T143820Z
UID:68286-1756339200-1756943999@tabi-mile.com
SUMMARY:ソラシドエアのソラシドスペシャル！10～1月搭乗分対象！
DESCRIPTION:ソラシドエアの国内線航空券が、片道4\,500円からのタイムセールを実施中です！ \n主要路線（東京・大阪・名古屋・福岡・沖縄など）も約7千円から～。 \nーーーーーーーーーーーーーーーーーーーーーーー\n【キャンペーン名】\nソラシドエアのソラシドスペシャル！10～1月搭乗分対象！\n【キャンペーン期間】\n2025年8月28日（木）0:00～9月3日（水）23:59\n【搭乗期間】\n2025年10月26日（日）～2026年1月31日（土）\nーーーーーーーーーーーーーーーーーーーーーーー
URL:https://tabi-mile.com/campaign_calendar/solaseedair-sale-202508/
CATEGORIES:エアライン
ATTACH;FMTTYPE=image/jpeg:https://tabi-mile.com/wp-content/uploads/2025/08/d7387e093839f793065244d582f8c85a.jpg
END:VEVENT
BEGIN:VEVENT
DTSTART;VALUE=DATE:20250826
DTEND;VALUE=DATE:20250901
DTSTAMP:20260423T195814
CREATED:20250825T133710Z
LAST-MODIFIED:20250825T133710Z
UID:68395-1756166400-1756684799@tabi-mile.com
SUMMARY:ソラシドエア冬ダイヤ一斉発売開始2025年8月26日14時～
DESCRIPTION:ソラシドエアの2025年冬ダイヤ（10月26日～3月28日）の航空券を、2025年8月26日14時～一斉販売開始に。 \n年末年始や春休みが対象！ \nーーーーーーーーーーーーーーーーーーーーーーー\n【キャンペーン名】\nソラシドエア冬ダイヤ一斉発売開始2025年8月26日14時～\n【キャンペーン期間】\n2025年8月26日14時～\nーーーーーーーーーーーーーーーーーーーーーーー
URL:https://tabi-mile.com/campaign_calendar/solaseed-air-yoyaku-202508/
CATEGORIES:エアライン
ATTACH;FMTTYPE=image/jpeg:https://tabi-mile.com/wp-content/uploads/2025/08/cafe8fdd63b35a6e6671e3c7ed319522.jpg
END:VEVENT
BEGIN:VEVENT
DTSTART;VALUE=DATE:20250725
DTEND;VALUE=DATE:20250801
DTSTAMP:20260423T195814
CREATED:20250724T142029Z
LAST-MODIFIED:20250724T142105Z
UID:67848-1753401600-1754006399@tabi-mile.com
SUMMARY:ソラシドスペシャル
DESCRIPTION:8月25日から10月25日までの搭乗が対象のソラシドスペシャルが開催！ \n \nどの路線も安くなっており、狙い目。 \nーーーーーーーーーーーーーーーーーーーーーーー\n【キャンペーン名】\nソラシドスペシャル\n【キャンペーン期間】\n対象搭乗期間：2025年8月25日（月）～10月25日（土）\n予約・販売期間：2025年7月25日（金）0:00～7月31日（木）23:59\nーーーーーーーーーーーーーーーーーーーーーーー
URL:https://tabi-mile.com/campaign_calendar/solaseedair-special-202507/
CATEGORIES:エアライン
ATTACH;FMTTYPE=image/jpeg:https://tabi-mile.com/wp-content/uploads/2025/07/d1809a69ff3313cf6eb984bdd2861a93.jpg
END:VEVENT
BEGIN:VEVENT
DTSTART;VALUE=DATE:20250609
DTEND;VALUE=DATE:20250812
DTSTAMP:20260423T195814
CREATED:20250605T054637Z
LAST-MODIFIED:20250605T054637Z
UID:66999-1749427200-1754956799@tabi-mile.com
SUMMARY:ソラシドエア家族を応援！夏・秋小児運賃セール
DESCRIPTION:ソラシドエアの小児運賃セール。 \n3歳以上11歳未満の小児運賃が最安1万円。 \n10月搭乗分は全路線1万円。 \nーーーーーーーーーーーーーーーーーーーーーーー\n【キャンペーン名】\nソラシドエア家族を応援！夏・秋小児運賃セール\n【キャンペーン期間】\n2025年6月9日～8月11日\n【搭乗期間】\n7月25日～10月25日\nーーーーーーーーーーーーーーーーーーーーーーー
URL:https://tabi-mile.com/campaign_calendar/solassed-air-sale-202506/
CATEGORIES:エアライン
ATTACH;FMTTYPE=image/jpeg:https://tabi-mile.com/wp-content/uploads/2025/06/6ac8e7ef963e743800dd206953539c3b.jpg
END:VEVENT
BEGIN:VEVENT
DTSTART;VALUE=DATE:20250516
DTEND;VALUE=DATE:20250523
DTSTAMP:20260423T195814
CREATED:20250516T015249Z
LAST-MODIFIED:20250516T015249Z
UID:66473-1747353600-1747958399@tabi-mile.com
SUMMARY:ソラシドスペシャル
DESCRIPTION:ソラシドエアでセール！ \n羽田ー那覇6\,900円～、那覇ー石垣4\,500円～など安い！ \nーーーーーーーーーーーーーーーーーーーーーーー\n【キャンペーン名】\nソラシドスペシャル\n【キャンペーン期間】\n2025年5月16日（金）0:00～5月22日（木）23:59\n【対象搭乗期間】\n2025年6月5日（木）～10月25日（土）\nーーーーーーーーーーーーーーーーーーーーーーー
URL:https://tabi-mile.com/campaign_calendar/solaseedair-sale-202505/
CATEGORIES:エアライン
ATTACH;FMTTYPE=image/jpeg:https://tabi-mile.com/wp-content/uploads/2025/05/f49dd05f5d7123976d6a4ef93bf1cbd2.jpg
END:VEVENT
BEGIN:VEVENT
DTSTART;VALUE=DATE:20250424
DTEND;VALUE=DATE:20250510
DTSTAMP:20260423T195814
CREATED:20250507T075234Z
LAST-MODIFIED:20250507T075248Z
UID:66300-1745452800-1746835199@tabi-mile.com
SUMMARY:ソラシドエア最大6\,000マイルが当たる！
DESCRIPTION:そソラシドエアで、期間中の予約&搭乗で抽選で50名に5\,000マイルが当たるキャンペーン。 \n当選者の中で期間中に新規登録した方は、1\,000マイルプラスされ6\,000マイルに。 \nーーーーーーーーーーーーーーーーーーーーーーー\n【キャンペーン名】\n期間中のご予約で最大6\,000マイルが当たる！マイルプレゼントキャンペーン♪\n【キャンペーン期間】\n予約期間：2025年4月24日（木）～5月9日（金）\n搭乗期間：2025年5月10日（土）～6月30日（月）\nーーーーーーーーーーーーーーーーーーーーーーー
URL:https://tabi-mile.com/campaign_calendar/solaseedair-202505/
CATEGORIES:エアライン
ATTACH;FMTTYPE=image/jpeg:https://tabi-mile.com/wp-content/uploads/2025/05/8da5cba3e53cec4a9e7cbed57518756f.jpg
END:VEVENT
END:VCALENDAR