BEGIN:VCALENDAR
VERSION:2.0
PRODID:-//旅マイル - ECPv6.15.20//NONSGML v1.0//EN
CALSCALE:GREGORIAN
METHOD:PUBLISH
X-ORIGINAL-URL:https://tabi-mile.com
X-WR-CALDESC:旅マイル のイベント
REFRESH-INTERVAL;VALUE=DURATION:PT1H
X-Robots-Tag:noindex
X-PUBLISHED-TTL:PT1H
BEGIN:VTIMEZONE
TZID:Asia/Tokyo
BEGIN:STANDARD
TZOFFSETFROM:+0900
TZOFFSETTO:+0900
TZNAME:JST
DTSTART:20240101T000000
END:STANDARD
END:VTIMEZONE
BEGIN:VEVENT
DTSTART;VALUE=DATE:20251017
DTEND;VALUE=DATE:20251024
DTSTAMP:20260423T183705
CREATED:20251016T061921Z
LAST-MODIFIED:20251016T061921Z
UID:69330-1760659200-1761263999@tabi-mile.com
SUMMARY:ソラシドスペシャルで羽田ー沖縄片道7\,500円～
DESCRIPTION:ソラシドエアでタイムセール。 \n片道ごとのセール価格はこんな感じ。 \n\n東京（羽田）－宮崎：7\,900円〜\n東京（羽田）－熊本：7\,900円〜\n東京（羽田）－長崎：7\,900円〜\n東京（羽田）－鹿児島：7\,500円〜\n東京（羽田）－大分：7\,900円〜\n東京（羽田）－沖縄（那覇）：7\,500円〜\n宮崎－沖縄（那覇）：8\,000円〜\n鹿児島－沖縄（那覇）：8\,000円〜\n神戸－沖縄（那覇）：5\,700円〜\n名古屋（中部）－沖縄（那覇）：6\,900円〜\n石垣－沖縄（那覇）：4\,500円〜\n福岡－沖縄（那覇）：5\,600円〜\n名古屋（中部）－宮崎：8\,000円〜\n名古屋（中部）－鹿児島：6\,300円〜\n\nーーーーーーーーーーーーーーーーーーーーーーー\n【キャンペーン名】\nソラシドスペシャルで羽田ー沖縄片道7\,500円～\n【キャンペーン期間】\n2025年10月17日（金）0:00～10月23日（木）23:59\n【搭乗期間】\n2025年12月1日（月）～2026年2月28日（土）\nーーーーーーーーーーーーーーーーーーーーーーー
URL:https://tabi-mile.com/campaign_calendar/solaseedair-sale-202510/
CATEGORIES:エアライン
ATTACH;FMTTYPE=image/jpeg:https://tabi-mile.com/wp-content/uploads/2025/10/4d0dc47a110ee7fdadf8a4058751d8d8.jpg
END:VEVENT
END:VCALENDAR