BEGIN:VCALENDAR
VERSION:2.0
PRODID:-//旅マイル - ECPv6.15.20//NONSGML v1.0//EN
CALSCALE:GREGORIAN
METHOD:PUBLISH
X-WR-CALNAME:旅マイル
X-ORIGINAL-URL:https://tabi-mile.com
X-WR-CALDESC:旅マイル のイベント
REFRESH-INTERVAL;VALUE=DURATION:PT1H
X-Robots-Tag:noindex
X-PUBLISHED-TTL:PT1H
BEGIN:VTIMEZONE
TZID:Asia/Tokyo
BEGIN:STANDARD
TZOFFSETFROM:+0900
TZOFFSETTO:+0900
TZNAME:JST
DTSTART:20240101T000000
END:STANDARD
END:VTIMEZONE
BEGIN:VEVENT
DTSTART;VALUE=DATE:20251017
DTEND;VALUE=DATE:20251104
DTSTAMP:20260423T191031
CREATED:20250917T143320Z
LAST-MODIFIED:20250917T143600Z
UID:68983-1760659200-1762214399@tabi-mile.com
SUMMARY:ダイナースクラブ銀座レストランウィーク2025年開催！
DESCRIPTION:毎年恒例のダイナースクラブの銀座レストランウィーク2025秋開催は、2025年10月17日から。 \nなお、ダイナースクラブカード会員なら、ディナーコースが先着650名様に20％OFFの特典の提供あり！ \n先着順なので、予約はお早めに。 \n予約開始は、2025年9月24日（水）10時～。 \nーーーーーーーーーーーーーーーーーーーーーーー\n【キャンペーン名】\nダイナースクラブ 銀座レストランウィーク 2025 Autumn\n【キャンペーン期間】\n2025年10月17日（金）～11月3日（月・祝）の18日間\nーーーーーーーーーーーーーーーーーーーーーーー \n\n				\n					\n					\n												\n							\n																																																																															\n							\n																	ダイナースクラブカードの入会キャンペーン！特典満載カードのメリット・デメリットまとめ\n								\n																									続きを見る
URL:https://tabi-mile.com/campaign_calendar/diners-ginzarestaurant-202509/
CATEGORIES:クレジットカード
ATTACH;FMTTYPE=image/jpeg:https://tabi-mile.com/wp-content/uploads/2025/09/8a23647db652825503a504dbf491209a.jpg
END:VEVENT
BEGIN:VEVENT
DTSTART;VALUE=DATE:20251001
DTEND;VALUE=DATE:20260401
DTSTAMP:20260423T191031
CREATED:20251001T065831Z
LAST-MODIFIED:20251001T065831Z
UID:69222-1759276800-1775001599@tabi-mile.com
SUMMARY:ANAダイナース期間限定入会キャンペーンで最大122\,000マイル！
DESCRIPTION:ANAダイナースの新規入会キャンペーンがすごい！ \nなんと最大122\,000マイル獲得のチャンス。 \n\n新規入会で2\,000マイル\n入会後3ヶ月以内に80万円利用で21\,000ポイント\n入会後3ヶ月以内に180万円利用でさらに29\,000ポイント\n入会後3ヶ月以内に180万円利用でさらに50\,000マイル\nビジネス・アカウントカード入会で2\,000ポイント\n180万円分の通常利用ポイントで18\,000ポイント\n合計で122\,000マイル相当\n\n一応Bコースの年会費半額キャッシュバック&最大72\,000マイルキャンペーンも選べますが、確実にAコースの122\,000マイル相当のほうがお得です。 \nーーーーーーーーーーーーーーーーーーーーーーー\n【キャンペーン名】\nANAダイナース期間限定入会キャンペーンで最大122\,000マイル！\n【キャンペーン期間】\n2025年10月1日（水）～2026年3月31日（火）\nーーーーーーーーーーーーーーーーーーーーーーー \n\n				\n					\n					\n												\n							\n																																																																															\n							\n																	ANAダイナースクラブカードの入会キャンペーン！ANAマイルが一番貯まるANAカード！\n								\n																									続きを見る
URL:https://tabi-mile.com/campaign_calendar/ana-diners-camp-202510/
CATEGORIES:クレジットカード
ATTACH;FMTTYPE=image/jpeg:https://tabi-mile.com/wp-content/uploads/2025/10/85c10ab50b484eba76b8aacb8a406ef4.jpg
END:VEVENT
BEGIN:VEVENT
DTSTART;VALUE=DATE:20251001
DTEND;VALUE=DATE:20251220
DTSTAMP:20260423T191031
CREATED:20251005T154522Z
LAST-MODIFIED:20251005T154522Z
UID:69285-1759276800-1766188799@tabi-mile.com
SUMMARY:ダイナースクラブANAマイルへの移行上限を超えて交換できるキャンペーンスタート！
DESCRIPTION:ダイナースクラブカードのANAマイルへの移行上限は年4万マイル。 \nこのキャンペーン中なら、4万マイル超えて交換可能！ \nただ、注意点が移行レートがかなり落ちること。 \n4万マイルまで：1\,000ポイント=1\,000マイル（100円=1マイル相当） \n4万マイル超：2\,500ポイント=1\,000マイル（100円=0.4マイル相当）※上限なし \n100円=0.4マイルと半分以下になるので、結構微妙。 \n大量にポイント保有していてどうにもこうにもさばけないとかならありかな。 \nーーーーーーーーーーーーーーーーーーーーーーー\n【キャンペーン名】\nダイナースクラブANAマイルへの移行上限を超えて交換できるキャンペーンスタート！\n【キャンペーン期間】\n2025年10月1日（水）～12月19日（金）\nーーーーーーーーーーーーーーーーーーーーーーー
URL:https://tabi-mile.com/campaign_calendar/diners-ana-camp-202510/
CATEGORIES:クレジットカード
ATTACH;FMTTYPE=image/jpeg:https://tabi-mile.com/wp-content/uploads/2025/10/c615781573c0642fd33655bfcd1a0be7.jpg
END:VEVENT
BEGIN:VEVENT
DTSTART;VALUE=DATE:20250930
DTEND;VALUE=DATE:20251013
DTSTAMP:20260423T191031
CREATED:20250904T150812Z
LAST-MODIFIED:20250904T150824Z
UID:68738-1759190400-1760313599@tabi-mile.com
SUMMARY:ダイナースクラブ会員限定 旧嵯峨御所 大本山 大覚寺 特別拝観イベント
DESCRIPTION:ダイナースクラブ会員限定、京都「大覚寺」特別拝観イベント開催！\n通常非公開のエリアも含め、歴史と文化あふれる旧嵯峨御所 大本山 大覚寺をゆったりご案内。 \n僧侶による特別なお話や、静寂な境内での拝観体験は、まさに“一期一会”。 \n混雑を気にせず、心穏やかなひとときを過ごせる、ダイナースクラブならではの特別イベントです。 \nこの秋だけの機会をお見逃しなく。\nーーーーーーーーーーーーーーーーーーーーーーー\n【キャンペーン名】\nダイナースクラブ会員限定 旧嵯峨御所 大本山 大覚寺 特別拝観イベント\n【キャンペーン期間】\n開催日：2025年11月29日（土）\n申込受付開始：2025年9月30日（火）～\n【概要】\n・ダイナースクラブ会員限定の貸切拝観\n・通常非公開エリアや僧侶の特別法話付き\n・混雑を避けてゆったりと歴史体験\n・京都・大覚寺でしか味わえない贅沢な時間\nーーーーーーーーーーーーーーーーーーーーーーー
URL:https://tabi-mile.com/campaign_calendar/diners-daikakuji-event-202511/
CATEGORIES:クレジットカード
ATTACH;FMTTYPE=image/jpeg:https://tabi-mile.com/wp-content/uploads/2025/09/3f4c685397be62b44f987560fb1d1c88.jpg
END:VEVENT
BEGIN:VEVENT
DTSTART;VALUE=DATE:20250901
DTEND;VALUE=DATE:20251201
DTSTAMP:20260423T191031
CREATED:20250901T015309Z
LAST-MODIFIED:20250905T053925Z
UID:68595-1756684800-1764547199@tabi-mile.com
SUMMARY:ダイナースクラブカード新規入会キャンペーンで初年度年会費無料&1万円キャッシュバック
DESCRIPTION:ダイナースクラブカードの初年度年会費無料キャンペーンがスタート！ \n本会員と家族カードの年会費ともに初年度無料になるので、お試しするのに最適なタイミング。 \nさらに、入会後3ヶ月以内に合計20万円のカード利用と公式アプリログインで10\,000円キャッシュバックもあり。 \n無料で試せてさらに1万円キャッシュバックも受けられるのでとてもお得です。 \nーーーーーーーーーーーーーーーーーーーーーーー\n【キャンペーン名】\nダイナースクラブカード 新規入会キャンペーン\n【キャンペーン期間】\n2025年9月1日～11月30日\nーーーーーーーーーーーーーーーーーーーーーーー \n\n				\n					\n					\n												\n							\n																																																																															\n							\n																	ダイナースクラブカードの入会キャンペーン！特典満載カードのメリット・デメリットまとめ\n								\n																									続きを見る
URL:https://tabi-mile.com/campaign_calendar/diners-camp-202509/
CATEGORIES:クレジットカード
ATTACH;FMTTYPE=image/jpeg:https://tabi-mile.com/wp-content/uploads/2025/09/ac35ac1ce977cf0b928f83546e3f2345.jpg
END:VEVENT
BEGIN:VEVENT
DTSTART;VALUE=DATE:20250826
DTEND;VALUE=DATE:20250921
DTSTAMP:20260423T191031
CREATED:20250822T152519Z
LAST-MODIFIED:20250822T152519Z
UID:68326-1756166400-1758412799@tabi-mile.com
SUMMARY:ダイナースクラブフランスレストランウィーク2025開催
DESCRIPTION:ダイナースの定番イベントダイナースクラブフランスレストランウィークが今年も開催。 \nフランス料理を気軽に楽しむイベントで、憧れの高級店もランチ・ディナーともに、3\,000円、6\,000円、10\,000円のいずれかで楽しめます（お店によって設定されています）。 \nダイナースクラブカード会員なら、カード提示でウェルカムドリンク1杯プレゼント。 \nダイナースクラブ プレミアムカード会員には、8月26日10時からの先行予約特典もあり。 \nーーーーーーーーーーーーーーーーーーーーーーー\n【キャンペーン名】\nダイナースクラブフランスレストランウィーク2025開催\n【キャンペーン期間】\n2025年9月20日（土）～ 10月20日（月）31日間\n【予約開始】\nダイナースクラブプレミアムカード会員 2025年8月26日10時～\nそれ以外 2025年9月2日10時～\nーーーーーーーーーーーーーーーーーーーーーーー
URL:https://tabi-mile.com/campaign_calendar/diners-restaurantweek-2025/
CATEGORIES:クレジットカード
ATTACH;FMTTYPE=image/jpeg:https://tabi-mile.com/wp-content/uploads/2025/08/49564efd63a3da35e6a55443a24940bd.jpg
END:VEVENT
BEGIN:VEVENT
DTSTART;VALUE=DATE:20250801
DTEND;VALUE=DATE:20251101
DTSTAMP:20260423T191031
CREATED:20250815T133733Z
LAST-MODIFIED:20250815T133733Z
UID:68104-1754006400-1761955199@tabi-mile.com
SUMMARY:ダイナースクラブのポイントをキャセイパシフィック航空へのマイル移行で20%ボーナス
DESCRIPTION:ダイナースクラブカードのポイントをキャセイパシフィック航空へのマイル交換レートが20％アップするキャンペーンを実施中です。 \n2\,500マイル=1\,000マイルが、20%アップで1\,200マイルに。 \nーーーーーーーーーーーーーーーーーーーーーーー\n【キャンペーン名】\nダイナースクラブのポイントをキャセイパシフィック航空へのマイル移行で20%ボーナス\n【キャンペーン期間】\n2025年8月1日 0時00分～2025年10月31日 23時59分\nーーーーーーーーーーーーーーーーーーーーーーー
URL:https://tabi-mile.com/campaign_calendar/diners-points-cathay-202508/
CATEGORIES:クレジットカード
ATTACH;FMTTYPE=image/jpeg:https://tabi-mile.com/wp-content/uploads/2025/08/b19799bf2227997cdf06a38ec9042929.jpg
END:VEVENT
BEGIN:VEVENT
DTSTART;VALUE=DATE:20250501
DTEND;VALUE=DATE:20250801
DTSTAMP:20260423T191031
CREATED:20250501T214040Z
LAST-MODIFIED:20250502T013800Z
UID:66225-1746057600-1754006399@tabi-mile.com
SUMMARY:ダイナースクラブカード新規入会キャンペーン
DESCRIPTION:ダイナースクラブカードの新規入会キャンペーンは、2大特典！ \nキャンペーン内容 \n\n初年度年会費無料（本会員・家族会員ともに）\n15\,000ポイントプレゼント（3ヶ月以内に20万円のカード利用&公式アプリサインインで）\n\n\n期間限定で初年度年会費無料キャンペーン実施中（24\,200円（税込）相当）！\n家族カードの初年度年会費（5\,500円（税込）相当）も無料になるため、とてもお得にダイナースクラブカードを持つチャンス \n初年度年会費無料&条件達成で15\,000ポイント ダイナースクラブカードの入会はこちら 2025年7月31日までの期間限定 \nーーーーーーーーーーーーーーーーーーーーーーー\n【キャンペーン名】\nダイナースクラブ新規入会キャンペーン\n【キャンペーン期間】\n2025年5月1日～7月31日\nーーーーーーーーーーーーーーーーーーーーーーー \nダイナースクラブカードの詳細は、「ダイナースクラブカードの入会キャンペーン！特典満載カードのメリット・デメリットまとめ」へ。 \n\n				\n					\n					\n												\n							\n																																																																															\n							\n																	ダイナースクラブカードの入会キャンペーン！特典満載カードのメリット・デメリットまとめ\n								\n																									続きを見る
URL:https://tabi-mile.com/campaign_calendar/diners-202505/
CATEGORIES:クレジットカード
ATTACH;FMTTYPE=image/png:https://tabi-mile.com/wp-content/uploads/2025/05/87efc4c7ced80ab0b1187432651ab7c0.png
END:VEVENT
BEGIN:VEVENT
DTSTART;VALUE=DATE:20250401
DTEND;VALUE=DATE:20250501
DTSTAMP:20260423T191031
CREATED:20250430T081313Z
LAST-MODIFIED:20250507T065652Z
UID:66174-1743465600-1746057599@tabi-mile.com
SUMMARY:ダイナースクラブカード新規入会キャンペーン
DESCRIPTION:ダイナースクラブカードで初年度年会費無料キャンペーン好評で延長実施中。 \n期間限定で初年度年会費無料キャンペーン実施中（24\,200円（税込）相当）！\n家族カードの初年度年会費（5\,500円（税込）相当）も無料になるため、とてもお得にダイナースクラブカードを持つチャンス \n初年度年会費無料 ダイナースクラブカードの入会はこちら 2025年4月30日までの期間限定 \nーーーーーーーーーーーーーーーーーーーーーーー\n【キャンペーン名】\nダイナースクラブ新規入会キャンペーン\n【キャンペーン期間】\n2025年1月6日～4月30日\nーーーーーーーーーーーーーーーーーーーーーーー \nダイナースクラブカードの詳細は、「ダイナースクラブカードの入会キャンペーン！特典満載カードのメリット・デメリットまとめ」へ。 \n\n				\n					\n					\n												\n							\n																																																																															\n							\n																	ダイナースクラブカードの入会キャンペーン！特典満載カードのメリット・デメリットまとめ\n								\n																									続きを見る
URL:https://tabi-mile.com/campaign_calendar/diners-202501/
CATEGORIES:クレジットカード
ATTACH;FMTTYPE=image/png:https://tabi-mile.com/wp-content/uploads/2025/04/706823fe1fcaa31ae67026451b694a05.png
END:VEVENT
END:VCALENDAR