BEGIN:VCALENDAR
VERSION:2.0
PRODID:-//旅マイル - ECPv6.15.20//NONSGML v1.0//EN
CALSCALE:GREGORIAN
METHOD:PUBLISH
X-ORIGINAL-URL:https://tabi-mile.com
X-WR-CALDESC:旅マイル のイベント
REFRESH-INTERVAL;VALUE=DURATION:PT1H
X-Robots-Tag:noindex
X-PUBLISHED-TTL:PT1H
BEGIN:VTIMEZONE
TZID:Asia/Tokyo
BEGIN:STANDARD
TZOFFSETFROM:+0900
TZOFFSETTO:+0900
TZNAME:JST
DTSTART:20240101T000000
END:STANDARD
END:VTIMEZONE
BEGIN:VEVENT
DTSTART;VALUE=DATE:20250501
DTEND;VALUE=DATE:20250507
DTSTAMP:20260421T210951
CREATED:20250501T060707Z
LAST-MODIFIED:20250508T023631Z
UID:66177-1746057600-1746575999@tabi-mile.com
SUMMARY:ピーチ国際線セール
DESCRIPTION:Peachで国際線セール開催中！ \n成田ー台北8\,990円〜、羽田ー上海13\,000円～。 \nーーーーーーーーーーーーーーーーーーーーーーー\n【キャンペーン名】\nピーチ国際線セール\n【キャンペーン期間】\n販売期間: 2025年5月1日12:00〜5月6日23:59\n搭乗期間: 2025年5月20日〜10月25日\nーーーーーーーーーーーーーーーーーーーーーーー
URL:https://tabi-mile.com/campaign_calendar/peach-sale-oversea202505/
CATEGORIES:エアライン
ATTACH;FMTTYPE=image/png:https://tabi-mile.com/wp-content/uploads/2025/05/ef7485e0a0288bfe2af157c03edd8ff6-scaled.png
END:VEVENT
BEGIN:VEVENT
DTSTART;VALUE=DATE:20250508
DTEND;VALUE=DATE:20250512
DTSTAMP:20260421T210951
CREATED:20250509T022012Z
LAST-MODIFIED:20250509T022012Z
UID:66340-1746662400-1747007999@tabi-mile.com
SUMMARY:ピーチ東京ー札幌国内線セール
DESCRIPTION:ピーチで成田ー新千歳で片道3\,790円～の国内線セール。 \nーーーーーーーーーーーーーーーーーーーーーーー\n【キャンペーン名】\nピーチ東京ー札幌国内線セール\n【キャンペーン期間】\n販売期間： 2025年05月08日12:00～05月11日23:59\n搭乗期間：2025年05月26日～07月18日\nーーーーーーーーーーーーーーーーーーーーーーー
URL:https://tabi-mile.com/campaign_calendar/peach-sapporo-202505/
CATEGORIES:エアライン
ATTACH;FMTTYPE=image/jpeg:https://tabi-mile.com/wp-content/uploads/2025/05/2bf3a3e357f51ad964c372fc664e3bb7.jpg
END:VEVENT
END:VCALENDAR