BEGIN:VCALENDAR
VERSION:2.0
PRODID:-//旅マイル - ECPv6.15.20//NONSGML v1.0//EN
CALSCALE:GREGORIAN
METHOD:PUBLISH
X-WR-CALNAME:旅マイル
X-ORIGINAL-URL:https://tabi-mile.com
X-WR-CALDESC:旅マイル のイベント
REFRESH-INTERVAL;VALUE=DURATION:PT1H
X-Robots-Tag:noindex
X-PUBLISHED-TTL:PT1H
BEGIN:VTIMEZONE
TZID:Asia/Tokyo
BEGIN:STANDARD
TZOFFSETFROM:+0900
TZOFFSETTO:+0900
TZNAME:JST
DTSTART:20240101T000000
END:STANDARD
END:VTIMEZONE
BEGIN:VEVENT
DTSTART;VALUE=DATE:20250911
DTEND;VALUE=DATE:20250918
DTSTAMP:20260421T230731
CREATED:20250911T135947Z
LAST-MODIFIED:20250911T135947Z
UID:68891-1757548800-1758153599@tabi-mile.com
SUMMARY:British Airways Avios購入 40％ボーナスキャンペーン
DESCRIPTION:ブリティッシュ・エアウェイズの「Avios購入キャンペーン」で期間限定の40％ボーナスが始まりました。\n最大20万Aviosまで購入可能で、購入分に40％が自動加算される仕組みです。\n通常よりも大幅にお得にマイルを獲得できるチャンスなので、Aviosを計画的に使いたい方には注目です。 \nAviosは同じワンワールド加盟のJAL国内線特典航空券や、ヨーロッパ域内の短距離フライトに使うと特に価値が高くなります。\nまた、少ないマイル数から片道特典に交換できるため、機動的に利用できるのも利点。\n購入はオンラインのみですが、ボーナスは即時アカウントに反映され、すぐに使うことができます。 \n注意点として、払い戻しはできず購入上限は年内で固定される点や、円安影響もあるためレート計算を確認してからの購入がおすすめです。\n有効期限は「最後のアクティビティから36カ月」なので、今後の利用予定があるなら実質的に期限切れの心配は少なめです。\nボーナス販売は短期間のフラッシュセール形式で行われるため、利用予定がある方は早めの検討が賢明です。 \nーーーーーーーーーーーーーーーーーーーーーーー\n【キャンペーン名】\nBritish Airways Avios購入 40％ボーナスキャンペーン\n【キャンペーン期間】\n2025年9月11日～2025年9月17日\n【概要】\n・期間中にAviosを購入すると40％のボーナスが自動付与\n・最大20万Avios購入まで対象（ボーナス含め28万Avios入手可能）\n・購入したAviosは即時反映、JAL特典やBA欧州路線で高い実用性\n・払い戻し不可、為替状況を確認して購入推奨\n・有効期限は最後の利用から36カ月間リセット\nーーーーーーーーーーーーーーーーーーーーーーー
URL:https://tabi-mile.com/campaign_calendar/britishairways-avios-bonus40-202509/
CATEGORIES:エアライン
ATTACH;FMTTYPE=image/jpeg:https://tabi-mile.com/wp-content/uploads/2025/09/7d4be063d1b552fdfac84d60d2e2f0d8.jpg
END:VEVENT
END:VCALENDAR