BEGIN:VCALENDAR
VERSION:2.0
PRODID:-//旅マイル - ECPv6.15.20//NONSGML v1.0//EN
CALSCALE:GREGORIAN
METHOD:PUBLISH
X-WR-CALNAME:旅マイル
X-ORIGINAL-URL:https://tabi-mile.com
X-WR-CALDESC:旅マイル のイベント
REFRESH-INTERVAL;VALUE=DURATION:PT1H
X-Robots-Tag:noindex
X-PUBLISHED-TTL:PT1H
BEGIN:VTIMEZONE
TZID:Asia/Tokyo
BEGIN:STANDARD
TZOFFSETFROM:+0900
TZOFFSETTO:+0900
TZNAME:JST
DTSTART:20240101T000000
END:STANDARD
END:VTIMEZONE
BEGIN:VEVENT
DTSTART;VALUE=DATE:20250624
DTEND;VALUE=DATE:20250722
DTSTAMP:20260423T195814
CREATED:20250625T080116Z
LAST-MODIFIED:20250625T080116Z
UID:67230-1750723200-1753142399@tabi-mile.com
SUMMARY:ホテルズドットコム夏旅特大セール : 25% 以上OFF
DESCRIPTION:ホテルズドットコムで夏旅特大セールで、25%以上オフ。 \nもちろん１０泊で１泊ボーナスステイも対象！ \nーーーーーーーーーーーーーーーーーーーーーーー\n【キャンペーン名】\nホテルズドットコム夏旅特大セール : 25% 以上OFF\n【キャンペーン期間】\n予約期間：2025年6月24日―7月21日\n宿泊期間：2025年6月24日―10月31日\nーーーーーーーーーーーーーーーーーーーーーーー
URL:https://tabi-mile.com/campaign_calendar/hotels-com-sale-202506/
CATEGORIES:旅行会社
ATTACH;FMTTYPE=image/jpeg:https://tabi-mile.com/wp-content/uploads/2025/06/2ba5ac612d1073df740a4b740c565aad.jpg
END:VEVENT
BEGIN:VEVENT
DTSTART;VALUE=DATE:20250417
DTEND;VALUE=DATE:20250527
DTSTAMP:20260423T195814
CREATED:20250512T001041Z
LAST-MODIFIED:20250512T001057Z
UID:66381-1744848000-1748303999@tabi-mile.com
SUMMARY:ホテルズドットコム夏旅早割セール
DESCRIPTION:ホテルズドットコム、夏旅早割セール。 \n25%以上割引も。 \n10泊で1泊無料キャンペーンの対象宿泊プランです。 \nーーーーーーーーーーーーーーーーーーーーーーー\n【キャンペーン名】\nホテルズドットコム夏旅早割セール\n【キャンペーン期間】\n予約期間：2025年4月17日～5月26日\n対象宿泊期間：2025年4月17日～9月30日\nーーーーーーーーーーーーーーーーーーーーーーー
URL:https://tabi-mile.com/campaign_calendar/hotelscom-sale-202505/
CATEGORIES:旅行会社
ATTACH;FMTTYPE=image/jpeg:https://tabi-mile.com/wp-content/uploads/2025/05/7440528a09cf981751e332acf0b31880.jpg
END:VEVENT
END:VCALENDAR