BEGIN:VCALENDAR
VERSION:2.0
PRODID:-//旅マイル - ECPv6.15.20//NONSGML v1.0//EN
CALSCALE:GREGORIAN
METHOD:PUBLISH
X-WR-CALNAME:旅マイル
X-ORIGINAL-URL:https://tabi-mile.com
X-WR-CALDESC:旅マイル のイベント
REFRESH-INTERVAL;VALUE=DURATION:PT1H
X-Robots-Tag:noindex
X-PUBLISHED-TTL:PT1H
BEGIN:VTIMEZONE
TZID:Asia/Tokyo
BEGIN:STANDARD
TZOFFSETFROM:+0900
TZOFFSETTO:+0900
TZNAME:JST
DTSTART:20240101T000000
END:STANDARD
END:VTIMEZONE
BEGIN:VEVENT
DTSTART;VALUE=DATE:20251009
DTEND;VALUE=DATE:20251209
DTSTAMP:20260423T091047
CREATED:20251010T030900Z
LAST-MODIFIED:20251010T030900Z
UID:69294-1759968000-1765238399@tabi-mile.com
SUMMARY:マリオットポイント購入40%ボーナスキャンペーン
DESCRIPTION:マリオットボンヴォイでポイント購入セール。 \n40\,000ポイント～195\,000ポイント購入で最大の40%ボーナスが付きます。 \nたとえば、55\,000ポイント購入（687.5米ドル=約105\,000円）すると、22\,000ボーナスポイントが付いて77\,000ポイント。 \nとある日のザ・リッツ・カールトン大阪のポイント泊は、1泊76\,000ポイント。 \n有償泊なら11万2千円なので、微妙にお得かなといったレベル。 \nただ、他の多くのホテルは1ポイント=0.6～1円位の間なので、足りないポイントを買うくらいがちょうどいいです。 \nーーーーーーーーーーーーーーーーーーーーーーー\n【キャンペーン名】\nマリオットポイント購入40%ボーナスキャンペーン\n【キャンペーン期間】\n2025年10月9日22時から2025年12月8日13時59分\nーーーーーーーーーーーーーーーーーーーーーーー
URL:https://tabi-mile.com/campaign_calendar/marriott-points-bouns-202510/
CATEGORIES:ホテル
ATTACH;FMTTYPE=image/jpeg:https://tabi-mile.com/wp-content/uploads/2025/10/78206b102007a93faf5bc38fd0e21946.jpg
END:VEVENT
BEGIN:VEVENT
DTSTART;VALUE=DATE:20251001
DTEND;VALUE=DATE:20251101
DTSTAMP:20260423T091047
CREATED:20251002T143154Z
LAST-MODIFIED:20251002T144812Z
UID:69253-1759276800-1761955199@tabi-mile.com
SUMMARY:ユナイテッド航空のマイル移行で25%増量！マリオットポイントを交換するなら今！
DESCRIPTION:昨年も行われたユナイテッド航空マイレージプラスのマイルへホテルポイントを移行で、25%増量キャンペーンがスタート！ \n昨年は30%増量でしたが、25%増量でも大きい。 \n【対象のホテルポイント】 \n\nマリオットボンヴォイ\nマリオットバケーションクラブ\nヒルトンオナーズ\nIHG\nハイアット\nアコー\nウィンダム\nシャングリラ\n\nこの中で一番のおすすめルートはマリオットボンヴォイ。 \n交換レートは3ポイント=1マイルですが、マリオットのポイントを6万ポイント単位で移行するとユナイテッド航空だけ、10\,000マイルボーナスがつきます。（通常は5\,000マイル） \nこの25%増量キャンペーンと合わせると、 \n60\,000ポイント=35\,000マイルに。 \n通常は3万マイルなので、5\,000マイルも多く交換できます。 \n（25%アップは通常の20\,000マイルに対してのみ適用） \n事前にユナイテッド航空のキャンペーンページで登録が必要なので、まずは登録を。 \nーーーーーーーーーーーーーーーーーーーーーーー\n【キャンペーン名】\nユナイテッド航空のマイル移行で25%増量！マリオットポイントを交換するなら今！ \n【キャンペーン期間】\n2025年10月1日～10月31日\nーーーーーーーーーーーーーーーーーーーーーーー
URL:https://tabi-mile.com/campaign_calendar/ua-mile-hotel-point-202510/
CATEGORIES:エアライン,ホテル
ATTACH;FMTTYPE=image/jpeg:https://tabi-mile.com/wp-content/uploads/2025/10/5759fcc14d3e6c82223b3618bef44964.jpg
END:VEVENT
BEGIN:VEVENT
DTSTART;VALUE=DATE:20250819
DTEND;VALUE=DATE:20250919
DTSTAMP:20260423T091047
CREATED:20250819T142955Z
LAST-MODIFIED:20250819T143939Z
UID:68172-1755561600-1758239999@tabi-mile.com
SUMMARY:マリオットボンヴォイポイント購入40%ボーナス
DESCRIPTION:マリオットがボンヴォイポイントを40%ボーナス付きで販売中です。 \n2\,000ポイント以上購入（25米ドル）で40%ボーナスが付きます。 \n直近では、2025年2月に45%ボーナスの実施がありましたが、それ以外は40%ボーナスなので標準的なセール。 \nほぼ絶え間なくやっているので、必要なときに購入で問題なしです。 \n例えば47\,000ポイント購入（587.5米ドル×150円=88\,125円）すると、40%ボーナス加算で65\,800ポイント。 \n65\,000ポイントでザ・リッツ・カールトン福岡に宿泊可能。 \n有償泊だと106\,254円なので、計算上は18\,000円安く泊まれます。 \nただ、ポイント泊だと宿泊ポイントとかは獲得できなくなるので、微妙な金額差だとあまりお得ではないですね。 \nーーーーーーーーーーーーーーーーーーーーーーー\n【キャンペーン名】\nマリオットボンヴォイポイント購入40%ボーナス\n【キャンペーン期間】\n2025年8月19日22時から2025年9月18日12時59分\nーーーーーーーーーーーーーーーーーーーーーーー
URL:https://tabi-mile.com/campaign_calendar/marriott-points-sale-202508/
CATEGORIES:ホテル
ATTACH;FMTTYPE=image/jpeg:https://tabi-mile.com/wp-content/uploads/2025/08/8971363461b37192e15616476bc80e7d.jpg
END:VEVENT
BEGIN:VEVENT
DTSTART;VALUE=DATE:20250721
DTEND;VALUE=DATE:20250808
DTSTAMP:20260423T091047
CREATED:20250723T134814Z
LAST-MODIFIED:20250723T134850Z
UID:67813-1753056000-1754611199@tabi-mile.com
SUMMARY:マリオットボンヴォイでレストラン20%オフキャンペーン
DESCRIPTION:マリオットボンヴォイで、対象のレストランで20%オフになる嬉しい期間限定キャンペーンがスタート。 \n対象期間は、2025年7月21日(月)- 8月7日(木)とかなり短いものの、20%オフは大きい。 \nご注文時に「20％キャンペーン利用」とスタッフに伝える必要があるので、対象レストランでは忘れずに。 \nすべてのマリオットボンヴォイ参加ホテルが対象ではなく、一部のホテルだけなので、公式HPでチェックを。 \nーーーーーーーーーーーーーーーーーーーーーーー\n【キャンペーン名】\nマリオットボンヴォイでレストラン20%オフキャンペーン\n【キャンペーン期間】\n2025年7月21日(月)- 8月7日(木)\nーーーーーーーーーーーーーーーーーーーーーーー
URL:https://tabi-mile.com/campaign_calendar/mariott-summer-appreciation-dining2025/
CATEGORIES:ホテル
ATTACH;FMTTYPE=image/jpeg:https://tabi-mile.com/wp-content/uploads/2025/07/641100357c3c7e8ebf16a55b2d2f2450.jpg
END:VEVENT
BEGIN:VEVENT
DTSTART;VALUE=DATE:20250701
DTEND;VALUE=DATE:20250924
DTSTAMP:20260423T091047
CREATED:20250716T074539Z
LAST-MODIFIED:20250716T074539Z
UID:67727-1751328000-1758671999@tabi-mile.com
SUMMARY:フォーポイントバイシェラトン1滞在で1\,000ポイントプレゼント
DESCRIPTION:マリオットボンヴォイのフォーポイントバイシェラトンで1滞在ごとに1\,000ポイントプレンゼントキャンペーン。 \nフォーポイントバイシェラトンは、マリオットが運営するビジネスホテル。 \nプロモーションコード「S2449」で適用できます。 \nーーーーーーーーーーーーーーーーーーーーーーー\n【キャンペーン名】\nフォーポイントバイシェラトン1滞在で1\,000ポイントプレゼント\n【キャンペーン期間】\n2025年7月1日～9月23日\nーーーーーーーーーーーーーーーーーーーーーーー
URL:https://tabi-mile.com/campaign_calendar/four-points-flex-point-202507/
CATEGORIES:ホテル
ATTACH;FMTTYPE=image/jpeg:https://tabi-mile.com/wp-content/uploads/2025/07/1b2589752392b552a9db3fafbaaea042.jpg
END:VEVENT
BEGIN:VEVENT
DTSTART;VALUE=DATE:20250623
DTEND;VALUE=DATE:20251001
DTSTAMP:20260423T091047
CREATED:20250701T013857Z
LAST-MODIFIED:20250701T013857Z
UID:67340-1750636800-1759276799@tabi-mile.com
SUMMARY:マリオット フェアフィールド･バイ･マリオット 道の駅ホテル 3\,000ボーナスポイント&2ホテル目30%オフ
DESCRIPTION:フェアフィールド･バイ･マリオット道の駅ホテルで2つの特典キャンペーン。 \n・特典1：Marriott Bonvoy 3\,000 ボーナスポイント/1泊1部屋あたり\n・特典2：周遊 2 ホテル目以降 30％OFF\n・プロモーションコード「S2449」 \n周遊2ホテル目以降30％OFFは、期間中に2ホテル以上泊まると、2ホテル目以降が30%オフになります。\n30%オフを適用するには、プロモーションコード「S2449」で宿泊した領収書が必要とのこと。 \nただ、プロモーションコード「S2449」の料金プランは最安値プランよりも2\,000～3\,000円高いので、3\,000ポイントを買う感じかな～。\n2ホテル以上泊まるなら2ホテル以降は30%オフをオフになるので、断然このプロモーションのほうが安くなります。 \nーーーーーーーーーーーーーーーーーーーーーーー\n【キャンペーン名】\nマリオット フェアフィールド･バイ･マリオット 道の駅ホテル 3\,000ボーナスポイント&2ホテル目30%オフ\n【キャンペーン期間】\n販売期間：2025/6/23～2025/9/30\n宿泊期間：2025/7/19～2025/9/30\nーーーーーーーーーーーーーーーーーーーーーーー
URL:https://tabi-mile.com/campaign_calendar/marriott-summer-sale-202507/
CATEGORIES:ホテル
ATTACH;FMTTYPE=image/jpeg:https://tabi-mile.com/wp-content/uploads/2025/07/93676136da6b3c8875dbb7b129caa54d.jpg
END:VEVENT
BEGIN:VEVENT
DTSTART;VALUE=DATE:20250514
DTEND;VALUE=DATE:20250718
DTSTAMP:20260423T091047
CREATED:20250515T002428Z
LAST-MODIFIED:20250519T061330Z
UID:66461-1747180800-1752796799@tabi-mile.com
SUMMARY:マリオットボンヴォイポイント購入40%ボーナス
DESCRIPTION:マリオットのポイント購入で40%ボーナスキャンペーンがスタート。 \n2\,000ポイント以上のポイント購入で40%のボーナスポイント。 \n前回は45%ボーナスだったので5%ダウン。 \nしかし、近年は40%ボーナスがほとんどだったので足りない分を購入はあり。 \n5連泊で1泊分ポイント無料（4泊分のポイントで5連泊できる）になるので、普通に有償宿泊よりもポイント泊のほうが安いケースも。 \nーーーーーーーーーーーーーーーーーーーーーーー\n【キャンペーン名】\nマリオットボンヴォイポイント購入40%ボーナス\n【キャンペーン期間】\n2025年5月14日22時から2025年7月17日12時59分\nーーーーーーーーーーーーーーーーーーーーーーー\nマリオットポイント購入セールまとめ！お得？損？お得な使い方・計算方法まで徹底解説
URL:https://tabi-mile.com/campaign_calendar/marriott-bonvoy-buy-points-sale-202505/
CATEGORIES:ホテル
ATTACH;FMTTYPE=image/jpeg:https://tabi-mile.com/wp-content/uploads/2025/05/7bc2ecc7f9ac9cd5c6b8787f4a8afec6.jpg
END:VEVENT
BEGIN:VEVENT
DTSTART;VALUE=DATE:20250506
DTEND;VALUE=DATE:20250719
DTSTAMP:20260423T091047
CREATED:20250523T080901Z
LAST-MODIFIED:20250523T080901Z
UID:66817-1746489600-1752883199@tabi-mile.com
SUMMARY:マリオット期間限定3\,000ポイントプレゼント
DESCRIPTION:マリオットで、対象ホテル宿泊で1滞在につき3\,000ポイントプレゼントキャンペーン。 \nプロモーションコード「S2449」。 \n対象ホテルは、 \n\nコートヤード・バイ・マリオット白馬\nコートヤード・バイ・マリオット新大阪ステーション\n富士マリオットホテル山中湖\n伊豆マリオットホテル修善寺\n軽井沢マリオットホテル\n琵琶湖マリオットホテル\n南紀白浜マリオットホテル\nシェラトン沖縄サンマリーナリゾート\nウェスティンホテル仙台\n\nーーーーーーーーーーーーーーーーーーーーーーー\n【キャンペーン名】\nマリオット期間限定3\,000ポイントプレゼント\n【キャンペーン期間】\n2025年5月6日～7月18日\nーーーーーーーーーーーーーーーーーーーーーーー
URL:https://tabi-mile.com/campaign_calendar/marriott-3000-202505/
CATEGORIES:ホテル
ATTACH;FMTTYPE=image/jpeg:https://tabi-mile.com/wp-content/uploads/2025/05/42a43bb24718b7a0272e6896111bf8dc.jpg
END:VEVENT
END:VCALENDAR