BEGIN:VCALENDAR
VERSION:2.0
PRODID:-//旅マイル - ECPv6.15.20//NONSGML v1.0//EN
CALSCALE:GREGORIAN
METHOD:PUBLISH
X-WR-CALNAME:旅マイル
X-ORIGINAL-URL:https://tabi-mile.com
X-WR-CALDESC:旅マイル のイベント
REFRESH-INTERVAL;VALUE=DURATION:PT1H
X-Robots-Tag:noindex
X-PUBLISHED-TTL:PT1H
BEGIN:VTIMEZONE
TZID:Asia/Tokyo
BEGIN:STANDARD
TZOFFSETFROM:+0900
TZOFFSETTO:+0900
TZNAME:JST
DTSTART:20240101T000000
END:STANDARD
END:VTIMEZONE
BEGIN:VEVENT
DTSTART;VALUE=DATE:20251019
DTEND;VALUE=DATE:20251030
DTSTAMP:20260419T221017
CREATED:20251021T075056Z
LAST-MODIFIED:20251021T075056Z
UID:69363-1760832000-1761782399@tabi-mile.com
SUMMARY:一休.com「一休プレミアム10days」
DESCRIPTION:一休.comで人気施設のセール。 \n全国の人気ホテルが即時ポイント利用で10～30%オフとお得。 \nーーーーーーーーーーーーーーーーーーーーーーー\n【キャンペーン名】\n一休.com「一休プレミアム10days」\n【キャンペーン期間】\n2025年10月19日～10月29日\nーーーーーーーーーーーーーーーーーーーーーーー
URL:https://tabi-mile.com/campaign_calendar/ikyucom-sale-202510/
CATEGORIES:旅行会社
ATTACH;FMTTYPE=image/jpeg:https://tabi-mile.com/wp-content/uploads/2025/10/944b12b028b5fa65f44366468ffa307d.jpg
END:VEVENT
BEGIN:VEVENT
DTSTART;VALUE=DATE:20250909
DTEND;VALUE=DATE:20250911
DTSTAMP:20260419T221017
CREATED:20250909T070645Z
LAST-MODIFIED:20250909T070645Z
UID:68858-1757376000-1757548799@tabi-mile.com
SUMMARY:一休.comGoGoセール 9月9日と10日だけの限定セール
DESCRIPTION:一休.comの36時間GoGoセールがスタート！ \n予約期間は2025年9月9日～10日の2日間限定セール。 \nホテルニューオータニ20%オフ、パレスホテル東京20%オフ、ヒルトン東京お台場20%オフなど \nーーーーーーーーーーーーーーーーーーーーーーー\n【キャンペーン名】\n一休.comGoGoセール 9月9日と10日だけの限定セール\n【キャンペーン期間】\n2025年9月9日～9月10日\nーーーーーーーーーーーーーーーーーーーーーーー
URL:https://tabi-mile.com/campaign_calendar/ikyu-com-gogo-sale-202509/
CATEGORIES:旅行会社
ATTACH;FMTTYPE=image/jpeg:https://tabi-mile.com/wp-content/uploads/2025/09/1b962bdaf095a5ba76e5924be6a94dd1.jpg
END:VEVENT
BEGIN:VEVENT
DTSTART;VALUE=DATE:20250901
DTEND;VALUE=DATE:20250921
DTSTAMP:20260419T221017
CREATED:20250903T144845Z
LAST-MODIFIED:20250903T144845Z
UID:68668-1756684800-1758412799@tabi-mile.com
SUMMARY:一休.com最大20%オトクなスペシャルセール
DESCRIPTION:一休.comで最大20%オフ。 \n一休.comのポイントは即時利用できるので、実質値引き。 \nハレクラニ沖縄やシギラベイサイドスイートアラマンダ、アマネム、パレスホテル東京などが対象。 \nーーーーーーーーーーーーーーーーーーーーーーー\n【キャンペーン名】\n一休.com最大20%オトクなスペシャルセール\n【キャンペーン期間】\n2025年9月1日～9月20日\nーーーーーーーーーーーーーーーーーーーーーーー
URL:https://tabi-mile.com/campaign_calendar/ikyucom-time-sale-202509/
CATEGORIES:旅行会社
ATTACH;FMTTYPE=image/jpeg:https://tabi-mile.com/wp-content/uploads/2025/09/da36b739e9a85544b22ab8956a10d365.jpg
END:VEVENT
BEGIN:VEVENT
DTSTART;VALUE=DATE:20250629
DTEND;VALUE=DATE:20250721
DTSTAMP:20260419T221017
CREATED:20250630T025602Z
LAST-MODIFIED:20250630T025602Z
UID:67296-1751155200-1753055999@tabi-mile.com
SUMMARY:一休.com「夏旅セール」
DESCRIPTION:一休.comで夏旅セール。 \n全プラン5%以上、一部ホテルは15%以上お得に。 \n一休.comのポイントは即時利用できるので、実質割引。 \nーーーーーーーーーーーーーーーーーーーーーーー\n【キャンペーン名】\n一休.com「夏旅セール」\n【キャンペーン期間】\n2025年6月29日（日）12:00～2025年7月20日（日）23:59\nーーーーーーーーーーーーーーーーーーーーーーー
URL:https://tabi-mile.com/campaign_calendar/ikyucom-sale-202506/
CATEGORIES:旅行会社
ATTACH;FMTTYPE=image/jpeg:https://tabi-mile.com/wp-content/uploads/2025/06/8e9bd79ca03631ab10d75e603bce2d81.jpg
END:VEVENT
BEGIN:VEVENT
DTSTART;VALUE=DATE:20250516
DTEND;VALUE=DATE:20250603
DTSTAMP:20260419T221017
CREATED:20250521T014422Z
LAST-MODIFIED:20250521T014422Z
UID:66730-1747353600-1748908799@tabi-mile.com
SUMMARY:一休.comプレミアムタイムセール
DESCRIPTION:一休.comで人気の旅館・リゾートホテルが安くなるプレミアムタイムセール開催中。 \nポイント即時利用で30%オフなど。 \nーーーーーーーーーーーーーーーーーーーーーーー\n【キャンペーン名】\n一休.comプレミアムタイムセール\n【キャンペーン期間】\n2025年5月16日～6月2日正午\nーーーーーーーーーーーーーーーーーーーーーーー
URL:https://tabi-mile.com/campaign_calendar/ikyu-com-time-sale-202505/
CATEGORIES:旅行会社
ATTACH;FMTTYPE=image/jpeg:https://tabi-mile.com/wp-content/uploads/2025/05/cddd76c04b4a439f9ca76dd78b094197.jpg
END:VEVENT
BEGIN:VEVENT
DTSTART;VALUE=DATE:20250512
DTEND;VALUE=DATE:20250527
DTSTAMP:20260419T221017
CREATED:20250513T231700Z
LAST-MODIFIED:20250513T231700Z
UID:66440-1747008000-1748303999@tabi-mile.com
SUMMARY:一休.comで沖縄タイムセール
DESCRIPTION:一休.comで沖縄タイムセール開催中。 \nハレクラニ沖縄、ザ・ブセナテラス、シギラベイサイドスイートアラマンダ、ハイアット リージェンシー 瀬良垣アイランド 沖縄などが、ポイント即時利用で最大45%オフに。 \nーーーーーーーーーーーーーーーーーーーーーーー\n【キャンペーン名】\n一休.comで沖縄タイムセール\n【キャンペーン期間】\n2025年5月12日正午～5月26日正午\nーーーーーーーーーーーーーーーーーーーーーーー
URL:https://tabi-mile.com/campaign_calendar/ikyu-okinawa-timesale-202505/
CATEGORIES:旅行会社
ATTACH;FMTTYPE=image/jpeg:https://tabi-mile.com/wp-content/uploads/2025/05/2e7cd24beca3d0a17908c1d40f8efc12.jpg
END:VEVENT
END:VCALENDAR