BEGIN:VCALENDAR
VERSION:2.0
PRODID:-//旅マイル - ECPv6.15.20//NONSGML v1.0//EN
CALSCALE:GREGORIAN
METHOD:PUBLISH
X-WR-CALNAME:旅マイル
X-ORIGINAL-URL:https://tabi-mile.com
X-WR-CALDESC:旅マイル のイベント
REFRESH-INTERVAL;VALUE=DURATION:PT1H
X-Robots-Tag:noindex
X-PUBLISHED-TTL:PT1H
BEGIN:VTIMEZONE
TZID:Asia/Tokyo
BEGIN:STANDARD
TZOFFSETFROM:+0900
TZOFFSETTO:+0900
TZNAME:JST
DTSTART:20240101T000000
END:STANDARD
END:VTIMEZONE
BEGIN:VEVENT
DTSTART;VALUE=DATE:20250515
DTEND;VALUE=DATE:20250701
DTSTAMP:20260423T200514
CREATED:20250517T010611Z
LAST-MODIFIED:20250517T010611Z
UID:66496-1747267200-1751327999@tabi-mile.com
SUMMARY:日旅まつり5月
DESCRIPTION:日本旅行で国内・海外のお得なクーポン配布まつり実施中。 \n国内旅行で2万円クーポンや海外旅行で10万円クーポンも。 \nーーーーーーーーーーーーーーーーーーーーーーー\n【キャンペーン名】\n日旅まつり5月\n【キャンペーン期間】\n2025 年5月15日～ 6月30日(月)23時59分\nーーーーーーーーーーーーーーーーーーーーーーー
URL:https://tabi-mile.com/campaign_calendar/nta-sale-202505/
CATEGORIES:旅行会社
ATTACH;FMTTYPE=image/jpeg:https://tabi-mile.com/wp-content/uploads/2025/05/f7c4e01de61ab8f97cbe225ad9c3b482.jpg
END:VEVENT
END:VCALENDAR