BEGIN:VCALENDAR
VERSION:2.0
PRODID:-//旅マイル - ECPv6.15.20//NONSGML v1.0//EN
CALSCALE:GREGORIAN
METHOD:PUBLISH
X-WR-CALNAME:旅マイル
X-ORIGINAL-URL:https://tabi-mile.com
X-WR-CALDESC:旅マイル のイベント
REFRESH-INTERVAL;VALUE=DURATION:PT1H
X-Robots-Tag:noindex
X-PUBLISHED-TTL:PT1H
BEGIN:VTIMEZONE
TZID:Asia/Tokyo
BEGIN:STANDARD
TZOFFSETFROM:+0900
TZOFFSETTO:+0900
TZNAME:JST
DTSTART:20240101T000000
END:STANDARD
END:VTIMEZONE
BEGIN:VEVENT
DTSTART;VALUE=DATE:20250821
DTEND;VALUE=DATE:20251001
DTSTAMP:20260423T182714
CREATED:20250821T143218Z
LAST-MODIFIED:20250821T143218Z
UID:68282-1755734400-1759276799@tabi-mile.com
SUMMARY:日本旅行 先取り！早得キャンペーン！【日旅まつり】
DESCRIPTION:日本旅行の10月～1月出発（海外はGWまで）が対象の国内&海外ツアーの早得キャンペーン。 \n国内なら最大1万円クーポン、海外ダイナミックパッケージなら最大25\,000円クーポン。 \nーーーーーーーーーーーーーーーーーーーーーーー\n【キャンペーン名】\n日本旅行 先取り！早得キャンペーン！【日旅まつり】\n【キャンペーン期間】\n2025年8月21日（木）15時～9月30日（火）14時59分まで\nーーーーーーーーーーーーーーーーーーーーーーー
URL:https://tabi-mile.com/campaign_calendar/nta-camp-202508/
CATEGORIES:旅行会社
ATTACH;FMTTYPE=image/jpeg:https://tabi-mile.com/wp-content/uploads/2025/08/4995014cc1c7c82652fc0675457502ea.jpg
END:VEVENT
END:VCALENDAR