BEGIN:VCALENDAR
VERSION:2.0
PRODID:-//旅マイル - ECPv6.15.20//NONSGML v1.0//EN
CALSCALE:GREGORIAN
METHOD:PUBLISH
X-ORIGINAL-URL:https://tabi-mile.com
X-WR-CALDESC:旅マイル のイベント
REFRESH-INTERVAL;VALUE=DURATION:PT1H
X-Robots-Tag:noindex
X-PUBLISHED-TTL:PT1H
BEGIN:VTIMEZONE
TZID:Asia/Tokyo
BEGIN:STANDARD
TZOFFSETFROM:+0900
TZOFFSETTO:+0900
TZNAME:JST
DTSTART:20240101T000000
END:STANDARD
END:VTIMEZONE
BEGIN:VEVENT
DTSTART;VALUE=DATE:20250729
DTEND;VALUE=DATE:20250811
DTSTAMP:20260421T213515
CREATED:20250801T090143Z
LAST-MODIFIED:20250801T090312Z
UID:67968-1753747200-1754870399@tabi-mile.com
SUMMARY:楽天トラベルLUXURY DAYSー高級宿だけの特別セールー
DESCRIPTION:楽天トラベルで高級宿だけの特別セール開催中。 \n最大20%オフ。 \nーーーーーーーーーーーーーーーーーーーーーーー\n【キャンペーン名】\nLUXURY DAYSー高級宿だけの特別セールー\n【キャンペーン期間】\n2025年7月29日～8月10日\nーーーーーーーーーーーーーーーーーーーーーーー
URL:https://tabi-mile.com/campaign_calendar/rakuten-luxury-days-202508/
CATEGORIES:旅行会社
ATTACH;FMTTYPE=image/jpeg:https://tabi-mile.com/wp-content/uploads/2025/08/a3f4658fd9a8aa046ee52950685e6813.jpg
END:VEVENT
BEGIN:VEVENT
DTSTART;VALUE=DATE:20250818
DTEND;VALUE=DATE:20250827
DTSTAMP:20260421T213515
CREATED:20250818T132645Z
LAST-MODIFIED:20250818T132645Z
UID:68142-1755475200-1756252799@tabi-mile.com
SUMMARY:楽天トラベル最高級宿スペシャルオファーで最大30%オフ
DESCRIPTION:楽天トラベルでは、最高級宿のスペシャルオファーを実施中です！ \n東京ステーションホテルや帝国ホテル東京、メズム東京などがセール対象。 \n最大30％OFFで宿泊できるこのキャンペーンをお見逃しなく。 \nーーーーーーーーーーーーーーーーーーーーーーー\n【キャンペーン名】\n楽天トラベル最高級宿スペシャルオファーで最大30%オフ\n【キャンペーン期間】\n2025年8月18日（月）10:00~8月26日（火）9:59\nーーーーーーーーーーーーーーーーーーーーーーー
URL:https://tabi-mile.com/campaign_calendar/rakuten-travel-sale-202508-2/
CATEGORIES:旅行会社
ATTACH;FMTTYPE=image/jpeg:https://tabi-mile.com/wp-content/uploads/2025/08/d9400e676555aca9eae7634c240b4084.jpg
END:VEVENT
BEGIN:VEVENT
DTSTART;VALUE=DATE:20250818
DTEND;VALUE=DATE:20250829
DTSTAMP:20260421T213515
CREATED:20250819T142031Z
LAST-MODIFIED:20250819T142031Z
UID:68169-1755475200-1756425599@tabi-mile.com
SUMMARY:楽天トラベルユニバーサル・スタジオ・ジャパン スペシャルオファー
DESCRIPTION:楽天トラベルでユニバーサル・スタジオ・ジャパン スペシャルオファー。 \nクーポン併用でUSJ提携ホテルが最大15%オフに。 \nーーーーーーーーーーーーーーーーーーーーーーー\n【キャンペーン名】\n楽天トラベルユニバーサル・スタジオ・ジャパン スペシャルオファー\n【キャンペーン期間】\n8/18（月）10:00～8/28（木）09:59\nーーーーーーーーーーーーーーーーーーーーーーー
URL:https://tabi-mile.com/campaign_calendar/rakuten-travel-usj-202508/
CATEGORIES:旅行会社
ATTACH;FMTTYPE=image/jpeg:https://tabi-mile.com/wp-content/uploads/2025/08/50ec2a70012da75944333910723e855f.jpg
END:VEVENT
BEGIN:VEVENT
DTSTART;VALUE=DATE:20250901
DTEND;VALUE=DATE:20250921
DTSTAMP:20260421T213515
CREATED:20250901T141607Z
LAST-MODIFIED:20250901T141910Z
UID:68612-1756684800-1758412799@tabi-mile.com
SUMMARY:楽天トラベル スーパーSALE9月4日20時スタート
DESCRIPTION:楽天トラベルでは、「楽天トラベル スーパーSALE」を9月4日午後8時から20日まで開催します。 \nクーポンを利用すると、国内ツアーは最大32\,000円、海外ツアーは最大5万円、レンタカーは最大55％、高速バスは最大1\,000円が割引されます。 \nまた、楽天モバイルの契約者と楽天トラベルのBonusレベル1〜4会員限定で、9月1日午前10時から先行セールを実施し、クーポンやセールプランで最大20％の割引が受けられます。 \nーーーーーーーーーーーーーーーーーーーーーーー\n【キャンペーン名】\n楽天トラベル スーパーSALE9月4日20時スタート\n【キャンペーン期間】\n2025年9月1日(月) 10:00 ～ 2025年9月20日(土) 23:59\nーーーーーーーーーーーーーーーーーーーーーーー
URL:https://tabi-mile.com/campaign_calendar/sakuten-travel-sale-202509/
CATEGORIES:旅行会社
ATTACH;FMTTYPE=image/jpeg:https://tabi-mile.com/wp-content/uploads/2025/09/67b83d71d97a69431a6b3ff2006247e8.jpg
END:VEVENT
BEGIN:VEVENT
DTSTART;VALUE=DATE:20250919
DTEND;VALUE=DATE:20250927
DTSTAMP:20260421T213515
CREATED:20250922T133917Z
LAST-MODIFIED:20250922T133917Z
UID:69015-1758240000-1758931199@tabi-mile.com
SUMMARY:楽天トラベル最高級宿スペシャルオファーで最大30%オフ
DESCRIPTION:最高級宿が最大30%オフになるスペシャルオファーが楽天トラベルで開催中。 \nマンダリンオリエンタル東京、帝国ホテル東京、THE HIRAMATSU 京都、ザ・ブセナテラスなどが対象。 \nクーポン併用で最大30%オフなので、クーポン取得を忘れずに。 \nーーーーーーーーーーーーーーーーーーーーーーー\n【キャンペーン名】\n楽天トラベル最高級宿スペシャルオファーで最大30%オフ\n【キャンペーン期間】\n2025年9月19日～9月26日9時59分\nーーーーーーーーーーーーーーーーーーーーーーー
URL:https://tabi-mile.com/campaign_calendar/rakuten-travel-offer-202509/
CATEGORIES:旅行会社
ATTACH;FMTTYPE=image/jpeg:https://tabi-mile.com/wp-content/uploads/2025/09/95e8ef7a0422887eb8ddb3fb04303747.jpg
END:VEVENT
BEGIN:VEVENT
DTSTART;VALUE=DATE:20260302
DTEND;VALUE=DATE:20260324
DTSTAMP:20260421T213515
CREATED:20260309T001532Z
LAST-MODIFIED:20260309T001532Z
UID:70553-1772409600-1774310399@tabi-mile.com
SUMMARY:楽天トラベル 海外旅行ポイント＋10％キャンペーン
DESCRIPTION:楽天トラベルで2026年5月末までの海外対象ホテルの宿泊料金が+10%になり、ポイント11%に。 \n2026年3月20日までなら、楽天トラベルスーパーセールも開催中なので、要チェック。 \nーーーーーーーーーーーーーーーーーーーーーーー\n【キャンペーン名】\n楽天トラベル 海外旅行ポイント＋10％キャンペーン\n【キャンペーン期間】\n2026年3月2日（月）10:00～2026年3月23日（月）09:59\n【対象宿泊期間】\n2026年4月1日（水）チェックイン〜2026年5月31日（日）チェックアウト\nーーーーーーーーーーーーーーーーーーーーーーー
URL:https://tabi-mile.com/campaign_calendar/rakuten-traver-hotel-202603/
CATEGORIES:旅行会社
ATTACH;FMTTYPE=image/jpeg:https://tabi-mile.com/wp-content/uploads/2026/03/45d7d575725eef1ecb0d7f466aa768dd.jpg
END:VEVENT
BEGIN:VEVENT
DTSTART;VALUE=DATE:20260304
DTEND;VALUE=DATE:20260321
DTSTAMP:20260421T213515
CREATED:20260306T034901Z
LAST-MODIFIED:20260306T034901Z
UID:70534-1772582400-1774051199@tabi-mile.com
SUMMARY:楽天トラベルスーパーセール
DESCRIPTION:楽天トラベルスーパーセール開催中！ \nホテル・宿は、クーポン+プランで最大20%オフ。 \n楽天モバイルを持っていれば最大24%オフに。 \n航空券とホテルがセットになった、ANA楽パックとJAL楽パックが狙い目。 \n最大3万円オフ。 \nーーーーーーーーーーーーーーーーーーーーーーー\n【キャンペーン名】\n楽天トラベルスーパーセール\n【キャンペーン期間】\n2026年3月4日20時～3月20日\nーーーーーーーーーーーーーーーーーーーーーーー
URL:https://tabi-mile.com/campaign_calendar/rakuten-travel-sale-202603/
CATEGORIES:旅行会社
ATTACH;FMTTYPE=image/jpeg:https://tabi-mile.com/wp-content/uploads/2026/03/cd0f3a601fad6dcf5153aa92fa551ec8.jpg
END:VEVENT
END:VCALENDAR